BEGIN:VCALENDAR
VERSION:2.0
PRODID:-//North Pennines National Landscape - ECPv6.15.11//NONSGML v1.0//EN
CALSCALE:GREGORIAN
METHOD:PUBLISH
X-ORIGINAL-URL:https://northpennines.org.uk
X-WR-CALDESC:Events for North Pennines National Landscape
REFRESH-INTERVAL;VALUE=DURATION:PT1H
X-Robots-Tag:noindex
X-PUBLISHED-TTL:PT1H
BEGIN:VTIMEZONE
TZID:Europe/London
BEGIN:DAYLIGHT
TZOFFSETFROM:+0000
TZOFFSETTO:+0100
TZNAME:BST
DTSTART:20210328T010000
END:DAYLIGHT
BEGIN:STANDARD
TZOFFSETFROM:+0100
TZOFFSETTO:+0000
TZNAME:GMT
DTSTART:20211031T010000
END:STANDARD
BEGIN:DAYLIGHT
TZOFFSETFROM:+0000
TZOFFSETTO:+0100
TZNAME:BST
DTSTART:20220327T010000
END:DAYLIGHT
BEGIN:STANDARD
TZOFFSETFROM:+0100
TZOFFSETTO:+0000
TZNAME:GMT
DTSTART:20221030T010000
END:STANDARD
BEGIN:DAYLIGHT
TZOFFSETFROM:+0000
TZOFFSETTO:+0100
TZNAME:BST
DTSTART:20230326T010000
END:DAYLIGHT
BEGIN:STANDARD
TZOFFSETFROM:+0100
TZOFFSETTO:+0000
TZNAME:GMT
DTSTART:20231029T010000
END:STANDARD
BEGIN:DAYLIGHT
TZOFFSETFROM:+0000
TZOFFSETTO:+0100
TZNAME:BST
DTSTART:20240331T010000
END:DAYLIGHT
BEGIN:STANDARD
TZOFFSETFROM:+0100
TZOFFSETTO:+0000
TZNAME:GMT
DTSTART:20241027T010000
END:STANDARD
END:VTIMEZONE
BEGIN:VEVENT
DTSTART;VALUE=DATE:20221014
DTEND;VALUE=DATE:20230401
DTSTAMP:20260424T170425
CREATED:20221018T095341Z
LAST-MODIFIED:20230105T145042Z
UID:10000362-1665705600-1680307199@northpennines.org.uk
SUMMARY:Precious peatlands
DESCRIPTION:An exhibition of photographs from the North Pennines AONB Partnership’s peatland programme\n14 October 2022 to 31 March 2023 \nThe North Pennines AONB Partnership’s peatland programme has been established for over 16 years and has restored an area of damaged peatland three times the size of the city of Newcastle. This exhibition illustrates the process of restoration\, and the nature and changing seasons seen by the team as they work. Drone shots give a sense of scale and at the other end of the spectrum\, close up images show the intricacies of plants like Sphagnum that make up the rich and biodiverse peatland. The North Pennines has the largest area of contiguous blanket bog in the country and the team works to restore the damage to help mitigate against climate change and flood risk. Healthy peatlands are vital\, and absorb carbon from the atmosphere\, filter water\, sustain wildlife and give the high landscapes of the North Pennines its distinctive appearance. Photographs are by the North Pennines AONB Partnership\, and by Teesdale photographer Martin Rogers. \n 
URL:https://northpennines.org.uk/event/precious-peatlands/
LOCATION:Bowlees Visitor Centre\, Newbiggin\, DL12 0XF
CATEGORIES:Bowlees Visitor Centre events,Exhibition,Family-friendly
ATTACH;FMTTYPE=image/jpeg:https://northpennines.org.uk/wp-content/uploads/2022/10/06-Habitat.jpg
ORGANIZER;CN="North Pennines National Landscape":MAILTO:communications@northpennines.org.uk
END:VEVENT
BEGIN:VEVENT
DTSTART;TZID=Europe/London:20230304T100000
DTEND;TZID=Europe/London:20230304T140000
DTSTAMP:20260424T170425
CREATED:20230222T145211Z
LAST-MODIFIED:20230227T122816Z
UID:10000394-1677924000-1677938400@northpennines.org.uk
SUMMARY:Fellfoot Forward Stars in the tarn launch 4 March
DESCRIPTION:Join us for the launch event of the ‘Stars in the tarn’ project where you can meet the team of designers\, makers\, and crafts people\, discuss the design of the stargazing pavilion\, and find out about your opportunities to get involved. \nDark skies are a key characteristic of the Fellfoot Forward area’s heritage and Carlisle City Council are keen to protect the dark skies at Talkin Tarn in support of wildlife\, dark sky events\, and to gain designation as a Dark Sky Discovery Site. \nWe have commissioned a stargazing pavilion at Talkin Tarn\, which will encourage people to use the site for stargazing and which can also be used during the daytime as a space for reflection. The stargazing pavilion draws upon the history and materials used in traditional round house construction to bring a new place to rest\, reflect and look up. \nThis is a drop-in event at Talkin Tarn education cabin between 10am – 2pm. All are welcome\, no booking required.
URL:https://northpennines.org.uk/event/fff-stars-in-the-tarn-launch/
LOCATION:Talkin Tarn\, Brampton\, Tarn Road\, Brampton\, CA8 1HN
CATEGORIES:Volunteering
ATTACH;FMTTYPE=image/png:https://northpennines.org.uk/wp-content/uploads/2023/02/Stars-in-the-tarn-pavilion.png
ORGANIZER;CN="North Pennines National Landscape":MAILTO:communications@northpennines.org.uk
END:VEVENT
END:VCALENDAR