BEGIN:VCALENDAR
VERSION:2.0
PRODID:-//North Pennines National Landscape - ECPv6.15.11//NONSGML v1.0//EN
CALSCALE:GREGORIAN
METHOD:PUBLISH
X-WR-CALNAME:North Pennines National Landscape
X-ORIGINAL-URL:https://northpennines.org.uk
X-WR-CALDESC:Events for North Pennines National Landscape
REFRESH-INTERVAL;VALUE=DURATION:PT1H
X-Robots-Tag:noindex
X-PUBLISHED-TTL:PT1H
BEGIN:VTIMEZONE
TZID:Europe/London
BEGIN:DAYLIGHT
TZOFFSETFROM:+0000
TZOFFSETTO:+0100
TZNAME:BST
DTSTART:20220327T010000
END:DAYLIGHT
BEGIN:STANDARD
TZOFFSETFROM:+0100
TZOFFSETTO:+0000
TZNAME:GMT
DTSTART:20221030T010000
END:STANDARD
BEGIN:DAYLIGHT
TZOFFSETFROM:+0000
TZOFFSETTO:+0100
TZNAME:BST
DTSTART:20230326T010000
END:DAYLIGHT
BEGIN:STANDARD
TZOFFSETFROM:+0100
TZOFFSETTO:+0000
TZNAME:GMT
DTSTART:20231029T010000
END:STANDARD
BEGIN:DAYLIGHT
TZOFFSETFROM:+0000
TZOFFSETTO:+0100
TZNAME:BST
DTSTART:20240331T010000
END:DAYLIGHT
BEGIN:STANDARD
TZOFFSETFROM:+0100
TZOFFSETTO:+0000
TZNAME:GMT
DTSTART:20241027T010000
END:STANDARD
END:VTIMEZONE
BEGIN:VEVENT
DTSTART;TZID=Europe/London:20230501T100000
DTEND;TZID=Europe/London:20230531T170000
DTSTAMP:20260425T035319
CREATED:20230428T191526Z
LAST-MODIFIED:20230428T191526Z
UID:10000213-1682935200-1685552400@northpennines.org.uk
SUMMARY:Art society exhibition
DESCRIPTION:In May the exhibition in the Bowlees Visitor Centre Gallery is a selection of work by members of the Barnard Castle & Teesdale Art Society. The Art Society Summer Exhibition features recent work by about 12 members of the society. Some of the artwork and small cards are for sale. \nBarnard Castle & Teesdale Art Society is a group of enthusiastic amateur artists with varying levels of experience\, meeting on Monday afternoons throughout the year. The group aims to encourage its members in creating art in various mediums\, especially painting and drawing\, with tutored sessions about once a month and mutual assistance at other times. \nThe society meets at Barnard Castle Guide HQ during school terms and for outdoor sketching in various venues (predominantly in Teesdale) in July & August.
URL:https://northpennines.org.uk/event/art-society-exhibition/
LOCATION:Bowlees Visitor Centre\, Newbiggin\, DL12 0XF
CATEGORIES:Bowlees Visitor Centre events,Exhibition
ATTACH;FMTTYPE=image/jpeg:https://northpennines.org.uk/wp-content/uploads/2023/04/2.-BOWLEES-CURVE-Bowlees-Exhibition-May-EV.jpg
ORGANIZER;CN="North Pennines National Landscape":MAILTO:communications@northpennines.org.uk
END:VEVENT
BEGIN:VEVENT
DTSTART;TZID=Europe/London:20230510T080000
DTEND;TZID=Europe/London:20230604T170000
DTSTAMP:20260425T035319
CREATED:20230507T120332Z
LAST-MODIFIED:20230507T120358Z
UID:10000215-1683705600-1685898000@northpennines.org.uk
SUMMARY:Exhibition: Herdship
DESCRIPTION:An outdoor exhibition celebrating hill farming\, which is on display adjacent to the Langdon Beck Hotel in Upper Teesdale. \nPhotographer Joanne Coates spent a year documenting the farming year in Upper Teesdale as part of the Tees-Swale: naturally connected programme being delivered by the North Pennines AONB Partnership and the Yorkshire Dales National Park Authority. \nFor this unique insight into the working life of hill farmers\, tenant farmers Paul and Jen Johnson welcomed Joanne Coates to their Upper Teesdale farm\, Herdship\, on the Raby Estate. The resulting photographs will be exhibited a short distance down the dale in the field at the Langdon Beck Hotel\, from Wednesday 10 June to Sunday 4 June. Entry is free and there is parking at the hotel. \nTwenty images of life\, work\, and the natural year at Herdship will be on display\, set into the landscape high in the North Pennines Area of Outstanding Natural Beauty. The large format images have been mounted on posts which will be repurposed for tree guards at the end of the exhibition.
URL:https://northpennines.org.uk/event/exhibition-herdship/
LOCATION:Langdon Beck Hotel\, DL12 0XP
ATTACH;FMTTYPE=image/jpeg:https://northpennines.org.uk/wp-content/uploads/2023/05/TeesSwaleWeb-10.jpg
ORGANIZER;CN="North Pennines National Landscape":MAILTO:communications@northpennines.org.uk
END:VEVENT
BEGIN:VEVENT
DTSTART;TZID=Europe/London:20230519T100000
DTEND;TZID=Europe/London:20230521T160000
DTSTAMP:20260425T035319
CREATED:20230316T170116Z
LAST-MODIFIED:20230421T124856Z
UID:10000191-1684490400-1684684800@northpennines.org.uk
SUMMARY:Fellfoot Forward Hazel panel making workshop
DESCRIPTION:We are building a small stargazing pavilion on the south-eastern side of Talkin Tarn as part of the Fellfoot Forward Landscape Partnership Scheme with Pons Aelius\, the designers and makers\, and Carlisle City Council. \nThe pavilion is to be constructed in timber\, echoing ancient ‘roundhouse’ construction\, with hazel panels wrapped around the outside. All the materials used in the construction are to be sourced locally. The stargazing pavilion will be co-constructed with volunteers who will be making the hazel panels that will encase the green wood uprights and seating. \nGreen woodworker\, Shannon Berry\, will lead the hazel panel making workshops. She is passionate about encouraging people into green woodworking and supporting the skills\, heritage and the makers that produce those products which offer a sustainable choice. During the 3-day workshops there will be a progression of knowledge and skills as the hazel panels needed for the build are made. \nYou must be 18 years or over to take part. We anticipate groups of sixteen people on each 3-day workshop. There is a camping area and local accommodation available. We will provide basic packed lunches and a hot meal in the evening. There are facilities for making hot drinks\, a fridge\, toilets\, showers and fire pit on site. All tools and equipment will be provided. We ask you to wear clothing suitable for the work and the weather with sturdy footwear. \nTo apply for the workshop\, please read more and complete the form here.
URL:https://northpennines.org.uk/event/fff-hazel-panel-making-workshop/
LOCATION:Talkin Tarn\, Brampton\, Tarn Road\, Brampton\, CA8 1HN
CATEGORIES:Training,Volunteering
ATTACH;FMTTYPE=image/jpeg:https://northpennines.org.uk/wp-content/uploads/2023/03/entrance-view_amended-e1681729981622.jpg
ORGANIZER;CN="North Pennines National Landscape":MAILTO:communications@northpennines.org.uk
END:VEVENT
END:VCALENDAR