BEGIN:VCALENDAR
VERSION:2.0
PRODID:-//North Pennines National Landscape - ECPv6.15.11//NONSGML v1.0//EN
CALSCALE:GREGORIAN
METHOD:PUBLISH
X-ORIGINAL-URL:https://northpennines.org.uk
X-WR-CALDESC:Events for North Pennines National Landscape
REFRESH-INTERVAL;VALUE=DURATION:PT1H
X-Robots-Tag:noindex
X-PUBLISHED-TTL:PT1H
BEGIN:VTIMEZONE
TZID:Europe/London
BEGIN:DAYLIGHT
TZOFFSETFROM:+0000
TZOFFSETTO:+0100
TZNAME:BST
DTSTART:20220327T010000
END:DAYLIGHT
BEGIN:STANDARD
TZOFFSETFROM:+0100
TZOFFSETTO:+0000
TZNAME:GMT
DTSTART:20221030T010000
END:STANDARD
BEGIN:DAYLIGHT
TZOFFSETFROM:+0000
TZOFFSETTO:+0100
TZNAME:BST
DTSTART:20230326T010000
END:DAYLIGHT
BEGIN:STANDARD
TZOFFSETFROM:+0100
TZOFFSETTO:+0000
TZNAME:GMT
DTSTART:20231029T010000
END:STANDARD
BEGIN:DAYLIGHT
TZOFFSETFROM:+0000
TZOFFSETTO:+0100
TZNAME:BST
DTSTART:20240331T010000
END:DAYLIGHT
BEGIN:STANDARD
TZOFFSETFROM:+0100
TZOFFSETTO:+0000
TZNAME:GMT
DTSTART:20241027T010000
END:STANDARD
END:VTIMEZONE
BEGIN:VEVENT
DTSTART;TZID=Europe/London:20231011T100000
DTEND;TZID=Europe/London:20231011T130000
DTSTAMP:20260424T194814
CREATED:20230904T124740Z
LAST-MODIFIED:20230904T124740Z
UID:10000464-1697018400-1697029200@northpennines.org.uk
SUMMARY:Pennine Way gate repair
DESCRIPTION:A volunteer opportunity to help replace a rotten gate post on a kissing gate near Slaggyford\, Northumberland 11 October 10am to 1pm. Due to the physical nature of the work\, a reasonable level of fitness will be required and is suitable for 16+. Under 18’s need to be supervised by an adult. \nPlease bring warm waterproof clothing. All PPE (personal protective equipment) will be provided\, including safety glasses\, gloves and steel toe cap boots if you need to borrow some. The activity shouldn’t take us past lunchtime\, however you are welcome to stay afterwards for a cup of tea. For more information please contact Jack Ravenscroft: mob 07901326274 email jack@northpenninesaonb.org.uk. \nPlease sign up using the Better Impact volunteer system.  \n  \n \n  \n  \n  \n  \n 
URL:https://northpennines.org.uk/event/pennine-way-gate-repair/
LOCATION:Slaggyford
CATEGORIES:Volunteering
ATTACH;FMTTYPE=image/jpeg:https://northpennines.org.uk/wp-content/uploads/2023/04/circular-walk-sign-waymarker-moss-gatepost-Bowlees.jpg
ORGANIZER;CN="North Pennines National Landscape":MAILTO:communications@northpennines.org.uk
END:VEVENT
BEGIN:VEVENT
DTSTART;TZID=Europe/London:20231011T100000
DTEND;TZID=Europe/London:20231011T130000
DTSTAMP:20260424T194814
CREATED:20230907T114737Z
LAST-MODIFIED:20230914T152503Z
UID:10000478-1697018400-1697029200@northpennines.org.uk
SUMMARY:Tree seed collecting
DESCRIPTION:Join us for a session of collecting Alder seeds 11 October 10am to 1pm from an important woodland site in Teesdale. Seeds will be sown and grown on at the Bowlees Tree & Wildflower Nursery before planted out into sites in Teesdale. Final details will be sent out at least 48 hours prior to the session. All ages welcome\, children must be supervised by adult. \nOutdoor clothing should be worn and please bring waterproofs and wear sturdy shoes. \nFor more information contact Patrick: patrick@northpenninesaonb.org.uk. \nPlease sign up using the Better Impact volunteer system. \n  \n \n  \nDelivered as part of the Tees-Swale: Naturally Connected programme. Tees-Swale is funded by The National Lottery Heritage Fund and led by the North Pennines AONB Partnership in collaboration with the Yorkshire Dales National Park. \n 
URL:https://northpennines.org.uk/event/tree-seed-collecting-6/
LOCATION:Teesdale
CATEGORIES:Volunteering
ATTACH;FMTTYPE=image/jpeg:https://northpennines.org.uk/wp-content/uploads/2023/09/Alder.jpg
ORGANIZER;CN="North Pennines National Landscape":MAILTO:communications@northpennines.org.uk
END:VEVENT
BEGIN:VEVENT
DTSTART;TZID=Europe/London:20231011T100000
DTEND;TZID=Europe/London:20231011T160000
DTSTAMP:20260424T194814
CREATED:20230614T145555Z
LAST-MODIFIED:20230711T142226Z
UID:10000445-1697018400-1697040000@northpennines.org.uk
SUMMARY:Fellfoot Forward - Uncovering the Past Design Sprint
DESCRIPTION:The Fellfoot Forward Landscape Partnership Scheme’s Uncovering the Past programme is moving into its final phase. Join us and DigVentures for a design sprint workshop that will challenge project volunteers to identify and develop ideas for the future archaeology and local history projects\, using the North West Regional Research Framework. This uses the interests of local people to articulate the importance and need for any future work to be delivered. \nWe will map out the challenge\, work through possible solutions\, and come up with a working project outline together. Our professional team of archaeological project designers will take part\, helping provide realistic costs\, identify risks and potential issues\, and highlight potential fundraising opportunities. The Design Sprint will take place over one intensive day session and result with a project proposal\, including outline costs and a fundraising strategy. \nLunch and refreshments are included. \nThis will particularly suit people who have already participated in Uncovering the Past events and activities. \nBooking  is essential. \nIf you would like to take part in this and other volunteer surveys\, please sign up on our Better Impact platform.
URL:https://northpennines.org.uk/event/fellfoot-forward-uncovering-the-past-design-sprint/
LOCATION:Melmerby Village Hall\, Church Road\, Melmerby\, Cumbria\, CA10 1HE\, United Kingdom
CATEGORIES:Training,Volunteering
ATTACH;FMTTYPE=image/jpeg:https://northpennines.org.uk/wp-content/uploads/2023/04/FF-2022-04-05-Carlatton-cairn-investigation-10.jpg
ORGANIZER;CN="North Pennines National Landscape":MAILTO:communications@northpennines.org.uk
END:VEVENT
END:VCALENDAR