BEGIN:VCALENDAR
VERSION:2.0
PRODID:-//North Pennines National Landscape - ECPv6.15.11//NONSGML v1.0//EN
CALSCALE:GREGORIAN
METHOD:PUBLISH
X-ORIGINAL-URL:https://northpennines.org.uk
X-WR-CALDESC:Events for North Pennines National Landscape
REFRESH-INTERVAL;VALUE=DURATION:PT1H
X-Robots-Tag:noindex
X-PUBLISHED-TTL:PT1H
BEGIN:VTIMEZONE
TZID:Europe/London
BEGIN:DAYLIGHT
TZOFFSETFROM:+0000
TZOFFSETTO:+0100
TZNAME:BST
DTSTART:20220327T010000
END:DAYLIGHT
BEGIN:STANDARD
TZOFFSETFROM:+0100
TZOFFSETTO:+0000
TZNAME:GMT
DTSTART:20221030T010000
END:STANDARD
BEGIN:DAYLIGHT
TZOFFSETFROM:+0000
TZOFFSETTO:+0100
TZNAME:BST
DTSTART:20230326T010000
END:DAYLIGHT
BEGIN:STANDARD
TZOFFSETFROM:+0100
TZOFFSETTO:+0000
TZNAME:GMT
DTSTART:20231029T010000
END:STANDARD
BEGIN:DAYLIGHT
TZOFFSETFROM:+0000
TZOFFSETTO:+0100
TZNAME:BST
DTSTART:20240331T010000
END:DAYLIGHT
BEGIN:STANDARD
TZOFFSETFROM:+0100
TZOFFSETTO:+0000
TZNAME:GMT
DTSTART:20241027T010000
END:STANDARD
END:VTIMEZONE
BEGIN:VEVENT
DTSTART;TZID=Europe/London:20231017T100000
DTEND;TZID=Europe/London:20231017T153000
DTSTAMP:20260424T194816
CREATED:20230907T131256Z
LAST-MODIFIED:20230907T131256Z
UID:10000479-1697536800-1697556600@northpennines.org.uk
SUMMARY:Wildflower seed sowing
DESCRIPTION:Join us at Mickleton Village Hall on 17 October 10am to 3:30pm for a session of sorting and sowing wildflower seeds. We will be sowing seeds from plants such as Globeflower that have been collected from existing populations in Teesdale. Once grown these plants will be used to enhance upland hay meadows in Teesdale. All training and equipment will be provided. \nTea\, coffee and light refreshments will be provided but please bring your own lunch. All ages welcome\, children must be supervised by adult. If you have any queries please contact Patrick: patrick@northpenninesaonb.org.uk. \nPlease sign up using the Better Impact volunteer system. \n      \nDelivered as part of the Tees-Swale: naturally connected programme. Tees-Swale is funded by the National Lottery Heritage Fund and led by the North Pennines AONB Partnership in collaboration with the Yorkshire Dales National Park. \n 
URL:https://northpennines.org.uk/event/wildflower-seed-sowing-2/
LOCATION:Mickleton Village Hall\, DL12 0JY
CATEGORIES:Volunteering
ATTACH;FMTTYPE=image/jpeg:https://northpennines.org.uk/wp-content/uploads/2019/09/Globeflowers-c-Ruth-Starr-Keddle-4.jpg
ORGANIZER;CN="North Pennines National Landscape":MAILTO:communications@northpennines.org.uk
END:VEVENT
END:VCALENDAR