BEGIN:VCALENDAR
VERSION:2.0
PRODID:-//North Pennines National Landscape - ECPv6.15.11//NONSGML v1.0//EN
CALSCALE:GREGORIAN
METHOD:PUBLISH
X-WR-CALNAME:North Pennines National Landscape
X-ORIGINAL-URL:https://northpennines.org.uk
X-WR-CALDESC:Events for North Pennines National Landscape
REFRESH-INTERVAL;VALUE=DURATION:PT1H
X-Robots-Tag:noindex
X-PUBLISHED-TTL:PT1H
BEGIN:VTIMEZONE
TZID:Europe/London
BEGIN:DAYLIGHT
TZOFFSETFROM:+0000
TZOFFSETTO:+0100
TZNAME:BST
DTSTART:20220327T010000
END:DAYLIGHT
BEGIN:STANDARD
TZOFFSETFROM:+0100
TZOFFSETTO:+0000
TZNAME:GMT
DTSTART:20221030T010000
END:STANDARD
BEGIN:DAYLIGHT
TZOFFSETFROM:+0000
TZOFFSETTO:+0100
TZNAME:BST
DTSTART:20230326T010000
END:DAYLIGHT
BEGIN:STANDARD
TZOFFSETFROM:+0100
TZOFFSETTO:+0000
TZNAME:GMT
DTSTART:20231029T010000
END:STANDARD
BEGIN:DAYLIGHT
TZOFFSETFROM:+0000
TZOFFSETTO:+0100
TZNAME:BST
DTSTART:20240331T010000
END:DAYLIGHT
BEGIN:STANDARD
TZOFFSETFROM:+0100
TZOFFSETTO:+0000
TZNAME:GMT
DTSTART:20241027T010000
END:STANDARD
END:VTIMEZONE
BEGIN:VEVENT
DTSTART;TZID=Europe/London:20231020T100000
DTEND;TZID=Europe/London:20231105T160000
DTSTAMP:20260425T050748
CREATED:20230918T120148Z
LAST-MODIFIED:20231003T101402Z
UID:10000491-1697796000-1699200000@northpennines.org.uk
SUMMARY:Creatures of the night trail
DESCRIPTION:Follow the themed trail from the North Pennines AONB Partnership’s Bowlees Visitor Centre in Upper Teesdale to discover the creatures of the night! \nComplete the whole self-guided trail to answer the questions and win an animal-themed prize. Bring warm/waterproof clothing and wear boots/wellies. \nNo need to book in advance – just turn up at the centre and ask for an answer sheet at the desk. \nThis event is part of the North Pennines Stargazing Festival running from 20 October to 5 November 2023 – www.NorthPenninesStarFest.org.uk #NorthPennStarFest23 #NPennDarkSkies
URL:https://northpennines.org.uk/event/creatures-of-the-night-trail/
LOCATION:Bowlees Visitor Centre\, Newbiggin\, DL12 0XF
ATTACH;FMTTYPE=image/jpeg:https://northpennines.org.uk/wp-content/uploads/2023/09/Creatures-of-the-night-trail-c-Martin-Kitching.jpg
ORGANIZER;CN="North Pennines National Landscape":MAILTO:communications@northpennines.org.uk
END:VEVENT
BEGIN:VEVENT
DTSTART;TZID=Europe/London:20231027T190000
DTEND;TZID=Europe/London:20231027T220000
DTSTAMP:20260425T050748
CREATED:20230919T091515Z
LAST-MODIFIED:20230919T145420Z
UID:10000493-1698433200-1698444000@northpennines.org.uk
SUMMARY:Pies and skies
DESCRIPTION:Join astronomer and science educator Andy Gray for an introduction to the night sky – including a look at the planets visible at the moment. Hopefully there will be an opportunity (weather permitting) to view the stars through a telescope. There will also be the chance to see some meteorites up close! \nYour ticket includes hot drinks\, pie\, chips and peas. Places are limited so don’t leave it too late to book. \nThis event is aimed at people with a general interest in the night sky\, including families with children (aimed at ages 7+). Bring warm/waterproof clothes/a torch (red light if you have one). No dogs please – they are a trip hazard around telescopes. \nPre-booking is essential via https://hivenenthead.co.uk/product-category/events/ (General link to all events at The Hive) \nhttps://hivenenthead.co.uk/product/pies-and-skies-adult-ticket/ (direct link to adult tickets) \nhttps://hivenenthead.co.uk/product/pies-and-skies-child-ticket/ (direct link to child tickets) \nHow to find The Hive: https://hivenenthead.co.uk/how-to-find-us/ \nThis event at The Hive is part of the North Pennines Stargazing Festival running from 20 October to 5 November 2023 – www.NorthPenninesStarFest.org.uk #NorthPennStarFest23 #NPennDarkSkies
URL:https://northpennines.org.uk/event/pies-and-skies-2/
LOCATION:The Hive\, Nenthead\, Cumbria\, CA9 3PF
END:VEVENT
BEGIN:VEVENT
DTSTART;TZID=Europe/London:20231027T190000
DTEND;TZID=Europe/London:20231029T100000
DTSTAMP:20260425T050748
CREATED:20230830T153609Z
LAST-MODIFIED:20230919T151743Z
UID:10000458-1698433200-1698573600@northpennines.org.uk
SUMMARY:Star camp
DESCRIPTION:Join the Star camp for an astronomical weekend 27 to 29 October in Teesdale. The camp is perfect for novice astronomers and is great for adults and children (6+ years). Telescopes will be provided\, along with expert guidance and you are welcome to bring your own equipment too\, including cameras (with tripods) and binoculars. \nThere will also be astronomy themed talks\, solar observing and a bottle rocket competition. \nDuring the weekend Saturn will be looking amazing\, along with a super bright Jupiter and a big moon. The views are sure to blow your socks off! \nYou will arrive on the Friday night to a mulled wine reception at 7pm – stargazing will be available (weather permitting) on the Friday and Saturday night with departure on Sunday at 10am. \nBring warm/waterproof clothing and a red light torch (if you have one). \nPitch fees – electric £30 per night; non-electric £25 per night – plus £10 per person per night ‘astronomy charge’ (£8 for under 16s). \nPre-booking essential – direct with Doe Park Caravan Site –www.doepark.co.uk / 01833 650302 / info@doepark.co.uk.  \nDoe Park Caravan Site\, Cotherstone\, Barnard Castle\, Teesdale\, Co. Durham DL12 9UQ. See http://www.doepark.co.uk/find-us for directions. \nThis event is part of the North Pennines Stargazing Festival running from 20 October to 5 November 2023 – www.NorthPenninesStarFest.org.uk #NorthPennStarFest23 #NPennDarkSkies
URL:https://northpennines.org.uk/event/star-camp-3/
LOCATION:Doe Park Caravan Site\, Cotherstone\, Barnard Castle\, DL12 9UQ\, United Kingdom
CATEGORIES:Family-friendly
ATTACH;FMTTYPE=image/jpeg:https://northpennines.org.uk/wp-content/uploads/2023/08/Star-Camp-1-c-Richard-Darn_LOW-scaled.jpg
END:VEVENT
BEGIN:VEVENT
DTSTART;TZID=Europe/London:20231027T200000
DTEND;TZID=Europe/London:20231027T230000
DTSTAMP:20260425T050748
CREATED:20230905T171421Z
LAST-MODIFIED:20230919T145606Z
UID:10000470-1698436800-1698447600@northpennines.org.uk
SUMMARY:Jupiter and Saturn – the giant planets
DESCRIPTION:Join us on 27 October 8pm to 11pm  as on these dark starry nights\, we are treated to a planetary delight as these 2 celestial heavyweights line up for our telescopes. \nJupiter is the largest planet in our solar system and could swallow ~1300 Earths\, this gas giant planet is a turbulent environment as it spins on its axis once every 9.5 hours – this makes it the fastest rotating object in our solar system. Due to this exceptional rotational period\, Jupiter has a very turbulent surface with high-speed winds whipping its surface up into a visual drama on a cosmic scale. With bands and belts\, transition regions\, and big red spots\, Jupiter has it all\, and Grassholme Observatory has the kit to bring it alive. \nNext is by far most people’s favourite. Saturn with its glorious ring system dazzles the observer with a veritable observing feast! \nGet wrapped up – it can get chilly when we are outside! This is a pet free event\, so please don’t bring any furry friends! \nVisit https://www.grassholmeobservatory.com/book to book and for full terms and conditions. \nAdult: £24/ Concessions: £21/ Adult: 16+/ Concession: 65+\, under 16 years or Blue Badge holder. Pre-booking is essential. \nFor directions visit www.grassholmeobservatory.com/contact/ \nGrassholme Observatory is wheelchair accessible and there are accessible toilets on site. For more information about Grassholme Waterside Park visit https://www.watersideparksuk.com/park/grassholme/ \nThis Grassholme Observatory event is part of the North Pennines Stargazing Festival running from 20 October to 5 November 2023 – www.NorthPenninesStarFest.org.uk #NorthPennStarFest23 #NPennDarkSkies
URL:https://northpennines.org.uk/event/jupiter-and-saturn-the-giant-planets/
LOCATION:Grassholme Observatory\, DL12 0PW
END:VEVENT
END:VCALENDAR