BEGIN:VCALENDAR
VERSION:2.0
PRODID:-//North Pennines National Landscape - ECPv6.15.11//NONSGML v1.0//EN
CALSCALE:GREGORIAN
METHOD:PUBLISH
X-ORIGINAL-URL:https://northpennines.org.uk
X-WR-CALDESC:Events for North Pennines National Landscape
REFRESH-INTERVAL;VALUE=DURATION:PT1H
X-Robots-Tag:noindex
X-PUBLISHED-TTL:PT1H
BEGIN:VTIMEZONE
TZID:Europe/London
BEGIN:DAYLIGHT
TZOFFSETFROM:+0000
TZOFFSETTO:+0100
TZNAME:BST
DTSTART:20220327T010000
END:DAYLIGHT
BEGIN:STANDARD
TZOFFSETFROM:+0100
TZOFFSETTO:+0000
TZNAME:GMT
DTSTART:20221030T010000
END:STANDARD
BEGIN:DAYLIGHT
TZOFFSETFROM:+0000
TZOFFSETTO:+0100
TZNAME:BST
DTSTART:20230326T010000
END:DAYLIGHT
BEGIN:STANDARD
TZOFFSETFROM:+0100
TZOFFSETTO:+0000
TZNAME:GMT
DTSTART:20231029T010000
END:STANDARD
BEGIN:DAYLIGHT
TZOFFSETFROM:+0000
TZOFFSETTO:+0100
TZNAME:BST
DTSTART:20240331T010000
END:DAYLIGHT
BEGIN:STANDARD
TZOFFSETFROM:+0100
TZOFFSETTO:+0000
TZNAME:GMT
DTSTART:20241027T010000
END:STANDARD
END:VTIMEZONE
BEGIN:VEVENT
DTSTART;TZID=Europe/London:20231020T100000
DTEND;TZID=Europe/London:20231105T160000
DTSTAMP:20260425T051312
CREATED:20230918T120148Z
LAST-MODIFIED:20231003T101402Z
UID:10000491-1697796000-1699200000@northpennines.org.uk
SUMMARY:Creatures of the night trail
DESCRIPTION:Follow the themed trail from the North Pennines AONB Partnership’s Bowlees Visitor Centre in Upper Teesdale to discover the creatures of the night! \nComplete the whole self-guided trail to answer the questions and win an animal-themed prize. Bring warm/waterproof clothing and wear boots/wellies. \nNo need to book in advance – just turn up at the centre and ask for an answer sheet at the desk. \nThis event is part of the North Pennines Stargazing Festival running from 20 October to 5 November 2023 – www.NorthPenninesStarFest.org.uk #NorthPennStarFest23 #NPennDarkSkies
URL:https://northpennines.org.uk/event/creatures-of-the-night-trail/
LOCATION:Bowlees Visitor Centre\, Newbiggin\, DL12 0XF
ATTACH;FMTTYPE=image/jpeg:https://northpennines.org.uk/wp-content/uploads/2023/09/Creatures-of-the-night-trail-c-Martin-Kitching.jpg
ORGANIZER;CN="North Pennines National Landscape":MAILTO:communications@northpennines.org.uk
END:VEVENT
BEGIN:VEVENT
DTSTART;TZID=Europe/London:20231101T100000
DTEND;TZID=Europe/London:20231101T153000
DTSTAMP:20260425T051312
CREATED:20230907T134103Z
LAST-MODIFIED:20230907T134103Z
UID:10000480-1698832800-1698852600@northpennines.org.uk
SUMMARY:Wildflower seed sowing
DESCRIPTION:Join us at Stanhope Church Hall 1 November 10am to 3.30pm for a session of sorting and sowing wildflower seeds. We will be sowing seeds from important species such as great burnet that have been collected from existing populations in Teesdale. Once grown these plants will be used to enhance upland hay meadows in Teesdale. All training and equipment will be provided. \nTea\, coffee and light refreshments will be provided but please bring your own lunch. All ages welcome\, children must be supervised by adult. for more information please contact Patrick: patrick@northpenninesaonb.org.uk \nTo sign up please use the Better Impact volunteer system \n  \n     \nDelivered as part of the Tees-Swale: naturally connected programme. Tees-Swale is funded by the National Lottery Heritage Fund and led by the North Pennines AONB Partnership in collaboration with the Yorkshire Dales National Park. \n 
URL:https://northpennines.org.uk/event/wildflower-seed-sowing-3/
LOCATION:Stanhope Village Hall
CATEGORIES:Volunteering
ATTACH;FMTTYPE=image/jpeg:https://northpennines.org.uk/wp-content/uploads/2023/09/Seed-sowing-October-widescreen-22.jpg
ORGANIZER;CN="North Pennines National Landscape":MAILTO:communications@northpennines.org.uk
END:VEVENT
BEGIN:VEVENT
DTSTART;TZID=Europe/London:20231101T100000
DTEND;TZID=Europe/London:20231101T160000
DTSTAMP:20260425T051312
CREATED:20231013T130030Z
LAST-MODIFIED:20231013T130030Z
UID:10000291-1698832800-1698854400@northpennines.org.uk
SUMMARY:Photogrammetry practice day
DESCRIPTION:Come along and practice your photogrammetry skills at historic Allen Mills on 1 November 10am to 4pm. This will be a chance to practice taking the photographs throughout the site\, and run the photos through photogrammetric software. Volunteers are required to have attended the 2-day photogrammetry workshop held in May 2023. \nThis is a chance to practice ahead of a Q&A session with Jon Bedford on 8th November\, allowing you to raise any specific queries you have with him then. You do not need to be available for the whole day\, this will run as a drop-in session and you are welcome to spend as long as you need with us (within the hours available 10am-4pm). \nTo sign up please use the Better Impact volunteer platform. \n  \n        \n 
URL:https://northpennines.org.uk/event/photogrammetry-practice-day/
LOCATION:Allen Mill\, Allendale\, NE47 9EA
CATEGORIES:Volunteering
ATTACH;FMTTYPE=image/jpeg:https://northpennines.org.uk/wp-content/uploads/2023/04/photogrammetry-model-example.jpg
ORGANIZER;CN="North Pennines National Landscape":MAILTO:communications@northpennines.org.uk
END:VEVENT
BEGIN:VEVENT
DTSTART;TZID=Europe/London:20231101T190000
DTEND;TZID=Europe/London:20231101T220000
DTSTAMP:20260425T051312
CREATED:20231009T114233Z
LAST-MODIFIED:20231030T101400Z
UID:10000506-1698865200-1698876000@northpennines.org.uk
SUMMARY:How far is that star?
DESCRIPTION:**Cancelled due to unforeseen circumstances** \nA very short history of very big distances. \nHow long would it take to walk to the Moon? Or travel to another solar system? How long would it be until we noticed\, if the Sun stopped shining? How do we know all of this and is there somebody\, or something\, out there asking the same questions? Join Martin Kitching to explore these questions\, and more that you probably never knew you wanted the answers to. \nAfter the talk you will do some stargazing (sky conditions permitting) in the Observatory. \nGeneral admission: £15 (+ £1.76 fee)\nConcessions: £10 (+ £1.37 fee) Under 18s\, students\, unemployed\, Allen Valley residents\nFamily: £40 (+ £3.71 fee) 2 adults & 2 children (under 16) \nWrap up warm and bring a red light torch (if you have one). Access to the North Pennines Observatory is via an extremely steep access road and there is limited space for parking – please park considerately in the village and walk up\, or call to reserve a parking space. Warm drinks provided. \nNorth Pennines Observatory\, Allenheads Contemporary Arts\, Old School House\, Allenheads\, Hexham\, Northumberland NE47 9HR. Visit https://www.acart.org.uk/observatory-allenheads for details. \nThis event is part of the North Pennines Stargazing Festival running from 20 October to 5 November 2023 – www.NorthPenninesStarFest.org.uk #NorthPennStarFest23 #NPennDarkSkies
URL:https://northpennines.org.uk/event/how-far-is-that-star/
LOCATION:North Pennines Observatory at ACA\, The Old School House\, Allenheads\, Northumberland\, NE47 9HR\, United Kingdom
END:VEVENT
BEGIN:VEVENT
DTSTART;TZID=Europe/London:20231101T200000
DTEND;TZID=Europe/London:20231101T230000
DTSTAMP:20260425T051312
CREATED:20230907T093540Z
LAST-MODIFIED:20230920T131605Z
UID:10000474-1698868800-1698879600@northpennines.org.uk
SUMMARY:Aurora night
DESCRIPTION:The event on 1 November 8pm to 11pm will begin with a welcome from the lead astronomer at Grassholme Observatory\, Gary Fildes. Gary is a very experienced science communicator and astronomer\, and founder of the Kielder Observatory\, where he was Director and CEO for over 11 years. After the welcome Gary will take you on a whistle stop tour of the Universe. Following this\, you will split into groups and\, weather depending\, start observing the sky\, with telescopes and cameras. \nOn certain nights we may even see the Aurora Borealis from Grassholme. It is visible in these skies. But the conditions have to be right for it to be seen and it’s a rare occurrence. Whilst it’s not guaranteed that you will see them – you will leave well equipped on what they are and how to spot them in the future. \nThis is a fun-filled night\, with stunning handouts\, experiments and stargazing with expert tuition from Gary and his team of astronomers. Get wrapped up – it can get chilly when we are outside! This is a pet free event\, so please don’t bring any furry friends! \nPre-booking essential via https://www.grassholmeobservatory.com/book to book and for full terms and conditions. \nAdult: £24/ Concessions: £20/ Adult: 16+/ Concession: 65+\, under 16s or Blue Badge holder. \nFor directions visit www.grassholmeobservatory.com/contact/ \nThis Grassholme Observatory event is part of the North Pennines Stargazing Festival running from 20 October to 5 November 2023 – www.NorthPenninesStarFest.org.uk\n#NorthPennStarFest23 #NPennDarkSkies
URL:https://northpennines.org.uk/event/aurora-night-3/
LOCATION:Grassholme Observatory\, DL12 0PW
END:VEVENT
END:VCALENDAR