BEGIN:VCALENDAR
VERSION:2.0
PRODID:-//North Pennines National Landscape - ECPv6.15.11//NONSGML v1.0//EN
CALSCALE:GREGORIAN
METHOD:PUBLISH
X-ORIGINAL-URL:https://northpennines.org.uk
X-WR-CALDESC:Events for North Pennines National Landscape
REFRESH-INTERVAL;VALUE=DURATION:PT1H
X-Robots-Tag:noindex
X-PUBLISHED-TTL:PT1H
BEGIN:VTIMEZONE
TZID:Europe/London
BEGIN:DAYLIGHT
TZOFFSETFROM:+0000
TZOFFSETTO:+0100
TZNAME:BST
DTSTART:20220327T010000
END:DAYLIGHT
BEGIN:STANDARD
TZOFFSETFROM:+0100
TZOFFSETTO:+0000
TZNAME:GMT
DTSTART:20221030T010000
END:STANDARD
BEGIN:DAYLIGHT
TZOFFSETFROM:+0000
TZOFFSETTO:+0100
TZNAME:BST
DTSTART:20230326T010000
END:DAYLIGHT
BEGIN:STANDARD
TZOFFSETFROM:+0100
TZOFFSETTO:+0000
TZNAME:GMT
DTSTART:20231029T010000
END:STANDARD
BEGIN:DAYLIGHT
TZOFFSETFROM:+0000
TZOFFSETTO:+0100
TZNAME:BST
DTSTART:20240331T010000
END:DAYLIGHT
BEGIN:STANDARD
TZOFFSETFROM:+0100
TZOFFSETTO:+0000
TZNAME:GMT
DTSTART:20241027T010000
END:STANDARD
END:VTIMEZONE
BEGIN:VEVENT
DTSTART;TZID=Europe/London:20231020T100000
DTEND;TZID=Europe/London:20231105T160000
DTSTAMP:20260425T051313
CREATED:20230918T120148Z
LAST-MODIFIED:20231003T101402Z
UID:10000491-1697796000-1699200000@northpennines.org.uk
SUMMARY:Creatures of the night trail
DESCRIPTION:Follow the themed trail from the North Pennines AONB Partnership’s Bowlees Visitor Centre in Upper Teesdale to discover the creatures of the night! \nComplete the whole self-guided trail to answer the questions and win an animal-themed prize. Bring warm/waterproof clothing and wear boots/wellies. \nNo need to book in advance – just turn up at the centre and ask for an answer sheet at the desk. \nThis event is part of the North Pennines Stargazing Festival running from 20 October to 5 November 2023 – www.NorthPenninesStarFest.org.uk #NorthPennStarFest23 #NPennDarkSkies
URL:https://northpennines.org.uk/event/creatures-of-the-night-trail/
LOCATION:Bowlees Visitor Centre\, Newbiggin\, DL12 0XF
ATTACH;FMTTYPE=image/jpeg:https://northpennines.org.uk/wp-content/uploads/2023/09/Creatures-of-the-night-trail-c-Martin-Kitching.jpg
ORGANIZER;CN="North Pennines National Landscape":MAILTO:communications@northpennines.org.uk
END:VEVENT
BEGIN:VEVENT
DTSTART;TZID=Europe/London:20231102T190000
DTEND;TZID=Europe/London:20231102T210000
DTSTAMP:20260425T051313
CREATED:20230830T163740Z
LAST-MODIFIED:20231030T104550Z
UID:10000459-1698951600-1698958800@northpennines.org.uk
SUMMARY:Discover the creatures of the night
DESCRIPTION:**Cancelled due to Storm Ciaran forecast** \nJoin us for a leisurely night walk to discover the creatures of the night on 2 November 2023\, 7pm to 9pm. Find out about the types of animals that have a nocturnal life and how they are adapted to be out at night. \nThe event starting from Bowlees Visitor Centre includes a walk of about a km over rough ground and is aimed at families and children aged six to sixteen. All children must be supervised by an adult. \nPlease bring warm\, waterproof clothing and wear appropriate footwear for the terrain. You will need a torch too (ideally with a red light). \nPre-booking is essential via the Ticketsource link. \n\n\n\n                \n                \n\n\n  \nThis event is part of the North Pennines Stargazing Festival running from 20 October to 5 November 2023 – www.NorthPenninesStarFest.org.uk #NorthPennStarFest23 #NPennDarkSkies
URL:https://northpennines.org.uk/event/discover-the-creatures-of-the-night-2/
LOCATION:Bowlees Visitor Centre\, Newbiggin\, DL12 0XF
CATEGORIES:Family-friendly,Walking
ATTACH;FMTTYPE=image/jpeg:https://northpennines.org.uk/wp-content/uploads/2023/08/Discover-the-creatures-of-the-night-1-c-NPAP-Shane-Harris_Low-Res.jpg
ORGANIZER;CN="North Pennines National Landscape":MAILTO:communications@northpennines.org.uk
END:VEVENT
BEGIN:VEVENT
DTSTART;TZID=Europe/London:20231102T190000
DTEND;TZID=Europe/London:20231102T220000
DTSTAMP:20260425T051313
CREATED:20231009T130640Z
LAST-MODIFIED:20231030T101759Z
UID:10000507-1698951600-1698962400@northpennines.org.uk
SUMMARY:Drawing the Moon
DESCRIPTION:**Cancelled due to unforeseen circumstances** \nAn evening of fascinating facts\, observation and drawing of the Moon\, led by Allenheads Contemporary Art’s artist director\, Alan Smith. \nImagine you are back in 1609 with Italian Astonomer Galileo Galilei\, using his newly adapted telescope to study the phases of the Moon\, the most detailed imagery anyone had ever seen of this celestial body\, with a device as powerful as readily available binoculars today. \nGalileo drew the Moon as he saw it and so will you\, using your naked eye\, binoculars and a range of our telescopes to view the Moon through different magnifications. \nPens\, pencils and paper will be available but bring any favourite personal materials to explore different techniques to make your own images of the Moon. Aimed at adults and over 12s. \nGeneral admission: £15 (+ £1.76 fee)\nConcessions: £10 (+ £1.37 fee) Under 18s\, students\, unemployed\, Allen Valley residents\nFamily: £40 (+ £3.71 fee) 2 adults & 2 children (under 16) \nHopefully\, the weather will allow us to use equipment outdoors\, so dress up warm. If not\, we will be prepared for indoor activities. \nIf you have them\, bring a red torch and any binoculars\, telescopes and art materials of your own. \nAccess to the North Pennines Observatory is via an extremely steep access road and there is limited space for parking – please park considerately in the village and walk up\, or call to reserve a parking space. Warm drinks provided. \nNorth Pennines Observatory\, Allenheads Contemporary Arts\, Old School House\, Allenheads\, Hexham\, Northumberland NE47 9HR. Visit https://www.acart.org.uk/observatory-allenheads for details. \nThis North Pennines Observatory event is part of the North Pennines Stargazing Festival running from 20 October to 5 November 2023 – www.NorthPenninesStarFest.org.uk #NorthPennStarFest23 #NPennDarkSkies
URL:https://northpennines.org.uk/event/drawing-the-moon/
LOCATION:North Pennines Observatory at ACA\, The Old School House\, Allenheads\, Northumberland\, NE47 9HR\, United Kingdom
ATTACH;FMTTYPE=image/jpeg:https://northpennines.org.uk/wp-content/uploads/2023/10/Drawing-the-Moon-2.jpg
END:VEVENT
END:VCALENDAR