BEGIN:VCALENDAR
VERSION:2.0
PRODID:-//North Pennines National Landscape - ECPv6.15.11//NONSGML v1.0//EN
CALSCALE:GREGORIAN
METHOD:PUBLISH
X-ORIGINAL-URL:https://northpennines.org.uk
X-WR-CALDESC:Events for North Pennines National Landscape
REFRESH-INTERVAL;VALUE=DURATION:PT1H
X-Robots-Tag:noindex
X-PUBLISHED-TTL:PT1H
BEGIN:VTIMEZONE
TZID:Europe/London
BEGIN:DAYLIGHT
TZOFFSETFROM:+0000
TZOFFSETTO:+0100
TZNAME:BST
DTSTART:20220327T010000
END:DAYLIGHT
BEGIN:STANDARD
TZOFFSETFROM:+0100
TZOFFSETTO:+0000
TZNAME:GMT
DTSTART:20221030T010000
END:STANDARD
BEGIN:DAYLIGHT
TZOFFSETFROM:+0000
TZOFFSETTO:+0100
TZNAME:BST
DTSTART:20230326T010000
END:DAYLIGHT
BEGIN:STANDARD
TZOFFSETFROM:+0100
TZOFFSETTO:+0000
TZNAME:GMT
DTSTART:20231029T010000
END:STANDARD
BEGIN:DAYLIGHT
TZOFFSETFROM:+0000
TZOFFSETTO:+0100
TZNAME:BST
DTSTART:20240331T010000
END:DAYLIGHT
BEGIN:STANDARD
TZOFFSETFROM:+0100
TZOFFSETTO:+0000
TZNAME:GMT
DTSTART:20241027T010000
END:STANDARD
END:VTIMEZONE
BEGIN:VEVENT
DTSTART;TZID=Europe/London:20231020T100000
DTEND;TZID=Europe/London:20231105T160000
DTSTAMP:20260424T120651
CREATED:20230918T120148Z
LAST-MODIFIED:20231003T101402Z
UID:10000491-1697796000-1699200000@northpennines.org.uk
SUMMARY:Creatures of the night trail
DESCRIPTION:Follow the themed trail from the North Pennines AONB Partnership’s Bowlees Visitor Centre in Upper Teesdale to discover the creatures of the night! \nComplete the whole self-guided trail to answer the questions and win an animal-themed prize. Bring warm/waterproof clothing and wear boots/wellies. \nNo need to book in advance – just turn up at the centre and ask for an answer sheet at the desk. \nThis event is part of the North Pennines Stargazing Festival running from 20 October to 5 November 2023 – www.NorthPenninesStarFest.org.uk #NorthPennStarFest23 #NPennDarkSkies
URL:https://northpennines.org.uk/event/creatures-of-the-night-trail/
LOCATION:Bowlees Visitor Centre\, Newbiggin\, DL12 0XF
ATTACH;FMTTYPE=image/jpeg:https://northpennines.org.uk/wp-content/uploads/2023/09/Creatures-of-the-night-trail-c-Martin-Kitching.jpg
ORGANIZER;CN="North Pennines National Landscape":MAILTO:communications@northpennines.org.uk
END:VEVENT
BEGIN:VEVENT
DTSTART;TZID=Europe/London:20231103T110000
DTEND;TZID=Europe/London:20231103T150000
DTSTAMP:20260424T120651
CREATED:20230915T121103Z
LAST-MODIFIED:20231002T092820Z
UID:10000277-1699009200-1699023600@northpennines.org.uk
SUMMARY:The Nest – Skygazing Pavilion: Meet the makers
DESCRIPTION:Join us to commemorate the launch of our new Skygazing Pavilion – ‘The Nest’ at Talkin Tarn Country Park. The Nest is an expertly constructed roundhouse made with local natural materials. It is designed to sit sensitively in the landscape\, inspired by traditional Bronze Age structures that would have been dotted all over this landscape over three thousand years ago. \nThere will be an opportunity to meet The Mast Collective\, the team of makers and crafts people who designed and installed the Pavilion\, enjoy simple hands-on practical activities\, and find out about opportunities in green woodworking and heritage craft. \nAimed at architecture students\, woodworkers\, individuals and groups interested in working with natural materials\, arts\, design and built heritage. \nNo booking is required – just drop in on the hour between 11am and 3pm. \nBring warm/waterproof clothing. \nTalkin Tarn Country Park\, Tarn Road\, Brampton\, Cumbria CA8 1HN. See https://www.carlisle.gov.uk/talkintarn/Find-Us for directions. \nThe Nest – Skygazing Pavilion location https://what3words.com/scoping.amid.contracts \nThis event is one of three\, celebrating the launch of The Nest at Talkin Tarn Country Park\, on 3 November. The other two events are: Storytelling at The Nest – Skygazing Pavilion; and Talkin Tarn Skywatch. \nThis event is part of the North Pennines Stargazing Festival running from 20 October to 5 November 2023 – www.NorthPenninesStarFest.org.uk #NorthPennStarFest23 #NPennDarkSkies \nFunded through the Fellfoot Forward Landscape Partnership Scheme\, led by the North Pennines AONB Partnership and funded by The National Lottery Heritage Fund.
URL:https://northpennines.org.uk/event/the-nest-skygazing-pavilion-meet-the-makers/
LOCATION:Talkin Tarn\, Brampton\, Tarn Road\, Brampton\, CA8 1HN
ATTACH;FMTTYPE=image/jpeg:https://northpennines.org.uk/wp-content/uploads/2023/03/entrance-view_amended-e1681729981622.jpg
ORGANIZER;CN="North Pennines National Landscape":MAILTO:communications@northpennines.org.uk
END:VEVENT
BEGIN:VEVENT
DTSTART;TZID=Europe/London:20231103T173000
DTEND;TZID=Europe/London:20231103T183000
DTSTAMP:20260424T120651
CREATED:20230918T094857Z
LAST-MODIFIED:20230919T152957Z
UID:10000490-1699032600-1699036200@northpennines.org.uk
SUMMARY:Storytelling at The Nest - Skygazing Pavilion
DESCRIPTION:Join us at ‘The Nest’ our new Skygazing Pavilion for a traditional tale celebrating nature and the night sky with the author and storyteller Karen Sawrey. \nThe open topped Skygazing Pavilion seats 12\, with space for 2 wheelchair users. Seating is provided (benches) as part of the Pavilion structure. \nChildren (any age) must be accompanied by an adult\, sorry no dogs. Bring blankets and wrap up warm/bring waterproofs. \nAdvance booking is required but there is no charge. \n\n\n\n                \n                \n\n\nThis event is one of three\, celebrating the launch of the Stargazing Pavilion at Talkin Tarn Country Park\, on 3 November. The other two events are: The Nest – Skygazing Pavilion: Meet the Makers; and Talkin Tarn Skywatch. \nTalkin Tarn Country Park\, Tarn Road\, Brampton\, Cumbria CA8 1HN. See https://www.carlisle.gov.uk/talkintarn/Find-Us for directions. \nThe Nest location https://what3words.com/scoping.amid.contracts \nThis event is part of the North Pennines Stargazing Festival running from 20 October to 5 November 2023 – www.NorthPenninesStarFest.org.uk #NorthPennStarFest23 #NPennDarkSkies \nFunded through the Fellfoot Forward Landscape Partnership Scheme\, led by the North Pennines AONB Partnership and funded by The National Lottery Heritage Fund.
URL:https://northpennines.org.uk/event/storytelling-at-the-nest-skygazing-pavilion/
LOCATION:Talkin Tarn\, Brampton\, Tarn Road\, Brampton\, CA8 1HN
ATTACH;FMTTYPE=image/jpeg:https://northpennines.org.uk/wp-content/uploads/2023/09/Storytelling-at-The-Nest-Skygazing-Pavilion-3-e1695052285451.jpg
ORGANIZER;CN="North Pennines National Landscape":MAILTO:communications@northpennines.org.uk
END:VEVENT
BEGIN:VEVENT
DTSTART;TZID=Europe/London:20231103T183000
DTEND;TZID=Europe/London:20231103T203000
DTSTAMP:20260424T120651
CREATED:20230915T122007Z
LAST-MODIFIED:20230919T153256Z
UID:10000278-1699036200-1699043400@northpennines.org.uk
SUMMARY:Stargazing experience at High Force waterfall
DESCRIPTION:**Note that there is another session on this date: 7.45 to 9.45pm. If when you visit the Star Safari booking website you can’t see one of these time slots that means they are fully booked and have been hidden from view.** \nEnjoy a night under the stars\, at a very special place. High Force is the largest waterfall in the country\, and is an awesome spectacle at any time of the day. At night\, though\, it is a special place you will remember for the rest of your life. \nPre-booking essential via https://www.starsafaris.com/highforce \nThe Star Safaris team will meet at the High Force Hotel\, for an indoor briefing and presentation\, before walking down to the waterfall together. On the way\, you will learn about the unique landscape and what makes it so special as a dark sky site. The skies above the waterfall are among the darkest in Europe\, and the surrounding cliffs ensure a truly dark experience. Your guide will light the waterfall up\, so you will be able to take selfies and other photographs with your phone. \nIf the sky is clear\, we will go dark as quickly as possible and start looking at the night sky. This will be done as a group experience\, by a guide\, with a laser pointer. Unlike observatory events\, you won’t spend your time queueing for a telescope. When conditions are especially clear\, we may use astronomy binoculars. \nYou will leave the event with a greater knowledge of the night sky\, and how to find key objects and constellations on your own. More than that\, though\, you will have spent some time in the dark at a spectacular natural location\, which is normally only accessible in daylight. \nUnfortunately\, because of limited space at the location\, do not bring camera tripods\, or dogs. Bring warm/waterproof clothes/a torch (red light if you have one). \nNo minimum age – involves a 1.2km (round trip) walk on a gravel path. \nThis event run by Star Safaris is part of the North Pennines Stargazing Festival running from 20 October to 5 November 2023 – www.NorthPenninesStarFest.org.uk #NorthPennStarFest23 #NPennDarkSkies
URL:https://northpennines.org.uk/event/stargazing-experience-at-high-force-waterfall-4/
LOCATION:High Force Hotel\, The High Force Hotel\, Alston Rd\, Forest-in-Teesdale\, DL12 0XH
ATTACH;FMTTYPE=image/jpeg:https://northpennines.org.uk/wp-content/uploads/2020/10/High-Force-2020-Final-Edit_LOWER-e1758630910500.jpg
END:VEVENT
BEGIN:VEVENT
DTSTART;TZID=Europe/London:20231103T190000
DTEND;TZID=Europe/London:20231103T213000
DTSTAMP:20260424T120651
CREATED:20230915T154432Z
LAST-MODIFIED:20231016T145113Z
UID:10000489-1699038000-1699047000@northpennines.org.uk
SUMMARY:Talkin Tarn Skywatch
DESCRIPTION:FULLY BOOKED… FULLY BOOKED… FULLY BOOKED… FULLY BOOKED… \nEnjoy some of the darkest skies in the North Pennines\, with experienced astronomers from the Border Astronomical Society on hand to guide you around the night sky\, using telescopes and binoculars. \nPresentations\, displays\, information and refreshments will be available. Wrap up warm and bring along a telescope or binoculars and a red-light torch\, if you have them. Suitable for ages 10+. No dogs please – they’re a trip hazard in the dark. \nAdvance booking is essential. \n\n\n\n                \n                \n\n\nAdults: £15\, Concessions: £10 (under 18s\, over 65+)\, Families: £35 \nThis event is one of three\, celebrating the launch of the Skygazing Pavilion at Talkin Tarn Country Park\, on 3 November. The other two events are: The Nest – Skygazing Pavilion: Meet the Makers; and Storytelling at The Nest – Skygazing Pavilion. \nEvent location: Talkin Tarn Country Park\, Tarn Road\, Brampton\, Cumbria CA8 1HN. See https://www.carlisle.gov.uk/talkintarn/Find-Us for directions. \nThis event is part of the North Pennines Stargazing Festival running from 20 October to 5 November 20223– www.NorthPenninesStarFest.org.uk #NorthPennStarFest23 #NPennDarkSkies \nFunded through the Fellfoot Forward Landscape Partnership Scheme\, led by the North Pennines AONB Partnership and funded by The National Lottery Heritage Fund.
URL:https://northpennines.org.uk/event/talkin-tarn-skywatch-2/
LOCATION:Talkin Tarn\, Brampton\, Tarn Road\, Brampton\, CA8 1HN
ATTACH;FMTTYPE=image/jpeg:https://northpennines.org.uk/wp-content/uploads/2020/10/10_Skywatch-@-Talkin-Tarn-c-Gary-Lintern-Photography_LOW.jpg
ORGANIZER;CN="North Pennines National Landscape":MAILTO:communications@northpennines.org.uk
END:VEVENT
BEGIN:VEVENT
DTSTART;TZID=Europe/London:20231103T190000
DTEND;TZID=Europe/London:20231103T220000
DTSTAMP:20260424T120651
CREATED:20230915T140233Z
LAST-MODIFIED:20231016T144820Z
UID:10000485-1699038000-1699048800@northpennines.org.uk
SUMMARY:Stargazing in the Crewe Gardens
DESCRIPTION:FULLY BOOKED… FULLY BOOKED… FULLY BOOKED… FULLY BOOKED…  \nJoin the Lord Crewe team in The Gatehouse at the Lord Crewe for an evening of stargazing with Andy Gray. \nAndy is an expert in his field and will give a beginners’ guide to the starry sky. If the weather is clear\, expect a trip to the bottom of the garden to have a look through the telescopes. Wrap up in blankets and enjoy a hot drink to keep you warm. A great time to see the Milky Way and the Summer Triangle. The Moon will be rising by the end of the evening (10.30pm) – so a good time top spot deep sky objects will be at the start of the night. \nThe evening includes stargazing with a hot drink\, followed by a two-course supper. Please let them know if you have any special dietary requirements. \nPre-booking essential via https://lordcrewearms.wearegifted.co.uk/stargazing-in-the-crewe-gardens \nThe Gatehouse is a 12th Century building accessed via external stone steps and has steps of various size throughout. Note that dogs are not allowed. \nWant to stay the night? Book your ticket and give the Lord Crewe a call on 01434 677100 to reserve the best available room on their special event rate of £150 Bed & Breakfast for the night. \nThis Lord Crewe Arms event is part of the North Pennines Stargazing Festival running from 20 October to 5 November 2023 – www.NorthPenninesStarFest.org.uk #NorthPennStarFest23 #NPennDarkSkies
URL:https://northpennines.org.uk/event/stargazing-in-the-crewe-gardens/
LOCATION:Lord Crewe Arms\, The Square\, Blanchland\, Northumberland\, DH8 9SP\, United Kingdom
ATTACH;FMTTYPE=image/jpeg:https://northpennines.org.uk/wp-content/uploads/2022/08/Stargazing-with-Andy-Gray_Low-Res-c-Gary-Lintern-Photography-e1695051802141.jpg
END:VEVENT
BEGIN:VEVENT
DTSTART;TZID=Europe/London:20231103T193000
DTEND;TZID=Europe/London:20231103T220000
DTSTAMP:20260424T120651
CREATED:20230915T134628Z
LAST-MODIFIED:20230919T153358Z
UID:10000279-1699039800-1699048800@northpennines.org.uk
SUMMARY:Stargazing suppers at High Force
DESCRIPTION:A magical evening of stargazing and fine dining. Discover the magnificence of the night sky with an exciting stargazing experience at the breath-taking High Force Waterfall in Upper Teesdale. \nThe evening begins with a delicious three course meal at the High Force Hotel. After that\, we will walk down to the waterfall\, where the beautiful scenery will be illuminated for you to take photographs with your phone. \nGaze up at the stars using the astronomy binoculars provided\, admire the web of constellations in the sky and develop a greater understanding of the sky at night. \nTreat someone with a passion for the stars to an evening of discovery and learning\, or enjoy it yourself with your partner\, friends or family members. \nBring warm/waterproof clothes/a torch (red light if you have one). No dogs please – they’re a trip hazard in the dark. \nPre-booking is essential via https://www.raby.co.uk/events/stargazing-suppers-2/ \nThis High Force Hotel & Waterfall event is part of the North Pennines Stargazing Festival running from 20 October to 5 November 2023 – www.NorthPenninesStarFest.org.uk #NorthPennStarFest23 #NPennDarkSkies
URL:https://northpennines.org.uk/event/stargazing-suppers-high-force-2/
LOCATION:High Force Hotel\, The High Force Hotel\, Alston Rd\, Forest-in-Teesdale\, DL12 0XH
ATTACH;FMTTYPE=image/jpeg:https://northpennines.org.uk/wp-content/uploads/2020/10/High-Force-2020-Final-Edit_LOWER-e1758630910500.jpg
END:VEVENT
END:VCALENDAR