BEGIN:VCALENDAR
VERSION:2.0
PRODID:-//North Pennines National Landscape - ECPv6.15.11//NONSGML v1.0//EN
CALSCALE:GREGORIAN
METHOD:PUBLISH
X-WR-CALNAME:North Pennines National Landscape
X-ORIGINAL-URL:https://northpennines.org.uk
X-WR-CALDESC:Events for North Pennines National Landscape
REFRESH-INTERVAL;VALUE=DURATION:PT1H
X-Robots-Tag:noindex
X-PUBLISHED-TTL:PT1H
BEGIN:VTIMEZONE
TZID:Europe/London
BEGIN:DAYLIGHT
TZOFFSETFROM:+0000
TZOFFSETTO:+0100
TZNAME:BST
DTSTART:20240331T010000
END:DAYLIGHT
BEGIN:STANDARD
TZOFFSETFROM:+0100
TZOFFSETTO:+0000
TZNAME:GMT
DTSTART:20241027T010000
END:STANDARD
BEGIN:DAYLIGHT
TZOFFSETFROM:+0000
TZOFFSETTO:+0100
TZNAME:BST
DTSTART:20250330T010000
END:DAYLIGHT
BEGIN:STANDARD
TZOFFSETFROM:+0100
TZOFFSETTO:+0000
TZNAME:GMT
DTSTART:20251026T010000
END:STANDARD
BEGIN:DAYLIGHT
TZOFFSETFROM:+0000
TZOFFSETTO:+0100
TZNAME:BST
DTSTART:20260329T010000
END:DAYLIGHT
BEGIN:STANDARD
TZOFFSETFROM:+0100
TZOFFSETTO:+0000
TZNAME:GMT
DTSTART:20261025T010000
END:STANDARD
END:VTIMEZONE
BEGIN:VEVENT
DTSTART;TZID=Europe/London:20250703T100000
DTEND;TZID=Europe/London:20250831T170000
DTSTAMP:20260425T051449
CREATED:20250711T102844Z
LAST-MODIFIED:20250711T102845Z
UID:10001434-1751536800-1756659600@northpennines.org.uk
SUMMARY:A Trail of Inspiration: The Pennine Way at 60
DESCRIPTION:A travelling exhibition celebrating 60 years of the Pennine Way is making another stop on its journey along the iconic National Trail\, arriving in the North Pennines National Landscape for a two-month residency. \n‘A Trail of Inspiration: the Pennine Way at 60’ features work from artists\, musicians\, videographers\, writers and poets\, all inspired by journeys and experiences along this beloved 268-mile walking route. \nThe exhibition will be on show at the North Pennines National Landscape’s Bowlees Visitor Centre\, in Upper Teesdale from 3 July to 31 August. \nEach of the artists has created their own response to their experiences of walking and enjoying the trail. From talking backpacks and music\, to paintings and weavings\, the exhibition is as rich and varied as a day spent walking along the Pennine Way. As well as the creative work\, there is a canvas which gathers 300 images sent in by members of the public to share and celebrate the Pennine Way. \nPlease note that the exhibition space at Bowlees is accessed via stairs. \n  \nSally Zaranko with her artwork: Walking Weaving and Lines and Lino: tracing the trail
URL:https://northpennines.org.uk/event/a-trail-of-inspiration-the-pennine-way-at-60-2/
LOCATION:Bowlees Visitor Centre\, Newbiggin\, DL12 0XF
CATEGORIES:Art,Bowlees Visitor Centre events
ATTACH;FMTTYPE=image/jpeg:https://northpennines.org.uk/wp-content/uploads/2025/07/IMG_9957-scaled.jpg
ORGANIZER;CN="North Pennines National Landscape":MAILTO:communications@northpennines.org.uk
END:VEVENT
BEGIN:VEVENT
DTSTART;TZID=Europe/London:20250812T100000
DTEND;TZID=Europe/London:20250813T160000
DTSTAMP:20260425T051449
CREATED:20250711T183041Z
LAST-MODIFIED:20250711T210224Z
UID:10001867-1754992800-1755100800@northpennines.org.uk
SUMMARY:Two-day summer holiday animation workshop
DESCRIPTION:Looking for something exciting to do in the summer holidays? Join north east animation artist\, Robin Webb\, for a fun\, free two-day workshop for children on Tuesday 12 and Wednesday 13 August 2025. \nYou’ll explore real mining landscapes on a North Pennines site visit and turn it into your own animated film which will be featured in a special autumn exhibition. You can see an example of the kind of film you might make here. \nYou’ll learn how to make stop-motion animations using easy-to-use tech that you can continue to use at home\, get creative with clay\, cut-outs\, paint\, fabric and more\, and bring stories of lead and silver mining to life through your own short film. \nNo experience needed – just bring your imagination. All materials are provided. You can use your own phone or tablet to collect images if you want to but it’s not required. \nPlease note\, this is a two-day workshop so you need to be available to attend from 10am to 4pm on both days. \nFree\, but booking required as spaces limited. Please use the Ticketsource link below to book.
URL:https://northpennines.org.uk/event/animation-workshop-nenthead/
LOCATION:Nenthead Village Hall\, Nenthead\, Alston\, CA9 3PN
CATEGORIES:Art,Family-friendly,Historic environment event
ATTACH;FMTTYPE=image/png:https://northpennines.org.uk/wp-content/uploads/2025/07/Picture1-e1752259113570.png
ORGANIZER;CN="North Pennines National Landscape":MAILTO:communications@northpennines.org.uk
END:VEVENT
BEGIN:VEVENT
DTSTART;TZID=Europe/London:20250813T103000
DTEND;TZID=Europe/London:20250813T123000
DTSTAMP:20260425T051449
CREATED:20250603T091308Z
LAST-MODIFIED:20250731T100130Z
UID:10001407-1755081000-1755088200@northpennines.org.uk
SUMMARY:Wild Wednesday - den building
DESCRIPTION:Wild Wednesdays are activities suitable for children aged five and over to enjoy and be creative. \nThe exciting challenge for Wednesday 13 August\, 10.30am to 12.30pm\, at Bowlees Visitor Centre is to build yourselves a den amongst the trees using sticks and other materials\, with help and ideas from staff. What will you construct? \nSuitable for children aged 5+. All children must be accompanied by a parent or responsible adult. Please wear sturdy footwear\, and clothing and sun protection suitable for the weather.\n£2 per child (accompanying adults and under 5s free) \nPlease let us know if there is anything we can do to make this event more accessible and enjoyable for your family\, such as sensory needs. \nPlease use the Ticketsource link to book \n\n\n\n                \n                \n\n\n  \n \n 
URL:https://northpennines.org.uk/event/wild-wednesday-den-building-2/
LOCATION:Bowlees Visitor Centre\, Newbiggin\, DL12 0XF
CATEGORIES:Bowlees Visitor Centre events,Family-friendly
ATTACH;FMTTYPE=image/jpeg:https://northpennines.org.uk/wp-content/uploads/2024/05/Dens-at-Hamsterley-small.jpg
END:VEVENT
END:VCALENDAR