BEGIN:VCALENDAR
VERSION:2.0
PRODID:-//North Pennines National Landscape - ECPv6.15.11//NONSGML v1.0//EN
CALSCALE:GREGORIAN
METHOD:PUBLISH
X-ORIGINAL-URL:https://northpennines.org.uk
X-WR-CALDESC:Events for North Pennines National Landscape
REFRESH-INTERVAL;VALUE=DURATION:PT1H
X-Robots-Tag:noindex
X-PUBLISHED-TTL:PT1H
BEGIN:VTIMEZONE
TZID:Europe/London
BEGIN:DAYLIGHT
TZOFFSETFROM:+0000
TZOFFSETTO:+0100
TZNAME:BST
DTSTART:20240331T010000
END:DAYLIGHT
BEGIN:STANDARD
TZOFFSETFROM:+0100
TZOFFSETTO:+0000
TZNAME:GMT
DTSTART:20241027T010000
END:STANDARD
BEGIN:DAYLIGHT
TZOFFSETFROM:+0000
TZOFFSETTO:+0100
TZNAME:BST
DTSTART:20250330T010000
END:DAYLIGHT
BEGIN:STANDARD
TZOFFSETFROM:+0100
TZOFFSETTO:+0000
TZNAME:GMT
DTSTART:20251026T010000
END:STANDARD
BEGIN:DAYLIGHT
TZOFFSETFROM:+0000
TZOFFSETTO:+0100
TZNAME:BST
DTSTART:20260329T010000
END:DAYLIGHT
BEGIN:STANDARD
TZOFFSETFROM:+0100
TZOFFSETTO:+0000
TZNAME:GMT
DTSTART:20261025T010000
END:STANDARD
END:VTIMEZONE
BEGIN:VEVENT
DTSTART;TZID=Europe/London:20250703T100000
DTEND;TZID=Europe/London:20250831T170000
DTSTAMP:20260424T170410
CREATED:20250711T102844Z
LAST-MODIFIED:20250711T102845Z
UID:10001434-1751536800-1756659600@northpennines.org.uk
SUMMARY:A Trail of Inspiration: The Pennine Way at 60
DESCRIPTION:A travelling exhibition celebrating 60 years of the Pennine Way is making another stop on its journey along the iconic National Trail\, arriving in the North Pennines National Landscape for a two-month residency. \n‘A Trail of Inspiration: the Pennine Way at 60’ features work from artists\, musicians\, videographers\, writers and poets\, all inspired by journeys and experiences along this beloved 268-mile walking route. \nThe exhibition will be on show at the North Pennines National Landscape’s Bowlees Visitor Centre\, in Upper Teesdale from 3 July to 31 August. \nEach of the artists has created their own response to their experiences of walking and enjoying the trail. From talking backpacks and music\, to paintings and weavings\, the exhibition is as rich and varied as a day spent walking along the Pennine Way. As well as the creative work\, there is a canvas which gathers 300 images sent in by members of the public to share and celebrate the Pennine Way. \nPlease note that the exhibition space at Bowlees is accessed via stairs. \n  \nSally Zaranko with her artwork: Walking Weaving and Lines and Lino: tracing the trail
URL:https://northpennines.org.uk/event/a-trail-of-inspiration-the-pennine-way-at-60-2/
LOCATION:Bowlees Visitor Centre\, Newbiggin\, DL12 0XF
CATEGORIES:Art,Bowlees Visitor Centre events
ATTACH;FMTTYPE=image/jpeg:https://northpennines.org.uk/wp-content/uploads/2025/07/IMG_9957-scaled.jpg
ORGANIZER;CN="North Pennines National Landscape":MAILTO:communications@northpennines.org.uk
END:VEVENT
BEGIN:VEVENT
DTSTART;TZID=Europe/London:20250828T093000
DTEND;TZID=Europe/London:20250828T143000
DTSTAMP:20260424T170410
CREATED:20250710T120245Z
LAST-MODIFIED:20250728T143346Z
UID:10001862-1756373400-1756391400@northpennines.org.uk
SUMMARY:Guided walk - people\, place and nature
DESCRIPTION:A guided circular walk in celebration of the Pennine Way’s 60th anniversary starting from The Langdon Beck Hotel. \nThe route begins from one of the remotest hotels in Britain\, Thursday 28 August\, 9.30am to 2.30pm. We will be exploring the farmed landscape and nature reserves of Upper Teesdale. Learn how the historic and current land use of the North Pennines National Landscape have formed what you see\, and the history of people the routes and paths forming the Pennine Way. \nAs the event will be taking place outdoors\, please dress for the weather. We recommend walking boots. Please bring food and drinks. \nAll ages are welcome (children must be accompanied by an adult and must be able to walk or be carried as the paths are not be suitable for pushchairs). Well behaved dogs on a short lead are welcome. \nSuggested donation only £3 per person\, or £10 for family/group of four. Your donation enables the North Pennines National Landscape team to protect and restore this special place and help people connect with nature. \nPlease book using the link to Ticketsource \n\n\n\n                \n                \n\n\nImage credit: Richard Laidler
URL:https://northpennines.org.uk/event/guided-walk-people-place-and-nature/
LOCATION:Langdon Beck
CATEGORIES:Guided walk
ATTACH;FMTTYPE=image/jpeg:https://northpennines.org.uk/wp-content/uploads/2021/01/Towards-Cronkley-Fell-from-Holwick-Fell.jpg
ORGANIZER;CN="North Pennines National Landscape":MAILTO:communications@northpennines.org.uk
END:VEVENT
END:VCALENDAR