BEGIN:VCALENDAR
VERSION:2.0
PRODID:-//North Pennines National Landscape - ECPv6.15.11//NONSGML v1.0//EN
CALSCALE:GREGORIAN
METHOD:PUBLISH
X-WR-CALNAME:North Pennines National Landscape
X-ORIGINAL-URL:https://northpennines.org.uk
X-WR-CALDESC:Events for North Pennines National Landscape
REFRESH-INTERVAL;VALUE=DURATION:PT1H
X-Robots-Tag:noindex
X-PUBLISHED-TTL:PT1H
BEGIN:VTIMEZONE
TZID:Europe/London
BEGIN:DAYLIGHT
TZOFFSETFROM:+0000
TZOFFSETTO:+0100
TZNAME:BST
DTSTART:20240331T010000
END:DAYLIGHT
BEGIN:STANDARD
TZOFFSETFROM:+0100
TZOFFSETTO:+0000
TZNAME:GMT
DTSTART:20241027T010000
END:STANDARD
BEGIN:DAYLIGHT
TZOFFSETFROM:+0000
TZOFFSETTO:+0100
TZNAME:BST
DTSTART:20250330T010000
END:DAYLIGHT
BEGIN:STANDARD
TZOFFSETFROM:+0100
TZOFFSETTO:+0000
TZNAME:GMT
DTSTART:20251026T010000
END:STANDARD
BEGIN:DAYLIGHT
TZOFFSETFROM:+0000
TZOFFSETTO:+0100
TZNAME:BST
DTSTART:20260329T010000
END:DAYLIGHT
BEGIN:STANDARD
TZOFFSETFROM:+0100
TZOFFSETTO:+0000
TZNAME:GMT
DTSTART:20261025T010000
END:STANDARD
END:VTIMEZONE
BEGIN:VEVENT
DTSTART;TZID=Europe/London:20250901T100000
DTEND;TZID=Europe/London:20250901T150000
DTSTAMP:20260425T011749
CREATED:20250801T085905Z
LAST-MODIFIED:20250814T093828Z
UID:10001889-1756720800-1756738800@northpennines.org.uk
SUMMARY:Pennine Way maintenance volunteer opportunity
DESCRIPTION:Help to repair a section of stone wall near Cronkley Fell on 1 September\, 10am to 3pm. \nDue to the physical nature of the work\, a reasonable level of fitness will be required and is suitable for 18+. \nThe session may take us past lunchtime\, so please bring a packed lunch/drinks and bring warm waterproof clothing. All PPE (personal protective equipment) will be provided\, including safety glasses\, gloves and steel toe cap boots if you need to borrow some. \nPlease sign up using the volunteer site Better Impact
URL:https://northpennines.org.uk/event/pennine-way-maintenance-volunteer-opportunity/
LOCATION:Cronkley Farm
CATEGORIES:Volunteering
ATTACH;FMTTYPE=image/jpeg:https://northpennines.org.uk/wp-content/uploads/2025/08/Cronkley-gate-replacement.jpg
ORGANIZER;CN="North Pennines National Landscape":MAILTO:communications@northpennines.org.uk
END:VEVENT
END:VCALENDAR