BEGIN:VCALENDAR
VERSION:2.0
PRODID:-//North Pennines National Landscape - ECPv6.15.11//NONSGML v1.0//EN
CALSCALE:GREGORIAN
METHOD:PUBLISH
X-WR-CALNAME:North Pennines National Landscape
X-ORIGINAL-URL:https://northpennines.org.uk
X-WR-CALDESC:Events for North Pennines National Landscape
REFRESH-INTERVAL;VALUE=DURATION:PT1H
X-Robots-Tag:noindex
X-PUBLISHED-TTL:PT1H
BEGIN:VTIMEZONE
TZID:Europe/London
BEGIN:DAYLIGHT
TZOFFSETFROM:+0000
TZOFFSETTO:+0100
TZNAME:BST
DTSTART:20250330T010000
END:DAYLIGHT
BEGIN:STANDARD
TZOFFSETFROM:+0100
TZOFFSETTO:+0000
TZNAME:GMT
DTSTART:20251026T010000
END:STANDARD
BEGIN:DAYLIGHT
TZOFFSETFROM:+0000
TZOFFSETTO:+0100
TZNAME:BST
DTSTART:20260329T010000
END:DAYLIGHT
BEGIN:STANDARD
TZOFFSETFROM:+0100
TZOFFSETTO:+0000
TZNAME:GMT
DTSTART:20261025T010000
END:STANDARD
BEGIN:DAYLIGHT
TZOFFSETFROM:+0000
TZOFFSETTO:+0100
TZNAME:BST
DTSTART:20270328T010000
END:DAYLIGHT
BEGIN:STANDARD
TZOFFSETFROM:+0100
TZOFFSETTO:+0000
TZNAME:GMT
DTSTART:20271031T010000
END:STANDARD
END:VTIMEZONE
BEGIN:VEVENT
DTSTART;TZID=Europe/London:20260514T093000
DTEND;TZID=Europe/London:20260514T160000
DTSTAMP:20260426T015531
CREATED:20260227T141118Z
LAST-MODIFIED:20260423T113106Z
UID:10002242-1778751000-1778774400@northpennines.org.uk
SUMMARY:BeeWalk training with the Bumblebee Conservation Trust  - Teesdale pollinator surveying
DESCRIPTION:We are looking for adult volunteers to take part in BeeWalks.  We are offering a free one-day training course\, for both beginners and those with experience\, to learn about the identification of all 24 British bumblebees. \nThe course takes place on 14 May from 9.30am to 4pm\, at Bowlees Visitor Centre in the morning and along the Pennine Way in the afternoon.  The walks and training follow the Bumblebee Conservation Trust’s (BCT) survey methodology and training will include information on the national BeeWalk scheme. \nEach BeeWalk would be approximately 1 to 2 km long\, encompassing a variety of habitats including a selection of upland hay meadows\, woodland\, or roadside verges.  The BeeWalks take place from May to September\, bi-weekly\, and can be carried out individually or paired with another volunteer. The aim is to monitor a selection of meadows pre- and post-restoration to see the impacts upon pollinator abundance\, whilst also adding vital data to a countrywide programme run by the BCT. The BeeWalks will be coordinated by a member of the Tees-Swale Farming and Nature Team. \nTraining will be undertaken by Andy Benson\, Skills for BeeWalk project manager at the Bumblebee Conversation Trust. \nPlease contact Harry for more information: harry@northpennines.org.uk.\nPlease sign up using our Better Impact volunteer system  \n 
URL:https://northpennines.org.uk/event/beewalk-training-with-the-bumblebee-conservation-trust-teesdale-pollinator-surveying-copy-copy/
LOCATION:Bowlees Visitor Centre\, Newbiggin\, DL12 0XF
CATEGORIES:Bowlees Visitor Centre events,Volunteering
ATTACH;FMTTYPE=image/jpeg:https://northpennines.org.uk/wp-content/uploads/2023/03/Red-tailed-bumblebee-on-devils-bit-scabious-Ruth-Starr-Keddle-NPAP.jpg
ORGANIZER;CN="North Pennines National Landscape":MAILTO:communications@northpennines.org.uk
END:VEVENT
BEGIN:VEVENT
DTSTART;TZID=Europe/London:20260523T100000
DTEND;TZID=Europe/London:20260523T160000
DTSTAMP:20260426T015531
CREATED:20260424T115726Z
LAST-MODIFIED:20260424T122841Z
UID:10002308-1779530400-1779552000@northpennines.org.uk
SUMMARY:Bird trail at Bowlees - family friendly
DESCRIPTION:Our self-guided trail during North Pennines NatureFest is a family-friendly bird-themed treasure trail. \nCome along with your family and explore the woods around Bowlees Visitor Centre. Follow the trail around the site\, taking you on an exciting journey discovering lots of birds along the way. As you follow the trail you will pick up clues – answer the questions\, return to the Centre and claim your prize. \nPick up your instruction leaflet and answer sheet at the visitor centre – £1 per child. \nAvailable 10am to 4pm from Saturday 23 May to Sunday 7 June inclusive. The Centre closes at 5pm. \nThis event is part of North Pennines NatureFest running from Saturday 23 May to Sunday 7 June 2026. See the full programme at www.NorthPenninesNatureFest.org.uk #NorthPenninesNatureFest26
URL:https://northpennines.org.uk/event/bird-trail-at-bowlees-family-friendly/2026-05-23/
LOCATION:Bowlees Visitor Centre\, Newbiggin\, DL12 0XF
CATEGORIES:Bowlees Visitor Centre events,Family-friendly,Naturefest
ATTACH;FMTTYPE=image/jpeg:https://northpennines.org.uk/wp-content/uploads/2024/04/Guided-family-walk-at-Engine-Lonning.jpg
ORGANIZER;CN="North Pennines National Landscape":MAILTO:communications@northpennines.org.uk
END:VEVENT
BEGIN:VEVENT
DTSTART;TZID=Europe/London:20260524T100000
DTEND;TZID=Europe/London:20260524T160000
DTSTAMP:20260426T015531
CREATED:20260424T115726Z
LAST-MODIFIED:20260424T122841Z
UID:10002309-1779616800-1779638400@northpennines.org.uk
SUMMARY:Bird trail at Bowlees - family friendly
DESCRIPTION:Our self-guided trail during North Pennines NatureFest is a family-friendly bird-themed treasure trail. \nCome along with your family and explore the woods around Bowlees Visitor Centre. Follow the trail around the site\, taking you on an exciting journey discovering lots of birds along the way. As you follow the trail you will pick up clues – answer the questions\, return to the Centre and claim your prize. \nPick up your instruction leaflet and answer sheet at the visitor centre – £1 per child. \nAvailable 10am to 4pm from Saturday 23 May to Sunday 7 June inclusive. The Centre closes at 5pm. \nThis event is part of North Pennines NatureFest running from Saturday 23 May to Sunday 7 June 2026. See the full programme at www.NorthPenninesNatureFest.org.uk #NorthPenninesNatureFest26
URL:https://northpennines.org.uk/event/bird-trail-at-bowlees-family-friendly/2026-05-24/
LOCATION:Bowlees Visitor Centre\, Newbiggin\, DL12 0XF
CATEGORIES:Bowlees Visitor Centre events,Family-friendly,Naturefest
ATTACH;FMTTYPE=image/jpeg:https://northpennines.org.uk/wp-content/uploads/2024/04/Guided-family-walk-at-Engine-Lonning.jpg
ORGANIZER;CN="North Pennines National Landscape":MAILTO:communications@northpennines.org.uk
END:VEVENT
BEGIN:VEVENT
DTSTART;TZID=Europe/London:20260525T100000
DTEND;TZID=Europe/London:20260525T160000
DTSTAMP:20260426T015531
CREATED:20260424T115726Z
LAST-MODIFIED:20260424T122841Z
UID:10002310-1779703200-1779724800@northpennines.org.uk
SUMMARY:Bird trail at Bowlees - family friendly
DESCRIPTION:Our self-guided trail during North Pennines NatureFest is a family-friendly bird-themed treasure trail. \nCome along with your family and explore the woods around Bowlees Visitor Centre. Follow the trail around the site\, taking you on an exciting journey discovering lots of birds along the way. As you follow the trail you will pick up clues – answer the questions\, return to the Centre and claim your prize. \nPick up your instruction leaflet and answer sheet at the visitor centre – £1 per child. \nAvailable 10am to 4pm from Saturday 23 May to Sunday 7 June inclusive. The Centre closes at 5pm. \nThis event is part of North Pennines NatureFest running from Saturday 23 May to Sunday 7 June 2026. See the full programme at www.NorthPenninesNatureFest.org.uk #NorthPenninesNatureFest26
URL:https://northpennines.org.uk/event/bird-trail-at-bowlees-family-friendly/2026-05-25/
LOCATION:Bowlees Visitor Centre\, Newbiggin\, DL12 0XF
CATEGORIES:Bowlees Visitor Centre events,Family-friendly,Naturefest
ATTACH;FMTTYPE=image/jpeg:https://northpennines.org.uk/wp-content/uploads/2024/04/Guided-family-walk-at-Engine-Lonning.jpg
ORGANIZER;CN="North Pennines National Landscape":MAILTO:communications@northpennines.org.uk
END:VEVENT
BEGIN:VEVENT
DTSTART;TZID=Europe/London:20260526T100000
DTEND;TZID=Europe/London:20260526T160000
DTSTAMP:20260426T015531
CREATED:20260424T115726Z
LAST-MODIFIED:20260424T122841Z
UID:10002311-1779789600-1779811200@northpennines.org.uk
SUMMARY:Bird trail at Bowlees - family friendly
DESCRIPTION:Our self-guided trail during North Pennines NatureFest is a family-friendly bird-themed treasure trail. \nCome along with your family and explore the woods around Bowlees Visitor Centre. Follow the trail around the site\, taking you on an exciting journey discovering lots of birds along the way. As you follow the trail you will pick up clues – answer the questions\, return to the Centre and claim your prize. \nPick up your instruction leaflet and answer sheet at the visitor centre – £1 per child. \nAvailable 10am to 4pm from Saturday 23 May to Sunday 7 June inclusive. The Centre closes at 5pm. \nThis event is part of North Pennines NatureFest running from Saturday 23 May to Sunday 7 June 2026. See the full programme at www.NorthPenninesNatureFest.org.uk #NorthPenninesNatureFest26
URL:https://northpennines.org.uk/event/bird-trail-at-bowlees-family-friendly/2026-05-26/
LOCATION:Bowlees Visitor Centre\, Newbiggin\, DL12 0XF
CATEGORIES:Bowlees Visitor Centre events,Family-friendly,Naturefest
ATTACH;FMTTYPE=image/jpeg:https://northpennines.org.uk/wp-content/uploads/2024/04/Guided-family-walk-at-Engine-Lonning.jpg
ORGANIZER;CN="North Pennines National Landscape":MAILTO:communications@northpennines.org.uk
END:VEVENT
BEGIN:VEVENT
DTSTART;TZID=Europe/London:20260527T100000
DTEND;TZID=Europe/London:20260527T160000
DTSTAMP:20260426T015531
CREATED:20260424T115726Z
LAST-MODIFIED:20260424T122841Z
UID:10002312-1779876000-1779897600@northpennines.org.uk
SUMMARY:Bird trail at Bowlees - family friendly
DESCRIPTION:Our self-guided trail during North Pennines NatureFest is a family-friendly bird-themed treasure trail. \nCome along with your family and explore the woods around Bowlees Visitor Centre. Follow the trail around the site\, taking you on an exciting journey discovering lots of birds along the way. As you follow the trail you will pick up clues – answer the questions\, return to the Centre and claim your prize. \nPick up your instruction leaflet and answer sheet at the visitor centre – £1 per child. \nAvailable 10am to 4pm from Saturday 23 May to Sunday 7 June inclusive. The Centre closes at 5pm. \nThis event is part of North Pennines NatureFest running from Saturday 23 May to Sunday 7 June 2026. See the full programme at www.NorthPenninesNatureFest.org.uk #NorthPenninesNatureFest26
URL:https://northpennines.org.uk/event/bird-trail-at-bowlees-family-friendly/2026-05-27/
LOCATION:Bowlees Visitor Centre\, Newbiggin\, DL12 0XF
CATEGORIES:Bowlees Visitor Centre events,Family-friendly,Naturefest
ATTACH;FMTTYPE=image/jpeg:https://northpennines.org.uk/wp-content/uploads/2024/04/Guided-family-walk-at-Engine-Lonning.jpg
ORGANIZER;CN="North Pennines National Landscape":MAILTO:communications@northpennines.org.uk
END:VEVENT
BEGIN:VEVENT
DTSTART;TZID=Europe/London:20260527T103000
DTEND;TZID=Europe/London:20260527T123000
DTSTAMP:20260426T015531
CREATED:20260320T113107Z
LAST-MODIFIED:20260417T104643Z
UID:10002252-1779877800-1779885000@northpennines.org.uk
SUMMARY:Wild Wednesday - on the rocks
DESCRIPTION:Wild Wednesdays are activities suitable for children aged five and over to enjoy and be creative. \nTo celebrate European Geoparks Week in the session on Wednesday 27 May\, 10.30am to 12.30pm\, we will be exploring the types of rocks around Bowlees. Take a walk back in time and make your own discoveries in this hands-on session. \nSuitable for children aged 5+. All children must be accompanied by a parent or responsible adult. Please wear sturdy footwear\, and clothing and sun protection suitable for the weather.\n£2 per child (accompanying adults and under 5s free) \nPlease let us know if there is anything we can do to make this event more accessible and enjoyable for your family\, such as sensory needs. \nPlease use the Ticketsource link to book \n\n\n\n                \n                \n\n\n  \n \nThis event is part of North Pennines NatureFest running from Saturday 23 May to Sunday 7 June 2026. See the full programme at www.NorthPenninesNatureFest.org.uk #NorthPenninesNatureFest26
URL:https://northpennines.org.uk/event/wild-wednesday-den-building-2-copy-copy-2-copy/
LOCATION:Bowlees Visitor Centre\, Newbiggin\, DL12 0XF
CATEGORIES:Bowlees Visitor Centre events,Family-friendly
ATTACH;FMTTYPE=image/jpeg:https://northpennines.org.uk/wp-content/uploads/2026/03/Bowlees-children-geology12-resized-for-ticketsource.jpg
END:VEVENT
BEGIN:VEVENT
DTSTART;TZID=Europe/London:20260527T130000
DTEND;TZID=Europe/London:20260527T160000
DTSTAMP:20260426T015531
CREATED:20260320T113124Z
LAST-MODIFIED:20260422T104210Z
UID:10002253-1779886800-1779897600@northpennines.org.uk
SUMMARY:Drop-in family activity - on the rocks
DESCRIPTION:If you’re visiting Bowlees on a Wednesday in the school holidays but missed the Wild Wednesday session\, take part in our free family friendly drop-in activity on 27 May\, 1pm to 4pm. \nInvestigate the rocks around Bowlees to celebrate European Geoparks Week. Follow the trail to take a walk back in time and see what you can find along the way. \nPlease wear sturdy footwear\, and clothing suitable for the weather and potentially messy activities. \nThis activity is self-led\, but a member of staff will be around to help you out. \nThis event is part of North Pennines NatureFest running from Saturday 23 May to Sunday 7 June 2026. See the full programme at www.NorthPenninesNatureFest.org.uk #NorthPenninesNatureFest26 \n \n 
URL:https://northpennines.org.uk/event/wild-wednesday-den-building-2-copy-copy-copy-copy/
LOCATION:Bowlees Visitor Centre\, Newbiggin\, DL12 0XF
CATEGORIES:Bowlees Visitor Centre events,Family-friendly
ATTACH;FMTTYPE=image/jpeg:https://northpennines.org.uk/wp-content/uploads/2021/06/waterfall-and-rocks-wild-wednesday-scaled-e1774014625751.jpg
END:VEVENT
BEGIN:VEVENT
DTSTART;TZID=Europe/London:20260528T100000
DTEND;TZID=Europe/London:20260528T160000
DTSTAMP:20260426T015531
CREATED:20260424T115726Z
LAST-MODIFIED:20260424T122841Z
UID:10002313-1779962400-1779984000@northpennines.org.uk
SUMMARY:Bird trail at Bowlees - family friendly
DESCRIPTION:Our self-guided trail during North Pennines NatureFest is a family-friendly bird-themed treasure trail. \nCome along with your family and explore the woods around Bowlees Visitor Centre. Follow the trail around the site\, taking you on an exciting journey discovering lots of birds along the way. As you follow the trail you will pick up clues – answer the questions\, return to the Centre and claim your prize. \nPick up your instruction leaflet and answer sheet at the visitor centre – £1 per child. \nAvailable 10am to 4pm from Saturday 23 May to Sunday 7 June inclusive. The Centre closes at 5pm. \nThis event is part of North Pennines NatureFest running from Saturday 23 May to Sunday 7 June 2026. See the full programme at www.NorthPenninesNatureFest.org.uk #NorthPenninesNatureFest26
URL:https://northpennines.org.uk/event/bird-trail-at-bowlees-family-friendly/2026-05-28/
LOCATION:Bowlees Visitor Centre\, Newbiggin\, DL12 0XF
CATEGORIES:Bowlees Visitor Centre events,Family-friendly,Naturefest
ATTACH;FMTTYPE=image/jpeg:https://northpennines.org.uk/wp-content/uploads/2024/04/Guided-family-walk-at-Engine-Lonning.jpg
ORGANIZER;CN="North Pennines National Landscape":MAILTO:communications@northpennines.org.uk
END:VEVENT
BEGIN:VEVENT
DTSTART;TZID=Europe/London:20260529T100000
DTEND;TZID=Europe/London:20260529T160000
DTSTAMP:20260426T015531
CREATED:20260424T115726Z
LAST-MODIFIED:20260424T122841Z
UID:10002314-1780048800-1780070400@northpennines.org.uk
SUMMARY:Bird trail at Bowlees - family friendly
DESCRIPTION:Our self-guided trail during North Pennines NatureFest is a family-friendly bird-themed treasure trail. \nCome along with your family and explore the woods around Bowlees Visitor Centre. Follow the trail around the site\, taking you on an exciting journey discovering lots of birds along the way. As you follow the trail you will pick up clues – answer the questions\, return to the Centre and claim your prize. \nPick up your instruction leaflet and answer sheet at the visitor centre – £1 per child. \nAvailable 10am to 4pm from Saturday 23 May to Sunday 7 June inclusive. The Centre closes at 5pm. \nThis event is part of North Pennines NatureFest running from Saturday 23 May to Sunday 7 June 2026. See the full programme at www.NorthPenninesNatureFest.org.uk #NorthPenninesNatureFest26
URL:https://northpennines.org.uk/event/bird-trail-at-bowlees-family-friendly/2026-05-29/
LOCATION:Bowlees Visitor Centre\, Newbiggin\, DL12 0XF
CATEGORIES:Bowlees Visitor Centre events,Family-friendly,Naturefest
ATTACH;FMTTYPE=image/jpeg:https://northpennines.org.uk/wp-content/uploads/2024/04/Guided-family-walk-at-Engine-Lonning.jpg
ORGANIZER;CN="North Pennines National Landscape":MAILTO:communications@northpennines.org.uk
END:VEVENT
BEGIN:VEVENT
DTSTART;TZID=Europe/London:20260530T100000
DTEND;TZID=Europe/London:20260530T160000
DTSTAMP:20260426T015531
CREATED:20260424T115726Z
LAST-MODIFIED:20260424T122841Z
UID:10002315-1780135200-1780156800@northpennines.org.uk
SUMMARY:Bird trail at Bowlees - family friendly
DESCRIPTION:Our self-guided trail during North Pennines NatureFest is a family-friendly bird-themed treasure trail. \nCome along with your family and explore the woods around Bowlees Visitor Centre. Follow the trail around the site\, taking you on an exciting journey discovering lots of birds along the way. As you follow the trail you will pick up clues – answer the questions\, return to the Centre and claim your prize. \nPick up your instruction leaflet and answer sheet at the visitor centre – £1 per child. \nAvailable 10am to 4pm from Saturday 23 May to Sunday 7 June inclusive. The Centre closes at 5pm. \nThis event is part of North Pennines NatureFest running from Saturday 23 May to Sunday 7 June 2026. See the full programme at www.NorthPenninesNatureFest.org.uk #NorthPenninesNatureFest26
URL:https://northpennines.org.uk/event/bird-trail-at-bowlees-family-friendly/2026-05-30/
LOCATION:Bowlees Visitor Centre\, Newbiggin\, DL12 0XF
CATEGORIES:Bowlees Visitor Centre events,Family-friendly,Naturefest
ATTACH;FMTTYPE=image/jpeg:https://northpennines.org.uk/wp-content/uploads/2024/04/Guided-family-walk-at-Engine-Lonning.jpg
ORGANIZER;CN="North Pennines National Landscape":MAILTO:communications@northpennines.org.uk
END:VEVENT
BEGIN:VEVENT
DTSTART;TZID=Europe/London:20260531T100000
DTEND;TZID=Europe/London:20260531T160000
DTSTAMP:20260426T015531
CREATED:20260424T115726Z
LAST-MODIFIED:20260424T122841Z
UID:10002316-1780221600-1780243200@northpennines.org.uk
SUMMARY:Bird trail at Bowlees - family friendly
DESCRIPTION:Our self-guided trail during North Pennines NatureFest is a family-friendly bird-themed treasure trail. \nCome along with your family and explore the woods around Bowlees Visitor Centre. Follow the trail around the site\, taking you on an exciting journey discovering lots of birds along the way. As you follow the trail you will pick up clues – answer the questions\, return to the Centre and claim your prize. \nPick up your instruction leaflet and answer sheet at the visitor centre – £1 per child. \nAvailable 10am to 4pm from Saturday 23 May to Sunday 7 June inclusive. The Centre closes at 5pm. \nThis event is part of North Pennines NatureFest running from Saturday 23 May to Sunday 7 June 2026. See the full programme at www.NorthPenninesNatureFest.org.uk #NorthPenninesNatureFest26
URL:https://northpennines.org.uk/event/bird-trail-at-bowlees-family-friendly/2026-05-31/
LOCATION:Bowlees Visitor Centre\, Newbiggin\, DL12 0XF
CATEGORIES:Bowlees Visitor Centre events,Family-friendly,Naturefest
ATTACH;FMTTYPE=image/jpeg:https://northpennines.org.uk/wp-content/uploads/2024/04/Guided-family-walk-at-Engine-Lonning.jpg
ORGANIZER;CN="North Pennines National Landscape":MAILTO:communications@northpennines.org.uk
END:VEVENT
END:VCALENDAR