BEGIN:VCALENDAR
VERSION:2.0
PRODID:-//North Pennines National Landscape - ECPv6.15.11//NONSGML v1.0//EN
CALSCALE:GREGORIAN
METHOD:PUBLISH
X-WR-CALNAME:North Pennines National Landscape
X-ORIGINAL-URL:https://northpennines.org.uk
X-WR-CALDESC:Events for North Pennines National Landscape
REFRESH-INTERVAL;VALUE=DURATION:PT1H
X-Robots-Tag:noindex
X-PUBLISHED-TTL:PT1H
BEGIN:VTIMEZONE
TZID:Europe/London
BEGIN:DAYLIGHT
TZOFFSETFROM:+0000
TZOFFSETTO:+0100
TZNAME:BST
DTSTART:20240331T010000
END:DAYLIGHT
BEGIN:STANDARD
TZOFFSETFROM:+0100
TZOFFSETTO:+0000
TZNAME:GMT
DTSTART:20241027T010000
END:STANDARD
BEGIN:DAYLIGHT
TZOFFSETFROM:+0000
TZOFFSETTO:+0100
TZNAME:BST
DTSTART:20250330T010000
END:DAYLIGHT
BEGIN:STANDARD
TZOFFSETFROM:+0100
TZOFFSETTO:+0000
TZNAME:GMT
DTSTART:20251026T010000
END:STANDARD
BEGIN:DAYLIGHT
TZOFFSETFROM:+0000
TZOFFSETTO:+0100
TZNAME:BST
DTSTART:20260329T010000
END:DAYLIGHT
BEGIN:STANDARD
TZOFFSETFROM:+0100
TZOFFSETTO:+0000
TZNAME:GMT
DTSTART:20261025T010000
END:STANDARD
END:VTIMEZONE
BEGIN:VEVENT
DTSTART;TZID=Europe/London:20250531T120000
DTEND;TZID=Europe/London:20250601T140000
DTSTAMP:20260423T083717
CREATED:20250404T101509Z
LAST-MODIFIED:20250507T075038Z
UID:10001295-1748692800-1748786400@northpennines.org.uk
SUMMARY:Nature camp weekend
DESCRIPTION:Enjoy a family-friendly weekend of nature themed activities at Low Way Farm in Holwick\, Teesdale\, Saturday 31 May from 12 noon to Sunday 1 June 2pm. \nActivities will be running throughout the day and into the evening\, but you can take it at your own pace. There are options to bring your own kit and camp\, or stay in the bunkhouse. An evening meal and breakfast are provided within the ticket price. \nThe event is suitable for children 5+. All children must be supervised by a responsible adult. Due to the nature of the weekend it is not dog friendly. \nActivities on offer: \n\nRiver dipping\nWoodland walk\nBat detectors and moth trapping\nWandering through the wildflower meadows\nArts and crafts\nImmersive morning bird song walk with sound recording artist\nNature cinema\nMeet the farmer\nCommunal campfire\n\nFurther details of the above activities will be sent to attendees closer to the time. \nTickets \n\nAdmission – Adult £30 / Child £25.\nAccommodation – Camping is free\, bunk barn per person is £5.\n\nThere is camping kit available to borrow if needed (tents\, sleeping bags\, liners and mats)\, simply let us know when you are booking if you require this. \nWe would like everyone to be able to attend Nature Camp. Please let us know if there is anything we can do to make this event more accessible and enjoyable for your family\, such as sensory needs. \nPlease get in touch with molly@northpennines.org.uk to find out more about access for all tickets. \nWe will be running a free minibus from Barnard Castle to Nature Camp (and returning on the Sunday) for those families that don’t have access to a car. Please contact Molly for more details. \nChildren by Low Way river \nFamily walking through the meadow \nChildren showing their art work \n  \n  \n  \n  \nInterior of a room in the bunk barn at Low Way \nLow Way Farm and meadow \nToasting marshmallows on a campfire \n  \n  \n  \n  \n  \n  \n  \nPlease use the link to book admission and accommodation tickets. \n\n\n\n                \n                \n\n\nThis event is part of North Pennines NatureFest running from Saturday 24 May to Sunday 8 June 2025. See the full programme at www.NorthPenninesNatureFest.org.uk  #NorthPenninesNatureFest25 \n \n 
URL:https://northpennines.org.uk/event/nature-camp-weekend/
LOCATION:Low Way Farm\, Holwick\, DL12 0NJ
CATEGORIES:Family-friendly
ATTACH;FMTTYPE=image/jpeg:https://northpennines.org.uk/wp-content/uploads/2025/03/low-way-farm-river-scaled.jpeg
ORGANIZER;CN="North Pennines National Landscape":MAILTO:communications@northpennines.org.uk
END:VEVENT
BEGIN:VEVENT
DTSTART;TZID=Europe/London:20250603T180000
DTEND;TZID=Europe/London:20250603T200000
DTSTAMP:20260423T083717
CREATED:20250430T132047Z
LAST-MODIFIED:20250522T103435Z
UID:10001388-1748973600-1748980800@northpennines.org.uk
SUMMARY:Lino printing workshop (Nentheadhead200)
DESCRIPTION:Come along a laid-back evening of lino printing with local artist\, Christie Love\, at The Hive in Nenthead\, 3 June\, 6pm to 8pm. \nIn this free workshop you will be learning how to cut lino into a design inspired by the unique history of Nenthead and print your own art from your designs. Everyone is welcome\, even if you’re a complete beginner. You don’t need to bring anything\, as all the supplies will be provided. \nSuitable for adults and children over the age of seven. Children must be supervised by an adult. \nPlease book using the Ticketsource link \n\n\n\n                \n                \n\n\n \n  \n \n  \n  \n  \n  \nThis workshop is part of the Nenthead200 celebrations\, marking 200 years since the London Lead Company designed the village of Nenthead. To find out more go to: https://northpennines.org.uk/what_we_do/historic-environment/land-of-lead-and-silver/nenthead200-celebration/ \n 
URL:https://northpennines.org.uk/event/lino-printing-workshop-nentheadhead200/
LOCATION:The Hive\, Nenthead
CATEGORIES:Art,Family-friendly,Historic environment event,Nenthead200
ATTACH;FMTTYPE=image/jpeg:https://northpennines.org.uk/wp-content/uploads/2025/04/Building-Picture2.jpg
ORGANIZER;CN="North Pennines National Landscape":MAILTO:communications@northpennines.org.uk
END:VEVENT
BEGIN:VEVENT
DTSTART;TZID=Europe/London:20250604T103000
DTEND;TZID=Europe/London:20250604T150000
DTSTAMP:20260423T083717
CREATED:20250404T100012Z
LAST-MODIFIED:20250404T104444Z
UID:10001267-1749033000-1749049200@northpennines.org.uk
SUMMARY:Nature walk: High Helbeck
DESCRIPTION:Join us for a family friendly 5km circular guided nature walk\, Wednesday 4 June\, 10.30am to 3pm\, around the High Helbeck estate that has recently undergone extensive nature recovery work. \nThe walk will take in waterfalls\, wading birds and black grouse in an ever-changing mosaic of habitats being managed sustainably. Please wear suitable footwear and clothing suitable for the weather. Bring a packed lunch and drinks. The walk is not suitable for dogs. \nSuggested donation £3 for adults\, £2 for children. Your donation enables the North Pennines National Landscape team to protect and restore this special place and help people connect with nature. \nPlease book using the Ticketsource link \n\n\n\n                \n                \n\n\n  \nThis event is part of North Pennines NatureFest running from Saturday 24 May to Sunday 8 June 2025. See the full programme at www.NorthPenninesNatureFest.org.uk #NorthPenninesNatureFest25 \n  \n  \n 
URL:https://northpennines.org.uk/event/nature-walk-high-helbeck/
LOCATION:High Helbeck\, CA17 4DZ
CATEGORIES:Family-friendly,Guided walk
ATTACH;FMTTYPE=image/jpeg:https://northpennines.org.uk/wp-content/uploads/2025/01/FiPL-High-Helbeck-Trail-5.jpg
ORGANIZER;CN="North Pennines National Landscape":MAILTO:communications@northpennines.org.uk
END:VEVENT
END:VCALENDAR