BEGIN:VCALENDAR
VERSION:2.0
PRODID:-//North Pennines National Landscape - ECPv6.15.11//NONSGML v1.0//EN
CALSCALE:GREGORIAN
METHOD:PUBLISH
X-ORIGINAL-URL:https://northpennines.org.uk
X-WR-CALDESC:Events for North Pennines National Landscape
REFRESH-INTERVAL;VALUE=DURATION:PT1H
X-Robots-Tag:noindex
X-PUBLISHED-TTL:PT1H
BEGIN:VTIMEZONE
TZID:Europe/London
BEGIN:DAYLIGHT
TZOFFSETFROM:+0000
TZOFFSETTO:+0100
TZNAME:BST
DTSTART:20240331T010000
END:DAYLIGHT
BEGIN:STANDARD
TZOFFSETFROM:+0100
TZOFFSETTO:+0000
TZNAME:GMT
DTSTART:20241027T010000
END:STANDARD
BEGIN:DAYLIGHT
TZOFFSETFROM:+0000
TZOFFSETTO:+0100
TZNAME:BST
DTSTART:20250330T010000
END:DAYLIGHT
BEGIN:STANDARD
TZOFFSETFROM:+0100
TZOFFSETTO:+0000
TZNAME:GMT
DTSTART:20251026T010000
END:STANDARD
BEGIN:DAYLIGHT
TZOFFSETFROM:+0000
TZOFFSETTO:+0100
TZNAME:BST
DTSTART:20260329T010000
END:DAYLIGHT
BEGIN:STANDARD
TZOFFSETFROM:+0100
TZOFFSETTO:+0000
TZNAME:GMT
DTSTART:20261025T010000
END:STANDARD
END:VTIMEZONE
BEGIN:VEVENT
DTSTART;TZID=Europe/London:20250904T100000
DTEND;TZID=Europe/London:20250904T120000
DTSTAMP:20260423T040346
CREATED:20250616T170020Z
LAST-MODIFIED:20250814T093903Z
UID:10001430-1756980000-1756987200@northpennines.org.uk
SUMMARY:Home educators session - Bowlees
DESCRIPTION:This is a family workshop for home educators\, 4 September\, 10am to 12 noon at Bowlees Visitor Centre. The theme is rocks and fossils. \nWe will learn about the different rocks that make up the local landscape\, make our own ‘fossils’ and see what uses of earth materials we can find around Bowlees. \nAfter the workshop and a break for lunch\, stay on for an optional walk of 2.5km to the River Tees to see some more fossils.\nPlease wear sturdy footwear\, and clothing suitable for the weather. \nSuitable for children aged 5 to 12 years. All children need to be accompanied by an adult. (Younger siblings are welcome – they do not need a ticket but please let us know they are coming by emailing naomi@northpennines.org.uk). \nPlease book using the Ticketsource link \n\n\n\n                \n                \n\n\n  \n 
URL:https://northpennines.org.uk/event/home-educators-session-bowlees/
LOCATION:Bowlees Visitor Centre\, Newbiggin\, DL12 0XF
CATEGORIES:Family-friendly,Home education
ATTACH;FMTTYPE=image/jpeg:https://northpennines.org.uk/wp-content/uploads/2025/01/Bowlees-children-geology12-resized-for-ticketsource.jpg
ORGANIZER;CN="North Pennines National Landscape":MAILTO:communications@northpennines.org.uk
END:VEVENT
BEGIN:VEVENT
DTSTART;TZID=Europe/London:20250913T150000
DTEND;TZID=Europe/London:20250913T180000
DTSTAMP:20260423T040346
CREATED:20250711T184508Z
LAST-MODIFIED:20250813T110559Z
UID:10001868-1757775600-1757786400@northpennines.org.uk
SUMMARY:Westgate village history
DESCRIPTION:Find out how you can get involved exploring the history of Westgate village at our drop-in sessions at Westgate Village Hall on the afternoons of Saturday 13 and Sunday 14 September. \nThe Westgate village history project will be exploring and recording the natural and cultural heritage of the village and the surrounding area\, bringing together local knowledge\, memories and research to create a lasting record for future generations. \nIf you live in Westgate\, nearby\, or are just interested in the village’s history\, come along to one of these public consultation sessions. At the sessions there will be the opportunity to:\n• Find out about the Westgate village history project and how you can get involved\n• Share knowledge\, photographs\, and personal memories\n• Contribute ideas to help shape the content and focus of the project \nFree refreshments and children’s activities will be available throughout the sessions. \n 
URL:https://northpennines.org.uk/event/westgate-village-history/2025-09-13/
LOCATION:Westgate Village Hall\, Front Street\, Westgate\, DL13 1RX
CATEGORIES:Family-friendly,Historic environment event
ATTACH;FMTTYPE=image/jpeg:https://northpennines.org.uk/wp-content/uploads/2025/07/group-in-hall-scaled.jpg
ORGANIZER;CN="North Pennines National Landscape":MAILTO:communications@northpennines.org.uk
END:VEVENT
BEGIN:VEVENT
DTSTART;TZID=Europe/London:20250914T130000
DTEND;TZID=Europe/London:20250914T170000
DTSTAMP:20260423T040346
CREATED:20250711T184508Z
LAST-MODIFIED:20250813T110559Z
UID:10001927-1757854800-1757869200@northpennines.org.uk
SUMMARY:Westgate village history
DESCRIPTION:Find out how you can get involved exploring the history of Westgate village at our drop-in sessions at Westgate Village Hall on the afternoons of Saturday 13 and Sunday 14 September. \nThe Westgate village history project will be exploring and recording the natural and cultural heritage of the village and the surrounding area\, bringing together local knowledge\, memories and research to create a lasting record for future generations. \nIf you live in Westgate\, nearby\, or are just interested in the village’s history\, come along to one of these public consultation sessions. At the sessions there will be the opportunity to:\n• Find out about the Westgate village history project and how you can get involved\n• Share knowledge\, photographs\, and personal memories\n• Contribute ideas to help shape the content and focus of the project \nFree refreshments and children’s activities will be available throughout the sessions. \n 
URL:https://northpennines.org.uk/event/westgate-village-history/2025-09-14/
LOCATION:Westgate Village Hall\, Front Street\, Westgate\, DL13 1RX
CATEGORIES:Family-friendly,Historic environment event
ATTACH;FMTTYPE=image/jpeg:https://northpennines.org.uk/wp-content/uploads/2025/07/group-in-hall-scaled.jpg
ORGANIZER;CN="North Pennines National Landscape":MAILTO:communications@northpennines.org.uk
END:VEVENT
END:VCALENDAR