BEGIN:VCALENDAR
VERSION:2.0
PRODID:-//North Pennines National Landscape - ECPv6.15.11//NONSGML v1.0//EN
CALSCALE:GREGORIAN
METHOD:PUBLISH
X-WR-CALNAME:North Pennines National Landscape
X-ORIGINAL-URL:https://northpennines.org.uk
X-WR-CALDESC:Events for North Pennines National Landscape
REFRESH-INTERVAL;VALUE=DURATION:PT1H
X-Robots-Tag:noindex
X-PUBLISHED-TTL:PT1H
BEGIN:VTIMEZONE
TZID:Europe/London
BEGIN:DAYLIGHT
TZOFFSETFROM:+0000
TZOFFSETTO:+0100
TZNAME:BST
DTSTART:20240331T010000
END:DAYLIGHT
BEGIN:STANDARD
TZOFFSETFROM:+0100
TZOFFSETTO:+0000
TZNAME:GMT
DTSTART:20241027T010000
END:STANDARD
BEGIN:DAYLIGHT
TZOFFSETFROM:+0000
TZOFFSETTO:+0100
TZNAME:BST
DTSTART:20250330T010000
END:DAYLIGHT
BEGIN:STANDARD
TZOFFSETFROM:+0100
TZOFFSETTO:+0000
TZNAME:GMT
DTSTART:20251026T010000
END:STANDARD
BEGIN:DAYLIGHT
TZOFFSETFROM:+0000
TZOFFSETTO:+0100
TZNAME:BST
DTSTART:20260329T010000
END:DAYLIGHT
BEGIN:STANDARD
TZOFFSETFROM:+0100
TZOFFSETTO:+0000
TZNAME:GMT
DTSTART:20261025T010000
END:STANDARD
END:VTIMEZONE
BEGIN:VEVENT
DTSTART;TZID=Europe/London:20251101T180000
DTEND;TZID=Europe/London:20251101T193000
DTSTAMP:20260422T222427
CREATED:20250818T134514Z
LAST-MODIFIED:20250821T140845Z
UID:10001916-1762020000-1762025400@northpennines.org.uk
SUMMARY:Family astronomy at Grassholme Observatory
DESCRIPTION:Due to popular demand\, the team at Grassholme Observatory have laid on this exclusive family event to educate on all things spacey. \nThe whole family will enjoy interactive talks in the classroom and then will be able to see and touch rocks from space – meteorites\, learn about space in the purpose-built classroom and then weather permitting outside for some stargazing and peering through telescopes. \nHot chocolate and radiators are available too. Bring warm clothes – it can get chilly when you are outside. The observatory\, classroom and toilets are accessible. This is a pet free event. All children must be supervised by an adult. \nAdult: £19 (16+)\nChild: £12 (1-16)\nConcession: £16 (65+\, Blue Badge holder)\nFamily: £65 (Group ticket for 3-4 people. Min of 3\, Max of 4) \nBooking\n\nVisit https://bookwhen.com/grassholmeobservatory/e/ev-sg41-20251101180000 to book and for full terms and conditions.\n\nImage: The telescope at Grassholme Observatory © Grassholme Observatory. \nThis Grassholme Observatory (www.grassholmeobservatory.com) event is part of the North Pennines Stargazing Festival running from 22 October to 2 November 2025 – www.NorthPenninesStarFest.org #NorthPennStarFest25 #NPennDarkSkies
URL:https://northpennines.org.uk/event/family-astronomy-at-grassholme-observatory/
LOCATION:Grassholme Observatory\, DL12 0PW
CATEGORIES:Family-friendly,Stargazing
ATTACH;FMTTYPE=image/jpeg:https://northpennines.org.uk/wp-content/uploads/2025/08/Family-astronomy-at-Grassholme-Observatory-c-Grassholme-Observatory-e1754322077503.jpg
END:VEVENT
BEGIN:VEVENT
DTSTART;TZID=Europe/London:20251124T103000
DTEND;TZID=Europe/London:20251124T123000
DTSTAMP:20260422T222427
CREATED:20250911T122101Z
LAST-MODIFIED:20251105T162540Z
UID:10001951-1763980200-1763987400@northpennines.org.uk
SUMMARY:Home educators' session - Bowlees
DESCRIPTION:This is a family workshop for home educators\, 24 November\, 10.30am to 12.30pm at Bowlees Visitor Centre. The theme is earth materials. \nWe will be exploring the materials used around Bowlees and what they are made from\, and using clay for designs of our own. \nAfter the workshop feel free to stay around and continue exploring. Please note the Visitor Centre and Café will not be open on weekdays in November. \nSuitable for children aged 5 to 12 years. All children need to be accompanied by an adult. (Younger siblings are welcome – they do not need a ticket but please let us know they are coming by emailing(naomi@northpennines.org.uk). \nPlease book using the Ticketsource link \n\n\n\n                \n                \n\n\n  \n 
URL:https://northpennines.org.uk/event/home-educators-session-bowlees-3-2/
LOCATION:Bowlees Visitor Centre\, Newbiggin\, DL12 0XF
CATEGORIES:Family-friendly,Home education
ATTACH;FMTTYPE=image/jpeg:https://northpennines.org.uk/wp-content/uploads/2025/09/Under-the-surface-VO1T2780-e1757593335400.jpg
ORGANIZER;CN="North Pennines National Landscape":MAILTO:communications@northpennines.org.uk
END:VEVENT
END:VCALENDAR