BEGIN:VCALENDAR
VERSION:2.0
PRODID:-//North Pennines National Landscape - ECPv6.15.11//NONSGML v1.0//EN
CALSCALE:GREGORIAN
METHOD:PUBLISH
X-WR-CALNAME:North Pennines National Landscape
X-ORIGINAL-URL:https://northpennines.org.uk
X-WR-CALDESC:Events for North Pennines National Landscape
REFRESH-INTERVAL;VALUE=DURATION:PT1H
X-Robots-Tag:noindex
X-PUBLISHED-TTL:PT1H
BEGIN:VTIMEZONE
TZID:Europe/London
BEGIN:DAYLIGHT
TZOFFSETFROM:+0000
TZOFFSETTO:+0100
TZNAME:BST
DTSTART:20250330T010000
END:DAYLIGHT
BEGIN:STANDARD
TZOFFSETFROM:+0100
TZOFFSETTO:+0000
TZNAME:GMT
DTSTART:20251026T010000
END:STANDARD
BEGIN:DAYLIGHT
TZOFFSETFROM:+0000
TZOFFSETTO:+0100
TZNAME:BST
DTSTART:20260329T010000
END:DAYLIGHT
BEGIN:STANDARD
TZOFFSETFROM:+0100
TZOFFSETTO:+0000
TZNAME:GMT
DTSTART:20261025T010000
END:STANDARD
BEGIN:DAYLIGHT
TZOFFSETFROM:+0000
TZOFFSETTO:+0100
TZNAME:BST
DTSTART:20270328T010000
END:DAYLIGHT
BEGIN:STANDARD
TZOFFSETFROM:+0100
TZOFFSETTO:+0000
TZNAME:GMT
DTSTART:20271031T010000
END:STANDARD
END:VTIMEZONE
BEGIN:VEVENT
DTSTART;TZID=Europe/London:20260321T113000
DTEND;TZID=Europe/London:20260321T193000
DTSTAMP:20260422T143934
CREATED:20260123T143630Z
LAST-MODIFIED:20260309T162100Z
UID:10002146-1774092600-1774121400@northpennines.org.uk
SUMMARY:Sculpture trail scanning session
DESCRIPTION:Get involved in a new sculpture trail around Middleton-in-Teesdale and join us for a free scanning session at UTASS\, on Saturday 21 March\, 11.30am to 7.30pm. \nThis session will build on ideas gathered during the public consultation on 28 February\, finding out about people’s connections to lead mining in the area. The artist creating the sculptures will be 3D scanning those who have volunteered to be scanned for a sculpture. \nNo previous experience required\, guidance and support will be provided throughout the day which will run as a flexible\, workshop-style event. \nPlease book a 30 minute slot via the Ticketsource link for a scanning session. \n\n\n\n                \n                \n\n\nThis event is part of the North Pennines National Landscape’s project\, the Land of Lead & Silver Project’s work to celebrate and share the rich landscape\, history and heritage of the Middleton-in-Teesdale area through new ways of exploring the North Pennines. \n   \n 
URL:https://northpennines.org.uk/event/sculpture-trail-scanning-sessions/
LOCATION:UTASS\, 9-11 Chapel Row\, Barnard Castle\, DL12 0SN\, United Kingdom
CATEGORIES:Art,Family-friendly
ATTACH;FMTTYPE=image/jpeg:https://northpennines.org.uk/wp-content/uploads/2026/01/View-of-Middleton-in-Teesdale-c-NPAP-Shane-Harris-scaled.jpg
ORGANIZER;CN="North Pennines National Landscape":MAILTO:communications@northpennines.org.uk
END:VEVENT
BEGIN:VEVENT
DTSTART;TZID=Europe/London:20260322T110000
DTEND;TZID=Europe/London:20260322T160000
DTSTAMP:20260422T143934
CREATED:20260204T110146Z
LAST-MODIFIED:20260304T160550Z
UID:10002208-1774177200-1774195200@northpennines.org.uk
SUMMARY:Garrigill village history project - public consultation
DESCRIPTION:Drop-in to our public consultation session at Garrigill Village Hall on Sunday 22 March\, 11am to 4pm\, to find out about an exciting new village histories project. \nThe project will be exploring and recording the natural\, cultural\, and industrial heritage of the Garrigill and the surrounding area\, bringing together local knowledge\, memories and archival research to create a lasting record for future generations. \nAt the public consultation there will be the opportunity to: \n• Contribute ideas to help shape the content and focus of the project\n• Learn more about the Village Histories project and how you can get involved\n• Share knowledge\, photographs\, and personal memories \nAll are welcome\, whether you live locally or are simply curious about the Garrigill’s rich industrial history\, folklore\, and dialect. \nFree refreshments and children’s activities will be available throughout the sessions.
URL:https://northpennines.org.uk/event/garrigill-village-history/
LOCATION:Garrigill Village Hall
CATEGORIES:Family-friendly,Historic environment event
ATTACH;FMTTYPE=image/jpeg:https://northpennines.org.uk/wp-content/uploads/2026/02/garrigill-school-pic.jpg-e1770825546152.jpeg
ORGANIZER;CN="North Pennines National Landscape":MAILTO:communications@northpennines.org.uk
END:VEVENT
END:VCALENDAR