BEGIN:VCALENDAR
VERSION:2.0
PRODID:-//North Pennines National Landscape - ECPv6.15.11//NONSGML v1.0//EN
CALSCALE:GREGORIAN
METHOD:PUBLISH
X-ORIGINAL-URL:https://northpennines.org.uk
X-WR-CALDESC:Events for North Pennines National Landscape
REFRESH-INTERVAL;VALUE=DURATION:PT1H
X-Robots-Tag:noindex
X-PUBLISHED-TTL:PT1H
BEGIN:VTIMEZONE
TZID:Europe/London
BEGIN:DAYLIGHT
TZOFFSETFROM:+0000
TZOFFSETTO:+0100
TZNAME:BST
DTSTART:20240331T010000
END:DAYLIGHT
BEGIN:STANDARD
TZOFFSETFROM:+0100
TZOFFSETTO:+0000
TZNAME:GMT
DTSTART:20241027T010000
END:STANDARD
BEGIN:DAYLIGHT
TZOFFSETFROM:+0000
TZOFFSETTO:+0100
TZNAME:BST
DTSTART:20250330T010000
END:DAYLIGHT
BEGIN:STANDARD
TZOFFSETFROM:+0100
TZOFFSETTO:+0000
TZNAME:GMT
DTSTART:20251026T010000
END:STANDARD
BEGIN:DAYLIGHT
TZOFFSETFROM:+0000
TZOFFSETTO:+0100
TZNAME:BST
DTSTART:20260329T010000
END:DAYLIGHT
BEGIN:STANDARD
TZOFFSETFROM:+0100
TZOFFSETTO:+0000
TZNAME:GMT
DTSTART:20261025T010000
END:STANDARD
END:VTIMEZONE
BEGIN:VEVENT
DTSTART;TZID=Europe/London:20250527T103000
DTEND;TZID=Europe/London:20250527T123000
DTSTAMP:20260423T101328
CREATED:20250404T104507Z
LAST-MODIFIED:20250411T145215Z
UID:10001265-1748341800-1748349000@northpennines.org.uk
SUMMARY:Geoparks Rock
DESCRIPTION:To celebrate European Geoparks Week\, come along to this family friendly workshop and find out what is fabulous about Geoparks around the world\, (including the North Pennines)\, and get hands on with activities that show how landscapes form from ice and water to volcanoes. The location is Talkin Tarn\, Brampton\, Tuesday 27 May\, 10.30am to 12.30pm. \nPlease wear sturdy footwear\, and clothing suitable for the weather and potentially messy activities. \nSuitable for children aged five to 12 years. All children must be accompanied by a parent or responsible adult. Please wear sturdy footwear\, and clothing and sun protection suitable for the weather. \n£2 per child (accompanying adults and under 5s free). Please note there is also a charge for parking at Talkin Tarn. Details here. \nPlease let us know if there is anything we can do to make this event more accessible and enjoyable for your family\, such as sensory needs. \nPlease use the Ticketsource link to book. \n\n\n\n                \n                \n\n\n  \nThis event is part of North Pennines NatureFest running from Saturday 24 May to Sunday 8 June 2025. See the full programme at www.NorthPenninesNatureFest.org.uk #NorthPenninesNatureFest25 \n 
URL:https://northpennines.org.uk/event/geoparks-rock/
LOCATION:Talkin Tarn\, Brampton\, Tarn Road\, Brampton\, CA8 1HN
CATEGORIES:Family-friendly
ATTACH;FMTTYPE=image/jpeg:https://northpennines.org.uk/wp-content/uploads/2025/01/Map-cloth.-2.-jpg.jpg
ORGANIZER;CN="North Pennines National Landscape":MAILTO:communications@northpennines.org.uk
END:VEVENT
END:VCALENDAR