BEGIN:VCALENDAR
VERSION:2.0
PRODID:-//North Pennines National Landscape - ECPv6.15.11//NONSGML v1.0//EN
CALSCALE:GREGORIAN
METHOD:PUBLISH
X-WR-CALNAME:North Pennines National Landscape
X-ORIGINAL-URL:https://northpennines.org.uk
X-WR-CALDESC:Events for North Pennines National Landscape
REFRESH-INTERVAL;VALUE=DURATION:PT1H
X-Robots-Tag:noindex
X-PUBLISHED-TTL:PT1H
BEGIN:VTIMEZONE
TZID:Europe/London
BEGIN:DAYLIGHT
TZOFFSETFROM:+0000
TZOFFSETTO:+0100
TZNAME:BST
DTSTART:20240331T010000
END:DAYLIGHT
BEGIN:STANDARD
TZOFFSETFROM:+0100
TZOFFSETTO:+0000
TZNAME:GMT
DTSTART:20241027T010000
END:STANDARD
BEGIN:DAYLIGHT
TZOFFSETFROM:+0000
TZOFFSETTO:+0100
TZNAME:BST
DTSTART:20250330T010000
END:DAYLIGHT
BEGIN:STANDARD
TZOFFSETFROM:+0100
TZOFFSETTO:+0000
TZNAME:GMT
DTSTART:20251026T010000
END:STANDARD
BEGIN:DAYLIGHT
TZOFFSETFROM:+0000
TZOFFSETTO:+0100
TZNAME:BST
DTSTART:20260329T010000
END:DAYLIGHT
BEGIN:STANDARD
TZOFFSETFROM:+0100
TZOFFSETTO:+0000
TZNAME:GMT
DTSTART:20261025T010000
END:STANDARD
END:VTIMEZONE
BEGIN:VEVENT
DTSTART;TZID=Europe/London:20250821T100000
DTEND;TZID=Europe/London:20250821T120000
DTSTAMP:20260423T083926
CREATED:20250616T142810Z
LAST-MODIFIED:20250813T103559Z
UID:10001426-1755770400-1755777600@northpennines.org.uk
SUMMARY:Home educators' session - Blanchland
DESCRIPTION:This is a family workshop for home educators\, 21 August\, 10am to 12 noon in Blanchland Village Hall. The theme is rivers and landscapes\, looking at how the local landscape is formed and shaped by water and either measuring how the River Derwent flows or seeing what lives in it. \nPlease wear sturdy footwear\, and clothing suitable for the weather and potentially messy activities. Wellies recommended. \nAfter the workshop and a break for lunch\, stay on for an optional walk of 2.2km along the River Derwent.Suitable for children aged 5 to 12 years. £2 per child. \nAll children need to be accompanied by an adult. (Younger siblings are welcome – they do not need a ticket but please let us know they are coming by emailing naomi@northpennines.org.uk). \nPlease book using the Ticketsource link \n\n\n\n                \n                \n\n\n  \n 
URL:https://northpennines.org.uk/event/home-educators-session-at-blanchland/
LOCATION:Blanchland Village Hall\, Clap Shaw\, Consett\, DH8 9UA
CATEGORIES:Family-friendly,Home education
ATTACH;FMTTYPE=image/jpeg:https://northpennines.org.uk/wp-content/uploads/2025/06/In-the-river-scaled.jpg
ORGANIZER;CN="North Pennines National Landscape":MAILTO:communications@northpennines.org.uk
END:VEVENT
END:VCALENDAR