BEGIN:VCALENDAR
VERSION:2.0
PRODID:-//North Pennines National Landscape - ECPv6.15.11//NONSGML v1.0//EN
CALSCALE:GREGORIAN
METHOD:PUBLISH
X-WR-CALNAME:North Pennines National Landscape
X-ORIGINAL-URL:https://northpennines.org.uk
X-WR-CALDESC:Events for North Pennines National Landscape
REFRESH-INTERVAL;VALUE=DURATION:PT1H
X-Robots-Tag:noindex
X-PUBLISHED-TTL:PT1H
BEGIN:VTIMEZONE
TZID:Europe/London
BEGIN:DAYLIGHT
TZOFFSETFROM:+0000
TZOFFSETTO:+0100
TZNAME:BST
DTSTART:20240331T010000
END:DAYLIGHT
BEGIN:STANDARD
TZOFFSETFROM:+0100
TZOFFSETTO:+0000
TZNAME:GMT
DTSTART:20241027T010000
END:STANDARD
BEGIN:DAYLIGHT
TZOFFSETFROM:+0000
TZOFFSETTO:+0100
TZNAME:BST
DTSTART:20250330T010000
END:DAYLIGHT
BEGIN:STANDARD
TZOFFSETFROM:+0100
TZOFFSETTO:+0000
TZNAME:GMT
DTSTART:20251026T010000
END:STANDARD
BEGIN:DAYLIGHT
TZOFFSETFROM:+0000
TZOFFSETTO:+0100
TZNAME:BST
DTSTART:20260329T010000
END:DAYLIGHT
BEGIN:STANDARD
TZOFFSETFROM:+0100
TZOFFSETTO:+0000
TZNAME:GMT
DTSTART:20261025T010000
END:STANDARD
END:VTIMEZONE
BEGIN:VEVENT
DTSTART;VALUE=DATE:20250823
DTEND;VALUE=DATE:20250825
DTSTAMP:20260423T083919
CREATED:20250522T105721Z
LAST-MODIFIED:20250725T162341Z
UID:10001395-1755907200-1756079999@northpennines.org.uk
SUMMARY:Nenthead200 weekend
DESCRIPTION:2025 marks the 200th anniversary of the London Lead Company planning the village of Nenthead. A weekend-long event is being organised by the North Pennines National Landscape team and volunteers from the local community to celebrate this anniversary. \nEveryone is welcome at the Nenthead 200 celebration on Saturday 23 and Sunday 24 August which will be a traditional village fair with competitions\, games\, music\, and activities alongside an evening of food and music and a quiz. \nSaturday 23 August:\nMine tours at Nenthead Mines (book via their website)\nMining display at the Nenthead Mines barracks building\nCommunity performance by Alston Drama Group in collaboration with the Knotted Project\nCraft demonstrations\nLocal bands playing in the church\nNenthead supper and music evening\, 6-11pm at Nenthead Village Hall. Tickets £10 for adults over 16 years\, (Under 16’s are free but must be accompanied by an adult). \nSunday 24 August:\nMine tours at Nenthead Mines (book via their website)\nMining display at the Nenthead Mines barracks building\nCompetition judging and winner announcements\nStanhope Silver band\nQuiz at The Hive – doors open 5pm for start at 5.30pm\, entry is free \nThe competitions are open for all to enter and include: \n\nPhoto competition – recreating or reinterpreting a historical photo of Nenthead’s landscape or people. Entry forms will be available from St John’s Church\, Nenthead and online\, the deadline for entries is Saturday 2 August with drop-off in the box at the church. The entries will be displayed for voting by visitors and the winners and prizes will be announced on Sunday 24 August.\nUnder 16’s photo competition – take a snapshot relating to the theme of nature. Entry forms will be available from St John’s Church\, Nenthead and online\, the deadline for entries is Saturday 2 August with drop-off in the box at the church. Entries will be judged by local photographer Terry Stout. The winners and prizes will be announced on Sunday 24 August.\nNenthead200 Photo Competition Submission Form\nScarecrow competition – mining/ Nenthead history themed scarecrows to be displayed outside homes from Monday 4 August. Entries will be judged by the Leek Club and the winners announced on the afternoon of Sunday 24 August.\nCostume competition – dress up in mining or Nenthead inspired garb and meet at Nenthead Mines car park on Saturday 23 August\, 10.30am\, to process to the playing field for judging. There will be prizes for under 11s\, 11-18 year olds\, adults\, and the best mining costume.\n\nA children’s treasure hunt will be run through the summer holidays with goody bags for those who successfully complete the trail. \n  \nThe event is part of the Land of Lead and Silver project\, run by the North Pennines National Landscape team and funded by The National Lottery Heritage Fund\, thanks to National Lottery players\, and Historic England. \n  \n         
URL:https://northpennines.org.uk/event/nenthead200-weekend/
LOCATION:Nenthead
CATEGORIES:Family-friendly,Historic environment event,Nenthead200
ATTACH;FMTTYPE=image/png:https://northpennines.org.uk/wp-content/uploads/2024/10/nenthead-carnival-bw-photo.png
ORGANIZER;CN="North Pennines National Landscape":MAILTO:communications@northpennines.org.uk
END:VEVENT
BEGIN:VEVENT
DTSTART;TZID=Europe/London:20250823T100000
DTEND;TZID=Europe/London:20250823T170000
DTSTAMP:20260423T083919
CREATED:20250813T103515Z
LAST-MODIFIED:20250813T114958Z
UID:10001928-1755943200-1755968400@northpennines.org.uk
SUMMARY:Nenthead200 animation drop-in
DESCRIPTION:Local animation artist\, Robin Webb\, will be running animation drop-in sessions during the Nenthead200 weekend in the Barracks building a Nenthead Mines on Saturday 23 and Sunday 24 August. \nHave a go at producing your own stop-motion animations using plasticine or cut-outs to bring your Nenthead200 inspired creations to life. No prior knowledge of animation is needed as you’ll be given full instructions on how to create and make your productions. \nYour animations could also form part of a Land of Lead & Silver animation tellIng the story of the North Pennines mining heritage which Robin is working on. \nRobin is also looking for photos new and old\, video footage of the landscape\, places and the people\, any drawings or paintings you have made (they must be your own and original works) for the animation. Contribute your photographs\, videos\, art\, drawings\, paintings\, and even your words or sounds to both inspire and be part of this visual telling of the story of the North Pennines mining heritage. \nImages can be accepted in any digital format\, preferably at full resolution\, videos ideally should be in landscape though not essential\, .MP4 or .mov files are great\, please don’t send in original artwork all you need to do is photograph it in a good light\, try to avoid shadows and reflections from a strong or coloured light. Sounds can be sent in as well either in mp3 or .WAV formats. Any words or written work can be sent in using Microsoft Word or PDF formats. Email Robin here. \nThe event is part of the Land of Lead and Silver project\, run by the North Pennines National Landscape team and funded by The National Lottery Heritage Fund\, thanks to National Lottery players\, and Historic England. \n  \n         
URL:https://northpennines.org.uk/event/nenthead200-animation/2025-08-23/
LOCATION:Nenthead Mines
CATEGORIES:Art,Family-friendly,Historic environment event,Nenthead200
ATTACH;FMTTYPE=image/jpeg:https://northpennines.org.uk/wp-content/uploads/2025/08/Animation-pic-2-1-e1754572548225.jpg
ORGANIZER;CN="North Pennines National Landscape":MAILTO:communications@northpennines.org.uk
END:VEVENT
BEGIN:VEVENT
DTSTART;TZID=Europe/London:20250823T110000
DTEND;TZID=Europe/London:20250823T140000
DTSTAMP:20260423T083919
CREATED:20250813T115052Z
LAST-MODIFIED:20250814T111554Z
UID:10001930-1755946800-1755957600@northpennines.org.uk
SUMMARY:Nenthead200 puppet-making drop-in
DESCRIPTION:Join artist\, Jenny Brook\, for Shadow and story – a magical drop-in puppet-making workshop on Saturday 23 August\, as part of the Nenthead200 celebrations. \nMake your own moving folk puppets inspired by the rich mining heritage\, wildlife\, and folklore of the North Pennines\, from sturdy mine ponies and lead miners to winding adders\, haunting curlews and mysterious moths. \nThis relaxed and creative session is a perfect hands-on way to explore the stories of Nenthead through art and play. Suitable for all ages and abilities. Drop-in to the craft marquee to join the sessions between 11am and 2pm. \nThe event is part of the Land of Lead and Silver project\, run by the North Pennines National Landscape team and funded by The National Lottery Heritage Fund\, thanks to National Lottery players\, and Historic England. \n  \n         
URL:https://northpennines.org.uk/event/nenthead200-animation-copy/
LOCATION:Nenthead
CATEGORIES:Art,Family-friendly,Historic environment event,Nenthead200
ATTACH;FMTTYPE=image/jpeg:https://northpennines.org.uk/wp-content/uploads/2025/08/Puppet-workshop-Nenthead200.jpg
ORGANIZER;CN="North Pennines National Landscape":MAILTO:communications@northpennines.org.uk
END:VEVENT
END:VCALENDAR