BEGIN:VCALENDAR
VERSION:2.0
PRODID:-//North Pennines National Landscape - ECPv6.15.11//NONSGML v1.0//EN
CALSCALE:GREGORIAN
METHOD:PUBLISH
X-ORIGINAL-URL:https://northpennines.org.uk
X-WR-CALDESC:Events for North Pennines National Landscape
REFRESH-INTERVAL;VALUE=DURATION:PT1H
X-Robots-Tag:noindex
X-PUBLISHED-TTL:PT1H
BEGIN:VTIMEZONE
TZID:Europe/London
BEGIN:DAYLIGHT
TZOFFSETFROM:+0000
TZOFFSETTO:+0100
TZNAME:BST
DTSTART:20240331T010000
END:DAYLIGHT
BEGIN:STANDARD
TZOFFSETFROM:+0100
TZOFFSETTO:+0000
TZNAME:GMT
DTSTART:20241027T010000
END:STANDARD
BEGIN:DAYLIGHT
TZOFFSETFROM:+0000
TZOFFSETTO:+0100
TZNAME:BST
DTSTART:20250330T010000
END:DAYLIGHT
BEGIN:STANDARD
TZOFFSETFROM:+0100
TZOFFSETTO:+0000
TZNAME:GMT
DTSTART:20251026T010000
END:STANDARD
BEGIN:DAYLIGHT
TZOFFSETFROM:+0000
TZOFFSETTO:+0100
TZNAME:BST
DTSTART:20260329T010000
END:DAYLIGHT
BEGIN:STANDARD
TZOFFSETFROM:+0100
TZOFFSETTO:+0000
TZNAME:GMT
DTSTART:20261025T010000
END:STANDARD
END:VTIMEZONE
BEGIN:VEVENT
DTSTART;TZID=Europe/London:20251020T103000
DTEND;TZID=Europe/London:20251020T123000
DTSTAMP:20260423T041543
CREATED:20250911T115758Z
LAST-MODIFIED:20250915T132411Z
UID:10001950-1760956200-1760963400@northpennines.org.uk
SUMMARY:Home educators' session - Bowlees
DESCRIPTION:This is a family workshop for home educators\, 20 October\, 10.30am to 12.30pm at Bowlees Visitor Centre. The theme is autumn colours. \nWe will be investigating the trees around Bowlees and how they change in the autumn\, experimenting with natural colourings and using them to create art. \nAfter the workshop feel free to stay around and continue exploring. Please wear sturdy footwear\, and clothing suitable for the weather. \nSuitable for children aged 5 to 12 years. All children need to be accompanied by an adult. (Younger siblings are welcome – they do not need a ticket but please let us know they are coming by emailing( naomi@northpennines.org.uk). \nPlease book using the Ticketsource link \n\n\n\n                \n                \n\n\n  \n 
URL:https://northpennines.org.uk/event/home-educators-session-bowlees-3/
LOCATION:Bowlees Visitor Centre\, Newbiggin\, DL12 0XF
CATEGORIES:Family-friendly,Home education
ATTACH;FMTTYPE=image/jpeg:https://northpennines.org.uk/wp-content/uploads/2025/09/IMG_6699-scaled.jpg
ORGANIZER;CN="North Pennines National Landscape":MAILTO:communications@northpennines.org.uk
END:VEVENT
END:VCALENDAR