BEGIN:VCALENDAR
VERSION:2.0
PRODID:-//North Pennines National Landscape - ECPv6.15.11//NONSGML v1.0//EN
CALSCALE:GREGORIAN
METHOD:PUBLISH
X-WR-CALNAME:North Pennines National Landscape
X-ORIGINAL-URL:https://northpennines.org.uk
X-WR-CALDESC:Events for North Pennines National Landscape
REFRESH-INTERVAL;VALUE=DURATION:PT1H
X-Robots-Tag:noindex
X-PUBLISHED-TTL:PT1H
BEGIN:VTIMEZONE
TZID:Europe/London
BEGIN:DAYLIGHT
TZOFFSETFROM:+0000
TZOFFSETTO:+0100
TZNAME:BST
DTSTART:20240331T010000
END:DAYLIGHT
BEGIN:STANDARD
TZOFFSETFROM:+0100
TZOFFSETTO:+0000
TZNAME:GMT
DTSTART:20241027T010000
END:STANDARD
BEGIN:DAYLIGHT
TZOFFSETFROM:+0000
TZOFFSETTO:+0100
TZNAME:BST
DTSTART:20250330T010000
END:DAYLIGHT
BEGIN:STANDARD
TZOFFSETFROM:+0100
TZOFFSETTO:+0000
TZNAME:GMT
DTSTART:20251026T010000
END:STANDARD
BEGIN:DAYLIGHT
TZOFFSETFROM:+0000
TZOFFSETTO:+0100
TZNAME:BST
DTSTART:20260329T010000
END:DAYLIGHT
BEGIN:STANDARD
TZOFFSETFROM:+0100
TZOFFSETTO:+0000
TZNAME:GMT
DTSTART:20261025T010000
END:STANDARD
END:VTIMEZONE
BEGIN:VEVENT
DTSTART;TZID=Europe/London:20251024T200000
DTEND;TZID=Europe/London:20251024T230000
DTSTAMP:20260423T041414
CREATED:20250818T131810Z
LAST-MODIFIED:20250821T135403Z
UID:10001900-1761336000-1761346800@northpennines.org.uk
SUMMARY:Dark sky astronomy and stargazing
DESCRIPTION:The event will begin with a welcome from the lead astronomer at Grassholme Observatory\, Gary Fildes. Gary is a very experienced science communicator and astronomer\, and founder of the Kielder Observatory\, where he was Director and CEO for over 11 years. During the North Pennines Stargazing Festival there are three evenings to choose from\, Friday 24\,  Saturday 25 and Sunday 26 October\, 8pm to 11pm. \nAfter the welcome Gary will take you on a whistle-stop tour of the Universe. Following this\, you will be split into groups and\, weather depending\, start observing the sky\, with telescopes and cameras. \nWith no Moon in the sky\, you will look out for the Milky Way\, and many deep sky objects like galaxies\, nebulae and star clusters. You will then use the robotic telescope to scour the skies for other jewels in the cosmos. Then it’s back into the classroom for a hot drink and questions. \nBring warm clothes – it can get chilly when you are outside. The observatory\, classroom and toilets are accessible. This is a pet-free event. \nBooking\n\nVisit https://www.grassholmeobservatory.com/book to book and for full terms and conditions.\nAdult: £24 (16+)\nFamily: £70 (group ticket for 3-4 people\, max of 4\, min of 3 – at least 1 child)\nConcession: £22 (65+\, 1-16 years or Blue Badge holder)\n\nGrassholme Observatory is wheelchair accessible and there are accessible toilets on site. For more information about Grassholme Waterside Park visit https://www.watersideparksuk.com/park/grassholme/ \nImage: The Milky Way above Grassholme Observatory © Grassholme Observatory. \nThis Grassholme Observatory (www.grassholmeobservatory.com) event is part of the North Pennines Stargazing Festival running from 22 October to 2 November 2025 – www.NorthPenninesStarFest.org #NorthPennStarFest25 #NPennDarkSkies \nFor directions visit www.grassholmeobservatory.com/contact/ \n  \n  \n 
URL:https://northpennines.org.uk/event/dark-sky-astronomy-and-stargazing-25/2025-10-24/
LOCATION:Grassholme Observatory\, DL12 0PW
CATEGORIES:Family-friendly,Stargazing
ATTACH;FMTTYPE=image/jpeg:https://northpennines.org.uk/wp-content/uploads/2025/08/Dark-sky-astronomy-and-stargazing-c-Grassholme-Observatory.jpg
END:VEVENT
END:VCALENDAR