BEGIN:VCALENDAR
VERSION:2.0
PRODID:-//North Pennines National Landscape - ECPv6.15.11//NONSGML v1.0//EN
CALSCALE:GREGORIAN
METHOD:PUBLISH
X-WR-CALNAME:North Pennines National Landscape
X-ORIGINAL-URL:https://northpennines.org.uk
X-WR-CALDESC:Events for North Pennines National Landscape
REFRESH-INTERVAL;VALUE=DURATION:PT1H
X-Robots-Tag:noindex
X-PUBLISHED-TTL:PT1H
BEGIN:VTIMEZONE
TZID:Europe/London
BEGIN:DAYLIGHT
TZOFFSETFROM:+0000
TZOFFSETTO:+0100
TZNAME:BST
DTSTART:20240331T010000
END:DAYLIGHT
BEGIN:STANDARD
TZOFFSETFROM:+0100
TZOFFSETTO:+0000
TZNAME:GMT
DTSTART:20241027T010000
END:STANDARD
BEGIN:DAYLIGHT
TZOFFSETFROM:+0000
TZOFFSETTO:+0100
TZNAME:BST
DTSTART:20250330T010000
END:DAYLIGHT
BEGIN:STANDARD
TZOFFSETFROM:+0100
TZOFFSETTO:+0000
TZNAME:GMT
DTSTART:20251026T010000
END:STANDARD
BEGIN:DAYLIGHT
TZOFFSETFROM:+0000
TZOFFSETTO:+0100
TZNAME:BST
DTSTART:20260329T010000
END:DAYLIGHT
BEGIN:STANDARD
TZOFFSETFROM:+0100
TZOFFSETTO:+0000
TZNAME:GMT
DTSTART:20261025T010000
END:STANDARD
END:VTIMEZONE
BEGIN:VEVENT
DTSTART;TZID=Europe/London:20251025T100000
DTEND;TZID=Europe/London:20251025T160000
DTSTAMP:20260423T041414
CREATED:20250815T090825Z
LAST-MODIFIED:20250821T134910Z
UID:10001917-1761386400-1761408000@northpennines.org.uk
SUMMARY:Moon trail at Bowlees Visitor Centre
DESCRIPTION:Our self-guided trail this half term holiday is a Moon-themed treasure trail\, all part of the North Pennines Stargazing Festival 2025. \nExplore the woods around Bowlees Visitor Centre with your family. Follow the trail around the site\, taking you on an exciting journey to the Moon. As you follow the trail you will pick up clues in the form of letters – spell out the word and you will receive a starry prize. \nPick up your instruction leaflet and answer sheet at the visitor centre – £1 per child. No booking required – you can just turn up and join in at your own pace. \nThe trail is outside – so please come dressed for the weather. \n\nAvailable from Saturday 25 October to Sunday 2 November inclusive (10am to 4pm).\n\nImage: The Moon © Graham Relf \nThis event is part of the North Pennines Stargazing Festival running from 22 October to 2 November 2025 – www.NorthPenninesStarFest.org\n#NorthPennStarFest25 #NPennDarkSkies
URL:https://northpennines.org.uk/event/moon-trail-at-bowlees-visitor-centre/
LOCATION:Bowlees Visitor Centre\, Newbiggin\, DL12 0XF
CATEGORIES:Bowlees Visitor Centre events,Family-friendly,Stargazing
ATTACH;FMTTYPE=image/jpeg:https://northpennines.org.uk/wp-content/uploads/2025/08/Moon_GRelf-MEDIUM.jpg
ORGANIZER;CN="North Pennines National Landscape":MAILTO:communications@northpennines.org.uk
END:VEVENT
BEGIN:VEVENT
DTSTART;TZID=Europe/London:20251025T190000
DTEND;TZID=Europe/London:20251025T203000
DTSTAMP:20260423T041414
CREATED:20250818T132958Z
LAST-MODIFIED:20250822T105442Z
UID:10001905-1761418800-1761424200@northpennines.org.uk
SUMMARY:Stargazing at Raby Castle
DESCRIPTION:The team at Raby Castle is delighted to invite you\, on Saturday 25 October\, 7pm to 8.30pm\, and also the later time of 9pm to 10.30pm\, to an evening of stargazing at the historic castle\, nestled within the serene expanse of its beautiful parkland. This exclusive event offers a rare opportunity to explore the night sky under the expert guidance of a professional astronomer. \nWhether you are an experienced stargazer or a newcomer to astronomy\, learn valuable insights into the celestial wonders above. This event is an exceptional occasion to enjoy the beauty of the cosmos\, set against the timeless backdrop of Raby Castle\, one of North East England’s most renowned landmarks. \nBring warm/waterproof clothes and wear suitable shoes. No dogs please – they’re a trip hazard in the dark. \nThe sky can sometimes be restricted by cloud cover or poor conditions. This is just the nature of the event and is beyond the organisers control. Whatever the sky conditions you are sure of a night of fascinating and insightful information \nIf you have any questions on accessibility contact Raby Castle in advance on 01833 660202 or admin@raby.co.uk \nBooking\n\nPre-booking is essential via https://www.raby.co.uk/events/stargazing-at-raby-castle-3/\n\nImage: The night sky at Raby Castle © Gary Lintern Photography. \nThis Raby Castle (https://www.raby.co.uk/raby-castle/) event is part of the North Pennines Stargazing Festival running from 22 October to 2 November 2025 – www.NorthPenninesStarFest.org #NorthPennStarFest25 #NPennDarkSkies
URL:https://northpennines.org.uk/event/stargazing-at-raby-castle/2025-10-25/3/
LOCATION:Raby Castle\, Raby Castle\, Staindrop\, DL2 3AH
CATEGORIES:Family-friendly,Stargazing
ATTACH;FMTTYPE=image/jpeg:https://northpennines.org.uk/wp-content/uploads/2025/08/Stargazing-at-Raby-Castle-c-Gary-Lintern-Photography_Lower-scaled.jpg
ORGANIZER;CN="Raby Castle":MAILTO:admin@raby.co.uk
END:VEVENT
BEGIN:VEVENT
DTSTART;TZID=Europe/London:20251025T200000
DTEND;TZID=Europe/London:20251025T230000
DTSTAMP:20260423T041414
CREATED:20250818T131810Z
LAST-MODIFIED:20250821T135403Z
UID:10001904-1761422400-1761433200@northpennines.org.uk
SUMMARY:Dark sky astronomy and stargazing
DESCRIPTION:The event will begin with a welcome from the lead astronomer at Grassholme Observatory\, Gary Fildes. Gary is a very experienced science communicator and astronomer\, and founder of the Kielder Observatory\, where he was Director and CEO for over 11 years. During the North Pennines Stargazing Festival there are three evenings to choose from\, Friday 24\,  Saturday 25 and Sunday 26 October\, 8pm to 11pm. \nAfter the welcome Gary will take you on a whistle-stop tour of the Universe. Following this\, you will be split into groups and\, weather depending\, start observing the sky\, with telescopes and cameras. \nWith no Moon in the sky\, you will look out for the Milky Way\, and many deep sky objects like galaxies\, nebulae and star clusters. You will then use the robotic telescope to scour the skies for other jewels in the cosmos. Then it’s back into the classroom for a hot drink and questions. \nBring warm clothes – it can get chilly when you are outside. The observatory\, classroom and toilets are accessible. This is a pet-free event. \nBooking\n\nVisit https://www.grassholmeobservatory.com/book to book and for full terms and conditions.\nAdult: £24 (16+)\nFamily: £70 (group ticket for 3-4 people\, max of 4\, min of 3 – at least 1 child)\nConcession: £22 (65+\, 1-16 years or Blue Badge holder)\n\nGrassholme Observatory is wheelchair accessible and there are accessible toilets on site. For more information about Grassholme Waterside Park visit https://www.watersideparksuk.com/park/grassholme/ \nImage: The Milky Way above Grassholme Observatory © Grassholme Observatory. \nThis Grassholme Observatory (www.grassholmeobservatory.com) event is part of the North Pennines Stargazing Festival running from 22 October to 2 November 2025 – www.NorthPenninesStarFest.org #NorthPennStarFest25 #NPennDarkSkies \nFor directions visit www.grassholmeobservatory.com/contact/ \n  \n  \n 
URL:https://northpennines.org.uk/event/dark-sky-astronomy-and-stargazing-25/2025-10-25/
LOCATION:Grassholme Observatory\, DL12 0PW
CATEGORIES:Family-friendly,Stargazing
ATTACH;FMTTYPE=image/jpeg:https://northpennines.org.uk/wp-content/uploads/2025/08/Dark-sky-astronomy-and-stargazing-c-Grassholme-Observatory.jpg
END:VEVENT
BEGIN:VEVENT
DTSTART;TZID=Europe/London:20251025T210000
DTEND;TZID=Europe/London:20251025T223000
DTSTAMP:20260423T041414
CREATED:20250818T132958Z
LAST-MODIFIED:20250822T105442Z
UID:10001906-1761426000-1761431400@northpennines.org.uk
SUMMARY:Stargazing at Raby Castle
DESCRIPTION:The team at Raby Castle is delighted to invite you\, on Saturday 25 October\, 7pm to 8.30pm\, and also the later time of 9pm to 10.30pm\, to an evening of stargazing at the historic castle\, nestled within the serene expanse of its beautiful parkland. This exclusive event offers a rare opportunity to explore the night sky under the expert guidance of a professional astronomer. \nWhether you are an experienced stargazer or a newcomer to astronomy\, learn valuable insights into the celestial wonders above. This event is an exceptional occasion to enjoy the beauty of the cosmos\, set against the timeless backdrop of Raby Castle\, one of North East England’s most renowned landmarks. \nBring warm/waterproof clothes and wear suitable shoes. No dogs please – they’re a trip hazard in the dark. \nThe sky can sometimes be restricted by cloud cover or poor conditions. This is just the nature of the event and is beyond the organisers control. Whatever the sky conditions you are sure of a night of fascinating and insightful information \nIf you have any questions on accessibility contact Raby Castle in advance on 01833 660202 or admin@raby.co.uk \nBooking\n\nPre-booking is essential via https://www.raby.co.uk/events/stargazing-at-raby-castle-3/\n\nImage: The night sky at Raby Castle © Gary Lintern Photography. \nThis Raby Castle (https://www.raby.co.uk/raby-castle/) event is part of the North Pennines Stargazing Festival running from 22 October to 2 November 2025 – www.NorthPenninesStarFest.org #NorthPennStarFest25 #NPennDarkSkies
URL:https://northpennines.org.uk/event/stargazing-at-raby-castle/2025-10-25/2/
LOCATION:Raby Castle\, Raby Castle\, Staindrop\, DL2 3AH
CATEGORIES:Family-friendly,Stargazing
ATTACH;FMTTYPE=image/jpeg:https://northpennines.org.uk/wp-content/uploads/2025/08/Stargazing-at-Raby-Castle-c-Gary-Lintern-Photography_Lower-scaled.jpg
ORGANIZER;CN="Raby Castle":MAILTO:admin@raby.co.uk
END:VEVENT
END:VCALENDAR