BEGIN:VCALENDAR
VERSION:2.0
PRODID:-//North Pennines National Landscape - ECPv6.15.11//NONSGML v1.0//EN
CALSCALE:GREGORIAN
METHOD:PUBLISH
X-ORIGINAL-URL:https://northpennines.org.uk
X-WR-CALDESC:Events for North Pennines National Landscape
REFRESH-INTERVAL;VALUE=DURATION:PT1H
X-Robots-Tag:noindex
X-PUBLISHED-TTL:PT1H
BEGIN:VTIMEZONE
TZID:Europe/London
BEGIN:DAYLIGHT
TZOFFSETFROM:+0000
TZOFFSETTO:+0100
TZNAME:BST
DTSTART:20230326T010000
END:DAYLIGHT
BEGIN:STANDARD
TZOFFSETFROM:+0100
TZOFFSETTO:+0000
TZNAME:GMT
DTSTART:20231029T010000
END:STANDARD
BEGIN:DAYLIGHT
TZOFFSETFROM:+0000
TZOFFSETTO:+0100
TZNAME:BST
DTSTART:20240331T010000
END:DAYLIGHT
BEGIN:STANDARD
TZOFFSETFROM:+0100
TZOFFSETTO:+0000
TZNAME:GMT
DTSTART:20241027T010000
END:STANDARD
BEGIN:DAYLIGHT
TZOFFSETFROM:+0000
TZOFFSETTO:+0100
TZNAME:BST
DTSTART:20250330T010000
END:DAYLIGHT
BEGIN:STANDARD
TZOFFSETFROM:+0100
TZOFFSETTO:+0000
TZNAME:GMT
DTSTART:20251026T010000
END:STANDARD
END:VTIMEZONE
BEGIN:VEVENT
DTSTART;TZID=Europe/London:20240604T100000
DTEND;TZID=Europe/London:20240604T120000
DTSTAMP:20260424T050154
CREATED:20240417T130849Z
LAST-MODIFIED:20240417T130849Z
UID:10000996-1717495200-1717502400@northpennines.org.uk
SUMMARY:Bigger\, better\, more connected - ecological restoration at RSPB Geltsdale
DESCRIPTION:Join RSPB Geltsdale on Tuesday 4 June\, 10am to 12 noon\, for a guided walk looking at how nature and agriculture can co-exist in the English uplands. You will look at management for breeding waders and the ‘re-wiggling’ of Howgill Beck\, grazing cattle with NoFence collars and the Bruthwaite Forest native woodland planting scheme. \nFurther information about RSPB Geltsdale is available at https://www.rspb.org.uk/days-out/reserves/geltsdale  phone: 01697 746717 geltsdale@rspb.org.uk.\nContact Glen Swainson (Senior Site Manager) on 07736 460522 / glen.swainson@rspb.org.uk with any specific questions. \nThe event is aimed at children over 12 years and adults with an interest in nature conservation. No dogs please. Public toilets will be available half way round. Meet at the RSPB Geltsdale car park. \nThis event is free but please book using the Ticketsource link to book. \n\n\n\n                \n                \n\n\nThis event is part of North Pennines NatureFest running from Saturday 24 May to Sunday 9 June 2024. See the full programme at www.NorthPenninesNatureFest.org.uk #NorthPenninesNatureFest24
URL:https://northpennines.org.uk/event/bigger-better-more-connected-ecological-restoration-at-rspb-geltsdale/
LOCATION:RSPB Geltsdale\, RSPB Geltsdale\, Stagsike Cottages\, Brampton CA8 2PN\, CA8 2PN\, United Kingdom
CATEGORIES:Guided walk,Walking
ATTACH;FMTTYPE=image/jpeg:https://northpennines.org.uk/wp-content/uploads/2023/09/RSPB-Geltsdale-cattle-in-Bruthwaite-c-Ian-Ryding.jpg
ORGANIZER;CN="RSPB Geltsdale":MAILTO:geltsdale@rspb.org.uk
END:VEVENT
BEGIN:VEVENT
DTSTART;TZID=Europe/London:20240604T140000
DTEND;TZID=Europe/London:20240604T160000
DTSTAMP:20260424T050154
CREATED:20240315T161126Z
LAST-MODIFIED:20240327T151453Z
UID:10000958-1717509600-1717516800@northpennines.org.uk
SUMMARY:Globeflowers and early-flowering delights
DESCRIPTION:Join us for a guided botany walk of approximately 3.2km\, (2 miles)\, along The Pennine Way near Low Force waterfall\, to see early-flowering wildflowers\, such as globeflowers\, mountain everlasting\, early purple orchid\, bird’s-eye primrose\, Lady’s-mantles and eyebrights growing alongside the river Tees. \nThe guided walk starts from Bowlees Visitor Centre car park on Tuesday 4 June at 2pm to 4pm. Please wear suitable footwear as the terrain can be rocky in parts. £2 per person. \nThis event is part of North Pennines NatureFest running from Saturday 24 May to Sunday 9 June 2024. See the full programme at www.NorthPenninesNatureFest.org.uk #NorthPenninesNatureFest24 \nPlease use the Ticketsource link to book. \n\n\n\n                \n                \n\n\n 
URL:https://northpennines.org.uk/event/globeflowers-and-early-flowering-delights/
LOCATION:Bowlees Visitor Centre\, Newbiggin\, DL12 0XF
CATEGORIES:Guided walk
ATTACH;FMTTYPE=image/jpeg:https://northpennines.org.uk/wp-content/uploads/2023/06/Globeflower-on-bank-of-Tees-Cronkley-Bridge-W.Bowman-June-2023-.jpg
ORGANIZER;CN="North Pennines National Landscape":MAILTO:communications@northpennines.org.uk
END:VEVENT
END:VCALENDAR