BEGIN:VCALENDAR
VERSION:2.0
PRODID:-//North Pennines National Landscape - ECPv6.15.11//NONSGML v1.0//EN
CALSCALE:GREGORIAN
METHOD:PUBLISH
X-WR-CALNAME:North Pennines National Landscape
X-ORIGINAL-URL:https://northpennines.org.uk
X-WR-CALDESC:Events for North Pennines National Landscape
REFRESH-INTERVAL;VALUE=DURATION:PT1H
X-Robots-Tag:noindex
X-PUBLISHED-TTL:PT1H
BEGIN:VTIMEZONE
TZID:Europe/London
BEGIN:DAYLIGHT
TZOFFSETFROM:+0000
TZOFFSETTO:+0100
TZNAME:BST
DTSTART:20230326T010000
END:DAYLIGHT
BEGIN:STANDARD
TZOFFSETFROM:+0100
TZOFFSETTO:+0000
TZNAME:GMT
DTSTART:20231029T010000
END:STANDARD
BEGIN:DAYLIGHT
TZOFFSETFROM:+0000
TZOFFSETTO:+0100
TZNAME:BST
DTSTART:20240331T010000
END:DAYLIGHT
BEGIN:STANDARD
TZOFFSETFROM:+0100
TZOFFSETTO:+0000
TZNAME:GMT
DTSTART:20241027T010000
END:STANDARD
BEGIN:DAYLIGHT
TZOFFSETFROM:+0000
TZOFFSETTO:+0100
TZNAME:BST
DTSTART:20250330T010000
END:DAYLIGHT
BEGIN:STANDARD
TZOFFSETFROM:+0100
TZOFFSETTO:+0000
TZNAME:GMT
DTSTART:20251026T010000
END:STANDARD
END:VTIMEZONE
BEGIN:VEVENT
DTSTART;TZID=Europe/London:20240607T100000
DTEND;TZID=Europe/London:20240607T120000
DTSTAMP:20260424T050000
CREATED:20240402T164942Z
LAST-MODIFIED:20240418T144900Z
UID:10000980-1717754400-1717761600@northpennines.org.uk
SUMMARY:Ancient woodland walk
DESCRIPTION:As part of the North Pennines NatureFest\, join us for a guided gentle walk of 2 mile/3.2km walk around Tunstall Reservoir near Wolsingham in Weardale\, including the Backstone Bank ancient woodland. This free event is on Friday 7 June\, 10am to 12 noon and is family friendly\, ideally suited for children above the age of four due to the terrain and distance. It is not suitable for dogs. \nPlease wear sturdy footwear and clothing suitable for the weather. Please bring a drink. The walk will begin from Tunstall Reservoir car park. \nPlease use the ticketsource link to book. \n\n\n\n                \n                \n\n\n  \n \n  \nThis event is part of North Pennines NatureFest running from Saturday 24 May to Sunday 9 June 2024. See the full programme at www.NorthPenninesNatureFest.org.uk  #NorthPenninesNatureFest24
URL:https://northpennines.org.uk/event/ancient-woodland-walk/
LOCATION:Tunstall Reservoir
CATEGORIES:Family-friendly,Guided walk
ATTACH;FMTTYPE=image/jpeg:https://northpennines.org.uk/wp-content/uploads/2019/10/derwent_gorge.jpg
ORGANIZER;CN="North Pennines National Landscape":MAILTO:communications@northpennines.org.uk
END:VEVENT
END:VCALENDAR