BEGIN:VCALENDAR
VERSION:2.0
PRODID:-//North Pennines National Landscape - ECPv6.15.11//NONSGML v1.0//EN
CALSCALE:GREGORIAN
METHOD:PUBLISH
X-WR-CALNAME:North Pennines National Landscape
X-ORIGINAL-URL:https://northpennines.org.uk
X-WR-CALDESC:Events for North Pennines National Landscape
REFRESH-INTERVAL;VALUE=DURATION:PT1H
X-Robots-Tag:noindex
X-PUBLISHED-TTL:PT1H
BEGIN:VTIMEZONE
TZID:Europe/London
BEGIN:DAYLIGHT
TZOFFSETFROM:+0000
TZOFFSETTO:+0100
TZNAME:BST
DTSTART:20230326T010000
END:DAYLIGHT
BEGIN:STANDARD
TZOFFSETFROM:+0100
TZOFFSETTO:+0000
TZNAME:GMT
DTSTART:20231029T010000
END:STANDARD
BEGIN:DAYLIGHT
TZOFFSETFROM:+0000
TZOFFSETTO:+0100
TZNAME:BST
DTSTART:20240331T010000
END:DAYLIGHT
BEGIN:STANDARD
TZOFFSETFROM:+0100
TZOFFSETTO:+0000
TZNAME:GMT
DTSTART:20241027T010000
END:STANDARD
BEGIN:DAYLIGHT
TZOFFSETFROM:+0000
TZOFFSETTO:+0100
TZNAME:BST
DTSTART:20250330T010000
END:DAYLIGHT
BEGIN:STANDARD
TZOFFSETFROM:+0100
TZOFFSETTO:+0000
TZNAME:GMT
DTSTART:20251026T010000
END:STANDARD
END:VTIMEZONE
BEGIN:VEVENT
DTSTART;TZID=Europe/London:20240622T100000
DTEND;TZID=Europe/London:20240622T150000
DTSTAMP:20260424T050042
CREATED:20240221T160110Z
LAST-MODIFIED:20240509T092706Z
UID:10000949-1719050400-1719068400@northpennines.org.uk
SUMMARY:Reading the landscape
DESCRIPTION:Spend the day exploring how to read the landscape on Saturday 22 June\, 10am to 3pm. You will be introduced to geological maps\, how they are made and what they can show us with local geologist Brian Young. \nPlease note that the date has altered from 8 June to 22 June. \nThis event will involve a gentle walk of around 3 miles (4.5km) on footpaths starting at Bowlees Visitor Centre\, exploring the variety of rocks and features in the area and seeing how they affect the landscape and vegetation. Along the way\, you will have a go at creating your own geological map of the route. No prior geological knowledge is required\, just an interest in the countryside. \nThis will be a full day outdoors\, so please come dressed for the weather including sturdy shoes\, and bring water-proofs and lunch or snacks. Some sections of path are uneven and there are a couple of stiles to climb over along the route. Ideally suited for adults. £6 per person. \nThis event is part of North Pennines NatureFest running from Saturday 24 May to Sunday 9 June 2024 and celebrates European Geoparks Week. See the full programme at www.NorthPenninesNatureFest.org.uk #NorthPenninesNatureFest24 \nPlease book using the Ticketsource link \n\n\n\n                \n                \n\n\n  \n \n  \n© North Pennines National Landscape
URL:https://northpennines.org.uk/event/reading-the-landscape/
LOCATION:Bowlees Visitor Centre\, Newbiggin\, DL12 0XF
CATEGORIES:Guided walk
ATTACH;FMTTYPE=image/jpeg:https://northpennines.org.uk/wp-content/uploads/2024/02/June-2011.-R.-Barrett-203.jpg
ORGANIZER;CN="North Pennines National Landscape":MAILTO:communications@northpennines.org.uk
END:VEVENT
BEGIN:VEVENT
DTSTART;TZID=Europe/London:20240622T103000
DTEND;TZID=Europe/London:20240622T123000
DTSTAMP:20260424T050042
CREATED:20240117T145953Z
LAST-MODIFIED:20240614T155555Z
UID:10000332-1719052200-1719059400@northpennines.org.uk
SUMMARY:Saturday stroll - a guided walk
DESCRIPTION:Join us for a guided walk through a historic landscape at a relaxed pace on the last Saturday of each month. \nThe walk starting at Garrigill\, near Alston\, on 22 June\, will begin at 10.30am and finish at approximately 12.30pm. You are welcome to join us after the walk for free refreshments finishing by 2pm. \nAll ages are welcome (children must be accompanied by an adult and must be able to walk or be carried as the paths may not be suitable for pushchairs). Well behaved dogs on a short lead are welcome. The walks will be approximately 3 miles in length on mostly flat ground and with rest breaks along the way. The final details of the walk are subject to change\, please check back closer to the event for final details. \nOptional donation – suggested amount £2. We will use donations to continue the work of the Land of Lead and Silver project supporting volunteers and community activities after the project ends. \nTo book please use the Ticketsource link \n\n\n\n                \n                \n\n\n  \n       
URL:https://northpennines.org.uk/event/saturday-stroll-garrigill/
LOCATION:Garrigill\, CA9 3DS
CATEGORIES:Guided walk,Walking
ATTACH;FMTTYPE=image/jpeg:https://northpennines.org.uk/wp-content/uploads/2023/04/circular-walk-sign-waymarker-moss-gatepost-Bowlees.jpg
ORGANIZER;CN="North Pennines National Landscape":MAILTO:communications@northpennines.org.uk
END:VEVENT
END:VCALENDAR