BEGIN:VCALENDAR
VERSION:2.0
PRODID:-//North Pennines National Landscape - ECPv6.15.11//NONSGML v1.0//EN
CALSCALE:GREGORIAN
METHOD:PUBLISH
X-ORIGINAL-URL:https://northpennines.org.uk
X-WR-CALDESC:Events for North Pennines National Landscape
REFRESH-INTERVAL;VALUE=DURATION:PT1H
X-Robots-Tag:noindex
X-PUBLISHED-TTL:PT1H
BEGIN:VTIMEZONE
TZID:Europe/London
BEGIN:DAYLIGHT
TZOFFSETFROM:+0000
TZOFFSETTO:+0100
TZNAME:BST
DTSTART:20240331T010000
END:DAYLIGHT
BEGIN:STANDARD
TZOFFSETFROM:+0100
TZOFFSETTO:+0000
TZNAME:GMT
DTSTART:20241027T010000
END:STANDARD
BEGIN:DAYLIGHT
TZOFFSETFROM:+0000
TZOFFSETTO:+0100
TZNAME:BST
DTSTART:20250330T010000
END:DAYLIGHT
BEGIN:STANDARD
TZOFFSETFROM:+0100
TZOFFSETTO:+0000
TZNAME:GMT
DTSTART:20251026T010000
END:STANDARD
BEGIN:DAYLIGHT
TZOFFSETFROM:+0000
TZOFFSETTO:+0100
TZNAME:BST
DTSTART:20260329T010000
END:DAYLIGHT
BEGIN:STANDARD
TZOFFSETFROM:+0100
TZOFFSETTO:+0000
TZNAME:GMT
DTSTART:20261025T010000
END:STANDARD
BEGIN:DAYLIGHT
TZOFFSETFROM:+0000
TZOFFSETTO:+0100
TZNAME:BST
DTSTART:20270328T010000
END:DAYLIGHT
BEGIN:STANDARD
TZOFFSETFROM:+0100
TZOFFSETTO:+0000
TZNAME:GMT
DTSTART:20271031T010000
END:STANDARD
END:VTIMEZONE
BEGIN:VEVENT
DTSTART;TZID=Europe/London:20250828T093000
DTEND;TZID=Europe/London:20250828T143000
DTSTAMP:20260424T010605
CREATED:20250710T120245Z
LAST-MODIFIED:20250728T143346Z
UID:10001862-1756373400-1756391400@northpennines.org.uk
SUMMARY:Guided walk - people\, place and nature
DESCRIPTION:A guided circular walk in celebration of the Pennine Way’s 60th anniversary starting from The Langdon Beck Hotel. \nThe route begins from one of the remotest hotels in Britain\, Thursday 28 August\, 9.30am to 2.30pm. We will be exploring the farmed landscape and nature reserves of Upper Teesdale. Learn how the historic and current land use of the North Pennines National Landscape have formed what you see\, and the history of people the routes and paths forming the Pennine Way. \nAs the event will be taking place outdoors\, please dress for the weather. We recommend walking boots. Please bring food and drinks. \nAll ages are welcome (children must be accompanied by an adult and must be able to walk or be carried as the paths are not be suitable for pushchairs). Well behaved dogs on a short lead are welcome. \nSuggested donation only £3 per person\, or £10 for family/group of four. Your donation enables the North Pennines National Landscape team to protect and restore this special place and help people connect with nature. \nPlease book using the link to Ticketsource \n\n\n\n                \n                \n\n\nImage credit: Richard Laidler
URL:https://northpennines.org.uk/event/guided-walk-people-place-and-nature/
LOCATION:Langdon Beck
CATEGORIES:Guided walk
ATTACH;FMTTYPE=image/jpeg:https://northpennines.org.uk/wp-content/uploads/2021/01/Towards-Cronkley-Fell-from-Holwick-Fell.jpg
ORGANIZER;CN="North Pennines National Landscape":MAILTO:communications@northpennines.org.uk
END:VEVENT
BEGIN:VEVENT
DTSTART;TZID=Europe/London:20251030T160000
DTEND;TZID=Europe/London:20251030T200000
DTSTAMP:20260424T010605
CREATED:20250910T150118Z
LAST-MODIFIED:20251029T165833Z
UID:10001948-1761840000-1761854400@northpennines.org.uk
SUMMARY:Lantern making and night-time mine trip
DESCRIPTION:Celebrate the dark skies of the North Pennines at our evening workshop held at Nenthead Mines\, near Alston\, Thursday\, 30 October\, 4pm to 8pm. \nDuring this workshop you will learn how to make your own paper lantern that you will get to take away with you. The lantern-making was to be followed by a mine trip but due to unforeseen circumstances\, this portion of this event has had to be cancelled. We apologise for any disappointment this will cause. \nSuitable for children ages 7+. \nThis event is part of the North Pennines Stargazing Festival running from 22 October to 2 November 2025 – www.NorthPenninesStarFest.org\n#NorthPennStarFest25 #NPennDarkSkies \nPlease use the Ticketsource link to book. \n\n\n\n                \n                \n\n\nNo designated parking\, but drop-off near door. Not wheelchair accessible. No accessible toilet. \nThis event is not suitable for dogs. \n      \n 
URL:https://northpennines.org.uk/event/lantern-making-and-night-time-mine-trip/2025-10-30/
LOCATION:Nenthead Mines
CATEGORIES:Guided walk
ATTACH;FMTTYPE=image/jpeg:https://northpennines.org.uk/wp-content/uploads/2024/09/lanterns-2-scaled-e1758631048289.jpg
END:VEVENT
BEGIN:VEVENT
DTSTART;TZID=Europe/London:20251031T160000
DTEND;TZID=Europe/London:20251031T200000
DTSTAMP:20260424T010605
CREATED:20250910T145452Z
LAST-MODIFIED:20251029T170303Z
UID:10001947-1761926400-1761940800@northpennines.org.uk
SUMMARY:Lantern making and night-time mine trip
DESCRIPTION:Celebrate the dark skies of the North Pennines at this evening workshop held at Nenthead Mines\, near Alston\, Saturday\, 31 October\, 4pm to 8pm. \nDuring this workshop you will learn how to make your own paper lantern that you will get to take away with you. The lantern-making was to be followed by a mine trip but due to unforeseen circumstances\, this portion of this event has had to be cancelled. We apologise for any disappointment this will cause. \nSuitable for children ages 7+. \nThis event is part of the North Pennines Stargazing Festival running from 22 October to 2 November 2025 – www.NorthPenninesStarFest.org\n#NorthPennStarFest25 #NPennDarkSkies \nPlease use the Ticketsource link to book. \n\n\n\n                \n                \n\n\nNo designated parking\, but drop-off near door. Not wheelchair accessible. No accessible toilet. \nThis event is not suitable for dogs. \n      \n 
URL:https://northpennines.org.uk/event/lantern-making-and-night-time-mine-trip-2/
LOCATION:Nenthead Mines
CATEGORIES:Guided walk
ATTACH;FMTTYPE=image/jpeg:https://northpennines.org.uk/wp-content/uploads/2024/09/lanterns-2-scaled-e1758631048289.jpg
ORGANIZER;CN="North Pennines National Landscape":MAILTO:communications@northpennines.org.uk
END:VEVENT
BEGIN:VEVENT
DTSTART;TZID=Europe/London:20251129T103000
DTEND;TZID=Europe/London:20251129T143000
DTSTAMP:20260424T010605
CREATED:20250127T111745Z
LAST-MODIFIED:20251022T161401Z
UID:10001255-1764412200-1764426600@northpennines.org.uk
SUMMARY:Saturday stroll - a guided walk
DESCRIPTION:Join us for a guided walk through a historic landscape at a relaxed pace on the last Saturday of each month. \nThe walk starting at Bowlees Visitor Centre\, Teesdale\, on 29 November will begin at 10.30am and finish at approximately 1pm. You are welcome to join us after the walk for free refreshments finishing by 2:30pm. \nAll ages are welcome (children must be accompanied by an adult and must be able to walk or be carried as the paths may not be suitable for pushchairs). Well behaved dogs on a short lead are welcome. The walks will be approximately 3 miles in length on mostly flat ground and with rest breaks along the way. \nThe final details of the walk are subject to change\, please check back closer to the event for final details. There are likely to be a couple of stiles to climb over on this walk. \nOptional donation – suggested amount £3. Your donation enables the North Pennines National Landscape team to protect and restore this special place and help people connect with nature. \nPlease use the Ticketsource link to book. \n\n\n\n                \n                \n\n\n  \n   \n 
URL:https://northpennines.org.uk/event/saturday-stroll-a-guided-walk-5/
LOCATION:Bowlees Visitor Centre\, Newbiggin\, DL12 0XF
CATEGORIES:Guided walk,Historic environment event,Walking
ATTACH;FMTTYPE=image/jpeg:https://northpennines.org.uk/wp-content/uploads/2023/04/circular-walk-sign-waymarker-moss-gatepost-Bowlees.jpg
ORGANIZER;CN="North Pennines National Landscape":MAILTO:communications@northpennines.org.uk
END:VEVENT
BEGIN:VEVENT
DTSTART;TZID=Europe/London:20260131T103000
DTEND;TZID=Europe/London:20260131T143000
DTSTAMP:20260424T010605
CREATED:20251208T131403Z
LAST-MODIFIED:20260122T090525Z
UID:10001880-1769855400-1769869800@northpennines.org.uk
SUMMARY:Saturday stroll - a guided walk
DESCRIPTION:Enjoy the outdoors on a guided walk through a historical landscape on the last Saturday of every month. Join a small group of people taking in the surroundings\, and learn about what shaped the landscape as well as the mining heritage. \nSaturday strolls are approximately three miles in length on mostly flat ground and with rest breaks along the way. \nThis month’s walk starts at Blanchland\, on 31 January will begin at 10.30am and finish at approximately 1pm. You are welcome to join us after the walk for free refreshments finishing by 2:30pm. \nAll ages are welcome (children must be accompanied by an adult and must be able to walk or be carried as the paths may not be suitable for pushchairs). Well behaved dogs on a short lead are welcome. \nThe final details of the walk are subject to change\, please check back closer to the event for final details. There are likely to be a couple of stiles to climb over on this walk. \nOptional donation – suggested amount £3. Your donation enables the North Pennines National Landscape team to protect and restore this special place and help people connect with nature. \nPlease use the Ticketsource link to book. \n\n\n\n                \n                \n\n\n  \n   
URL:https://northpennines.org.uk/event/saturday-stroll-a-guided-walk-8-copy/
LOCATION:Blanchland Village Hall car park\, DH8 9UA
CATEGORIES:Guided walk,Historic environment event,Walking
ATTACH;FMTTYPE=image/jpeg:https://northpennines.org.uk/wp-content/uploads/2023/04/circular-walk-sign-waymarker-moss-gatepost-Bowlees.jpg
ORGANIZER;CN="North Pennines National Landscape":MAILTO:communications@northpennines.org.uk
END:VEVENT
BEGIN:VEVENT
DTSTART;TZID=Europe/London:20260228T103000
DTEND;TZID=Europe/London:20260228T143000
DTSTAMP:20260424T010605
CREATED:20251208T143519Z
LAST-MODIFIED:20260129T113652Z
UID:10002039-1772274600-1772289000@northpennines.org.uk
SUMMARY:Saturday stroll - a guided walk
DESCRIPTION:Enjoy the outdoors on a guided walk through a historical landscape on the last Saturday of every month. Join a small group of people taking in the surroundings\, and learn about what shaped the landscape as well as the mining heritage. \nSaturday strolls are approximately three miles in length on mostly flat ground and with rest breaks along the way. \nThis month’s walk starting in Eggleston\, on 28 February will begin at 10.30am and finish at approximately 1pm. You are welcome to join us after the walk for free refreshments finishing by 2:30pm. Exact location to be confirmed. \nAll ages are welcome (children must be accompanied by an adult and must be able to walk or be carried as the paths may not be suitable for pushchairs). Well behaved dogs on a short lead are welcome. \nThe final details of the walk are subject to change\, please check back closer to the event for final details. There are likely to be a couple of stiles to climb over on this walk. \nOptional donation – suggested amount £3. Your donation enables the North Pennines National Landscape team to protect and restore this special place and help people connect with nature. \nPlease use the Ticketsource link to book. \n\n\n\n                \n                \n\n\n  \n   
URL:https://northpennines.org.uk/event/saturday-stroll-a-guided-walk-8-copy-copy/
LOCATION:Eggleston
CATEGORIES:Guided walk,Historic environment event,Walking
ATTACH;FMTTYPE=image/jpeg:https://northpennines.org.uk/wp-content/uploads/2023/04/circular-walk-sign-waymarker-moss-gatepost-Bowlees.jpg
ORGANIZER;CN="North Pennines National Landscape":MAILTO:communications@northpennines.org.uk
END:VEVENT
BEGIN:VEVENT
DTSTART;TZID=Europe/London:20260328T103000
DTEND;TZID=Europe/London:20260328T143000
DTSTAMP:20260424T010605
CREATED:20260129T120332Z
LAST-MODIFIED:20260319T134908Z
UID:10002191-1774693800-1774708200@northpennines.org.uk
SUMMARY:Saturday stroll - a guided walk
DESCRIPTION:Enjoy the outdoors on a guided walk through the historical landscape around Stanhope on the last Saturday of every month. Join a small group of people taking in the surroundings\, and learn about what shaped the landscape as well as the mining heritage. \nSaturday strolls are approximately three miles in length on mostly flat ground and with rest breaks along the way. \nThis month’s walk will begin at 10.30am and finish at approximately 1pm. You are welcome to join us after the walk for free refreshments finishing by 2:30pm. \nAll ages are welcome (children must be accompanied by an adult and must be able to walk or be carried as the paths may not be suitable for pushchairs). Well behaved dogs on a short lead are welcome. \nThe final details of the walk are subject to change\, please check back closer to the event for final details. There are likely to be a couple of stiles to climb over on this walk. \nOptional donation – suggested amount £3. Your donation enables the North Pennines National Landscape team to protect and restore this special place and help people connect with nature. \nPlease use the Ticketsource link to book. \n\n\n\n                \n                \n\n\n  \n   
URL:https://northpennines.org.uk/event/saturday-stroll-a-guided-walk-8-copy-copy-2/
LOCATION:Stanhope
CATEGORIES:Guided walk,Historic environment event,Walking
ATTACH;FMTTYPE=image/jpeg:https://northpennines.org.uk/wp-content/uploads/2023/04/circular-walk-sign-waymarker-moss-gatepost-Bowlees.jpg
ORGANIZER;CN="North Pennines National Landscape":MAILTO:communications@northpennines.org.uk
END:VEVENT
BEGIN:VEVENT
DTSTART;TZID=Europe/London:20260425T103000
DTEND;TZID=Europe/London:20260425T143000
DTSTAMP:20260424T010605
CREATED:20260129T122210Z
LAST-MODIFIED:20260320T150638Z
UID:10002190-1777113000-1777127400@northpennines.org.uk
SUMMARY:Saturday stroll - a guided walk
DESCRIPTION:Enjoy the outdoors on a guided walk through a historical landscape on the last Saturday of every month. Join a small group of people taking in the surroundings\, and learn about what shaped the landscape as well as the mining heritage. \nSaturday strolls are approximately three miles in length on mostly flat ground and with rest breaks along the way. \nThis month’s walk will begin at 10.30am and finish at approximately 1pm. You are welcome to join us after the walk for free refreshments finishing by 2:30pm. Location is Holwick\, Low force. \nAll ages are welcome (children must be accompanied by an adult and must be able to walk or be carried as the paths may not be suitable for pushchairs). Well behaved dogs on a short lead are welcome. \nThe final details of the walk are subject to change\, please check back closer to the event for final details. There are likely to be a couple of stiles to climb over on this walk. \nOptional donation – suggested amount £3. Your donation enables the North Pennines National Landscape team to protect and restore this special place and help people connect with nature. \nPlease use the Ticketsource link to book. \n\n\n\n                \n                \n\n\n  \n   
URL:https://northpennines.org.uk/event/saturday-stroll-a-guided-walk-8-4/
LOCATION:Holwick/Low Force
CATEGORIES:Guided walk,Historic environment event,Walking
ATTACH;FMTTYPE=image/jpeg:https://northpennines.org.uk/wp-content/uploads/2023/04/circular-walk-sign-waymarker-moss-gatepost-Bowlees.jpg
ORGANIZER;CN="North Pennines National Landscape":MAILTO:communications@northpennines.org.uk
END:VEVENT
BEGIN:VEVENT
DTSTART;TZID=Europe/London:20260523T103000
DTEND;TZID=Europe/London:20260523T133000
DTSTAMP:20260424T010605
CREATED:20260420T133331Z
LAST-MODIFIED:20260420T151833Z
UID:10002279-1779532200-1779543000@northpennines.org.uk
SUMMARY:Guided botany walk
DESCRIPTION:Join members of the Weardale Wildlife Group for this guided botany walk along the river in Upper Teesdale – from Low to High Force and back on Saturday 23 May\, 10.30am to 1.30pm. \nFrom Bowlees Visitor Centre the walk is two miles (3.2km) to High Force\, via Low Force\, so a four mile (6.4km) round trip. It can be shortened by 1.2 miles (2km) if returning from Holwick Head footbridge\, which is part way along the route. \nThe verges\, on the river and field side of the path\, feature many examples of upland hay meadow flowers\, as well as Teesdale specialties such as Shrubby cinquefoil and at this time of year the lovely Early purple orchid should be in bloom. Bare areas along the footpath also provide habitat for a variety of insects such as the ashy mining bee. Grey wagtails and common sandpiper may well be seen on the river. \nPlease wear strong footwear\, bring suitable clothing and a packed lunch. The route does cross the Wynch Bridge (which is quite narrow) at Low Force waterfall and parts of the route are very rocky. \nOptional donation of £2 per person to the Weardale Wildlife Group would be appreciated. \nPlease book using the link to Ticketsource. \n\n\n\n                \n                \n\n\nThis event is part of North Pennines NatureFest running from Saturday 23 May to Sunday 7 June 2026. See the full programme at www.NorthPenninesNatureFest.org.uk #NorthPenninesNatureFest26
URL:https://northpennines.org.uk/event/guided-botany-walk/
LOCATION:Bowlees Visitor Centre car park
CATEGORIES:Guided walk,Naturefest,Walking
ATTACH;FMTTYPE=image/jpeg:https://northpennines.org.uk/wp-content/uploads/2023/06/Globeflower-on-bank-of-Tees-Cronkley-Bridge-W.Bowman-June-2023-.jpg
ORGANIZER;CN="North Pennines National Landscape":MAILTO:communications@northpennines.org.uk
END:VEVENT
BEGIN:VEVENT
DTSTART;TZID=Europe/London:20260530T103000
DTEND;TZID=Europe/London:20260530T143000
DTSTAMP:20260424T010605
CREATED:20260129T125633Z
LAST-MODIFIED:20260417T141920Z
UID:10002192-1780137000-1780151400@northpennines.org.uk
SUMMARY:Saturday stroll - a guided walk
DESCRIPTION:Enjoy the outdoors on a guided walk through a historical landscape on the last Saturday of every month. Join a small group of people taking in the surroundings\, and learn about what shaped the landscape as well as the mining heritage. \nSaturday strolls are approximately three miles in length on mostly flat ground and with rest breaks along the way. \nThis month’s walk starting from Allenheads\,delves into the world of lead loving plants with Carole McCourt\, and will begin at 10.30am and finish at approximately 1pm. You are welcome to join us after the walk for free refreshments finishing by 2:30pm. \nAll ages are welcome (children must be accompanied by an adult and must be able to walk or be carried as the paths may not be suitable for pushchairs). Well behaved dogs on a short lead are welcome. \nThe final details of the walk are subject to change\, please check back closer to the event for final details. There are likely to be a couple of stiles to climb over on this walk. \nOptional donation – suggested amount £3. Your donation enables the North Pennines National Landscape team to protect and restore this special place and help people connect with nature. \nPlease use the Ticketsource link to book. \n\n\n\n                \n                \n\n\n  \n     \nThis event is part of North Pennines NatureFest running from Saturday 23 May to Sunday 7 June 2026. See the full programme at www.NorthPenninesNatureFest.org.uk #NorthPenninesNatureFest26
URL:https://northpennines.org.uk/event/saturday-stroll-a-guided-walk-8-copy-copy-2-2-copy-2/
LOCATION:Metalliferous plants walk – Allenheads
CATEGORIES:Guided walk,Historic environment event,Walking
ATTACH;FMTTYPE=image/jpeg:https://northpennines.org.uk/wp-content/uploads/2023/04/circular-walk-sign-waymarker-moss-gatepost-Bowlees.jpg
ORGANIZER;CN="North Pennines National Landscape":MAILTO:communications@northpennines.org.uk
END:VEVENT
BEGIN:VEVENT
DTSTART;TZID=Europe/London:20260603T103000
DTEND;TZID=Europe/London:20260603T150000
DTSTAMP:20260424T010605
CREATED:20260417T153204Z
LAST-MODIFIED:20260417T154702Z
UID:10002278-1780482600-1780498800@northpennines.org.uk
SUMMARY:Nature walk: High Helbeck
DESCRIPTION:Join us for a 5km circular guided nature walk\, Wednesday 3 June\, 10.30am to 3pm\, around the High Helbeck estate that has undergone extensive nature recovery work. \nThe walk will take in waterfalls\, wading birds and black grouse in an ever-changing mosaic of habitats being managed sustainably. Please wear footwear and clothing suitable for the weather. Bring a packed lunch and drinks. The walk is not suitable for dogs or young children. \nPlease note that this is a moderate walk with uneven terrain throughout and occasional steep sections. The walk can also be boggy in sections. Please come prepared for being outdoors in a moorland setting with appropriate clothing for the weather. £2 per person. \nPlease book using the Ticketsource link \n\n\n\n                \n                \n\n\n  \nThis event is part of North Pennines NatureFest running from Saturday 23 May to Sunday 7 June 2025. See the full programme at www.NorthPenninesNatureFest.org.uk #NorthPenninesNatureFest26 \n 
URL:https://northpennines.org.uk/event/nature-walk-high-helbeck-copy/
LOCATION:High Helbeck\, CA17 4DZ
CATEGORIES:Family-friendly,Guided walk,Nature and wildlife event,Naturefest
ATTACH;FMTTYPE=image/jpeg:https://northpennines.org.uk/wp-content/uploads/2025/01/FiPL-High-Helbeck-Trail-5.jpg
ORGANIZER;CN="North Pennines National Landscape":MAILTO:communications@northpennines.org.uk
END:VEVENT
BEGIN:VEVENT
DTSTART;TZID=Europe/London:20260627T103000
DTEND;TZID=Europe/London:20260627T143000
DTSTAMP:20260424T010605
CREATED:20260129T122351Z
LAST-MODIFIED:20260205T134951Z
UID:10002189-1782556200-1782570600@northpennines.org.uk
SUMMARY:Saturday stroll - a guided walk
DESCRIPTION:Enjoy the outdoors on a guided walk through a historical landscape on the last Saturday of every month. Join a small group of people taking in the surroundings\, and learn about what shaped the landscape as well as the mining heritage. \nSaturday strolls are approximately three miles in length on mostly flat ground and with rest breaks along the way. \nThis month’s walk starts from Garrigill\, beginning at 10.30am and finish at approximately 1pm. You are welcome to join us after the walk for free refreshments finishing by 2:30pm. Exact location to be confirmed. \nAll ages are welcome (children must be accompanied by an adult and must be able to walk or be carried as the paths may not be suitable for pushchairs). Well behaved dogs on a short lead are welcome. \nThe final details of the walk are subject to change\, please check back closer to the event for final details. There are likely to be a couple of stiles to climb over on this walk. \nOptional donation – suggested amount £3. Your donation enables the North Pennines National Landscape team to protect and restore this special place and help people connect with nature. \nPlease use the Ticketsource link to book. \n\n\n\n                \n                \n\n\n  \n   
URL:https://northpennines.org.uk/event/saturday-stroll-a-guided-walk-8-copy-copy-2-2-2/
LOCATION:Garrigill\, CA9 3DS
CATEGORIES:Guided walk,Historic environment event,Walking
ATTACH;FMTTYPE=image/jpeg:https://northpennines.org.uk/wp-content/uploads/2023/04/circular-walk-sign-waymarker-moss-gatepost-Bowlees.jpg
ORGANIZER;CN="North Pennines National Landscape":MAILTO:communications@northpennines.org.uk
END:VEVENT
BEGIN:VEVENT
DTSTART;TZID=Europe/London:20260926T103000
DTEND;TZID=Europe/London:20260926T143000
DTSTAMP:20260424T010605
CREATED:20260129T125658Z
LAST-MODIFIED:20260320T152106Z
UID:10002193-1790418600-1790433000@northpennines.org.uk
SUMMARY:Saturday stroll - a guided walk
DESCRIPTION:Enjoy the outdoors on a guided walk through a historical landscape on the last Saturday of every month. Join a small group of people taking in the surroundings\, and learn about what shaped the landscape as well as the mining heritage. \nSaturday strolls are approximately three miles in length on mostly flat ground and with rest breaks along the way. \nThis month’s walk will start at Dukesfield\, Whitley Chapel and begin at 10.30am and finish at approximately 1pm. You are welcome to join us after the walk for free refreshments finishing by 2:30pm. \nAll ages are welcome (children must be accompanied by an adult and must be able to walk or be carried as the paths may not be suitable for pushchairs). Well behaved dogs on a short lead are welcome. \nThe final details of the walk are subject to change\, please check back closer to the event for final details. There are likely to be a couple of stiles to climb over on this walk. \nOptional donation – suggested amount £3. Your donation enables the North Pennines National Landscape team to protect and restore this special place and help people connect with nature. \nPlease use the Ticketsource link to book. \n\n\n\n                \n                \n\n\n  \n   
URL:https://northpennines.org.uk/event/saturday-stroll-a-guided-walk-8-copy-copy-2-2-copy/
LOCATION:Dukesfield
CATEGORIES:Guided walk,Historic environment event,Walking
ATTACH;FMTTYPE=image/jpeg:https://northpennines.org.uk/wp-content/uploads/2023/04/circular-walk-sign-waymarker-moss-gatepost-Bowlees.jpg
ORGANIZER;CN="North Pennines National Landscape":MAILTO:communications@northpennines.org.uk
END:VEVENT
BEGIN:VEVENT
DTSTART;TZID=Europe/London:20261024T103000
DTEND;TZID=Europe/London:20261024T143000
DTSTAMP:20260424T010605
CREATED:20260129T125916Z
LAST-MODIFIED:20260129T130557Z
UID:10002194-1792837800-1792852200@northpennines.org.uk
SUMMARY:Saturday stroll - a guided walk
DESCRIPTION:Enjoy the outdoors on a guided walk through a historical landscape on the last Saturday of every month. Join a small group of people taking in the surroundings\, and learn about what shaped the landscape as well as the mining heritage. \nSaturday strolls are approximately three miles in length on mostly flat ground and with rest breaks along the way. \nThis month’s walk will begin at 10.30am and finish at approximately 1pm. You are welcome to join us after the walk for free refreshments finishing by 2:30pm. Exact location to be confirmed. \nAll ages are welcome (children must be accompanied by an adult and must be able to walk or be carried as the paths may not be suitable for pushchairs). Well behaved dogs on a short lead are welcome. \nThe final details of the walk are subject to change\, please check back closer to the event for final details. There are likely to be a couple of stiles to climb over on this walk. \nOptional donation – suggested amount £3. Your donation enables the North Pennines National Landscape team to protect and restore this special place and help people connect with nature. \nPlease use the Ticketsource link to book. \n\n\n\n                \n                \n\n\n  \n   
URL:https://northpennines.org.uk/event/saturday-stroll-a-guided-walk-8-2/
LOCATION:Dark skies stroll
CATEGORIES:Guided walk,Historic environment event,Walking
ATTACH;FMTTYPE=image/jpeg:https://northpennines.org.uk/wp-content/uploads/2023/04/circular-walk-sign-waymarker-moss-gatepost-Bowlees.jpg
ORGANIZER;CN="North Pennines National Landscape":MAILTO:communications@northpennines.org.uk
END:VEVENT
BEGIN:VEVENT
DTSTART;TZID=Europe/London:20261128T103000
DTEND;TZID=Europe/London:20261128T143000
DTSTAMP:20260424T010605
CREATED:20260129T125928Z
LAST-MODIFIED:20260320T151507Z
UID:10002195-1795861800-1795876200@northpennines.org.uk
SUMMARY:Saturday stroll - a guided walk
DESCRIPTION:Enjoy the outdoors on a guided walk through a historical landscape on the last Saturday of every month. Join a small group of people taking in the surroundings\, and learn about what shaped the landscape as well as the mining heritage. \nSaturday strolls are approximately three miles in length on mostly flat ground and with rest breaks along the way. \nThis month’s walk starts from Allenheads and will begin at 10.30am and finish at approximately 1pm. You are welcome to join us after the walk for free refreshments finishing by 2:30pm. . \nAll ages are welcome (children must be accompanied by an adult and must be able to walk or be carried as the paths may not be suitable for pushchairs). Well behaved dogs on a short lead are welcome. \nThe final details of the walk are subject to change\, please check back closer to the event for final details. There are likely to be a couple of stiles to climb over on this walk. \nOptional donation – suggested amount £3. Your donation enables the North Pennines National Landscape team to protect and restore this special place and help people connect with nature. \nPlease use the Ticketsource link to book. \n\n\n\n                \n                \n\n\n  \n   
URL:https://northpennines.org.uk/event/saturday-stroll-a-guided-walk-8-3/
LOCATION:Allenheads
CATEGORIES:Guided walk,Historic environment event,Walking
ATTACH;FMTTYPE=image/jpeg:https://northpennines.org.uk/wp-content/uploads/2023/04/circular-walk-sign-waymarker-moss-gatepost-Bowlees.jpg
ORGANIZER;CN="North Pennines National Landscape":MAILTO:communications@northpennines.org.uk
END:VEVENT
END:VCALENDAR