BEGIN:VCALENDAR
VERSION:2.0
PRODID:-//North Pennines National Landscape - ECPv6.15.11//NONSGML v1.0//EN
CALSCALE:GREGORIAN
METHOD:PUBLISH
X-WR-CALNAME:North Pennines National Landscape
X-ORIGINAL-URL:https://northpennines.org.uk
X-WR-CALDESC:Events for North Pennines National Landscape
REFRESH-INTERVAL;VALUE=DURATION:PT1H
X-Robots-Tag:noindex
X-PUBLISHED-TTL:PT1H
BEGIN:VTIMEZONE
TZID:Europe/London
BEGIN:DAYLIGHT
TZOFFSETFROM:+0000
TZOFFSETTO:+0100
TZNAME:BST
DTSTART:20220327T010000
END:DAYLIGHT
BEGIN:STANDARD
TZOFFSETFROM:+0100
TZOFFSETTO:+0000
TZNAME:GMT
DTSTART:20221030T010000
END:STANDARD
BEGIN:DAYLIGHT
TZOFFSETFROM:+0000
TZOFFSETTO:+0100
TZNAME:BST
DTSTART:20230326T010000
END:DAYLIGHT
BEGIN:STANDARD
TZOFFSETFROM:+0100
TZOFFSETTO:+0000
TZNAME:GMT
DTSTART:20231029T010000
END:STANDARD
BEGIN:DAYLIGHT
TZOFFSETFROM:+0000
TZOFFSETTO:+0100
TZNAME:BST
DTSTART:20240331T010000
END:DAYLIGHT
BEGIN:STANDARD
TZOFFSETFROM:+0100
TZOFFSETTO:+0000
TZNAME:GMT
DTSTART:20241027T010000
END:STANDARD
END:VTIMEZONE
BEGIN:VEVENT
DTSTART;TZID=Europe/London:20230314T103000
DTEND;TZID=Europe/London:20230314T143000
DTSTAMP:20260421T212022
CREATED:20230131T163631Z
LAST-MODIFIED:20230308T162415Z
UID:10000379-1678789800-1678804200@northpennines.org.uk
SUMMARY:Improving the experiences of disabled visitors to the North Pennines
DESCRIPTION:A free online training event for tourism businesses and community groups in the North Pennines Area of Outstanding Natural Beauty (AONB). This event will take place on 14 March between 10:30am – 2:30pm. (There will be a break for lunch between 1pm -1:30pm). The shorter session after lunch is an optional informal space to talk and reflect together on the training. \nThis workshop is aimed at improving the experience of disabled visitors to the area. We hope to support you to make proactive changes and to better handle unexpected situations when they arise.\nMost of our buildings are old and there are limitations on what can be done to make them physically more accessible. Yet ‘accessibility’ is so much more than lifts and ramps. For example\, 80% of disabled people have a hidden disability. \nIn this online workshop\, led by disabled trainers from Difference Northeast\, we will explore:\n– The different kinds of barriers that might be putting disabled visitors off\n– Media/mainstream attitudes to disabled people and how these might influence how we try to interact\n– How to offer help and when not to\n– Types of information to share to give people a clearer sense of what to expect. \nPlease contact scarlet@northpenninesaonb.org.uk if you have any queries. \n  \nClick here to book a free place. Places are available to book up until 1 day before the event. \n\n\n\n                \n                \n\n\n 
URL:https://northpennines.org.uk/event/improving-the-experiences-of-disabled-visitors-to-the-north-pennines/
LOCATION:Online
CATEGORIES:Online talk,Training
ATTACH;FMTTYPE=image/jpeg:https://northpennines.org.uk/wp-content/uploads/2023/01/AONBResearchSimoneJRudolphiPhotography-7818.jpg
ORGANIZER;CN="North Pennines National Landscape":MAILTO:communications@northpennines.org.uk
END:VEVENT
END:VCALENDAR