BEGIN:VCALENDAR
VERSION:2.0
PRODID:-//North Pennines National Landscape - ECPv6.15.11//NONSGML v1.0//EN
CALSCALE:GREGORIAN
METHOD:PUBLISH
X-WR-CALNAME:North Pennines National Landscape
X-ORIGINAL-URL:https://northpennines.org.uk
X-WR-CALDESC:Events for North Pennines National Landscape
REFRESH-INTERVAL;VALUE=DURATION:PT1H
X-Robots-Tag:noindex
X-PUBLISHED-TTL:PT1H
BEGIN:VTIMEZONE
TZID:Europe/London
BEGIN:DAYLIGHT
TZOFFSETFROM:+0000
TZOFFSETTO:+0100
TZNAME:BST
DTSTART:20220327T010000
END:DAYLIGHT
BEGIN:STANDARD
TZOFFSETFROM:+0100
TZOFFSETTO:+0000
TZNAME:GMT
DTSTART:20221030T010000
END:STANDARD
BEGIN:DAYLIGHT
TZOFFSETFROM:+0000
TZOFFSETTO:+0100
TZNAME:BST
DTSTART:20230326T010000
END:DAYLIGHT
BEGIN:STANDARD
TZOFFSETFROM:+0100
TZOFFSETTO:+0000
TZNAME:GMT
DTSTART:20231029T010000
END:STANDARD
BEGIN:DAYLIGHT
TZOFFSETFROM:+0000
TZOFFSETTO:+0100
TZNAME:BST
DTSTART:20240331T010000
END:DAYLIGHT
BEGIN:STANDARD
TZOFFSETFROM:+0100
TZOFFSETTO:+0000
TZNAME:GMT
DTSTART:20241027T010000
END:STANDARD
END:VTIMEZONE
BEGIN:VEVENT
DTSTART;TZID=Europe/London:20230420T183000
DTEND;TZID=Europe/London:20230420T203000
DTSTAMP:20260421T194708
CREATED:20230328T143105Z
LAST-MODIFIED:20230403T135142Z
UID:10000412-1682015400-1682022600@northpennines.org.uk
SUMMARY:Bumblebee identification webinar
DESCRIPTION:Join us for a Bumblebee identification webinar on 20 April from 6.30pm to 8.30pm. The webinar is for beginners who would like to find out more about bumblebees\, or volunteers who are thinking about undertaking BeeWalk surveys. We will be looking at the features of the most common bumblebees you’ll find in the North Pennines AONB and beyond. \nPlease book a place using Ticketsource and a sign up link will be emailed to you ahead of the event. \n\n\n\n                \n                \n\n\n  \n \n  \n 
URL:https://northpennines.org.uk/event/online-bumblebee-identification-webinar/
LOCATION:Online
CATEGORIES:Online talk
ATTACH;FMTTYPE=image/jpeg:https://northpennines.org.uk/wp-content/uploads/2023/03/Red-tailed-bumblebee-on-devils-bit-scabious-Ruth-Starr-Keddle-NPAP.jpg
ORGANIZER;CN="North Pennines National Landscape":MAILTO:communications@northpennines.org.uk
END:VEVENT
END:VCALENDAR