BEGIN:VCALENDAR
VERSION:2.0
PRODID:-//North Pennines National Landscape - ECPv6.15.11//NONSGML v1.0//EN
CALSCALE:GREGORIAN
METHOD:PUBLISH
X-WR-CALNAME:North Pennines National Landscape
X-ORIGINAL-URL:https://northpennines.org.uk
X-WR-CALDESC:Events for North Pennines National Landscape
REFRESH-INTERVAL;VALUE=DURATION:PT1H
X-Robots-Tag:noindex
X-PUBLISHED-TTL:PT1H
BEGIN:VTIMEZONE
TZID:Europe/London
BEGIN:DAYLIGHT
TZOFFSETFROM:+0000
TZOFFSETTO:+0100
TZNAME:BST
DTSTART:20210328T010000
END:DAYLIGHT
BEGIN:STANDARD
TZOFFSETFROM:+0100
TZOFFSETTO:+0000
TZNAME:GMT
DTSTART:20211031T010000
END:STANDARD
BEGIN:DAYLIGHT
TZOFFSETFROM:+0000
TZOFFSETTO:+0100
TZNAME:BST
DTSTART:20220327T010000
END:DAYLIGHT
BEGIN:STANDARD
TZOFFSETFROM:+0100
TZOFFSETTO:+0000
TZNAME:GMT
DTSTART:20221030T010000
END:STANDARD
BEGIN:DAYLIGHT
TZOFFSETFROM:+0000
TZOFFSETTO:+0100
TZNAME:BST
DTSTART:20230326T010000
END:DAYLIGHT
BEGIN:STANDARD
TZOFFSETFROM:+0100
TZOFFSETTO:+0000
TZNAME:GMT
DTSTART:20231029T010000
END:STANDARD
END:VTIMEZONE
BEGIN:VEVENT
DTSTART;TZID=Europe/London:20220504T183000
DTEND;TZID=Europe/London:20220504T203000
DTSTAMP:20260424T223241
CREATED:20220412T092405Z
LAST-MODIFIED:20220425T115855Z
UID:10000261-1651689000-1651696200@northpennines.org.uk
SUMMARY:Bumblebee identification workshop - FULLY SUBSCRIBED
DESCRIPTION:This event is now fully subscribed. \nJoin us online for this interactive bumblebee identification workshop for beginners. Run by Mandy Oliver\, you will be introduced to bumblebee ecology and get to grips with the Big 8 – the most common species in the UK. It is perfect for beginners or for refreshing your bumblebee knowledge. This is the first of two training workshops\, the second\, in-field training will take place on 12th May – more details here. \nAlthough this event will take place online via Zoom (you will receive a link 24 hours before the start)\, you will need to provide your address as an information pack will be sent out before the session. \nDelivered as part of the Tees-Swale: naturally connected programme. Tees-Swale is funded by The National Lottery Heritage Fund and led by the North Pennines AONB Partnership in collaboration with the Yorkshire Dales National Park Authority. \n\n\n\n                \n                \n\n\n 
URL:https://northpennines.org.uk/event/bumblebee-identification-workshop/
LOCATION:Online
CATEGORIES:Online talk,Training
ATTACH;FMTTYPE=image/jpeg:https://northpennines.org.uk/wp-content/uploads/2019/12/Red-tailed-bumblebee.jpg
ORGANIZER;CN="North Pennines National Landscape":MAILTO:communications@northpennines.org.uk
END:VEVENT
END:VCALENDAR