BEGIN:VCALENDAR
VERSION:2.0
PRODID:-//North Pennines National Landscape - ECPv6.15.11//NONSGML v1.0//EN
CALSCALE:GREGORIAN
METHOD:PUBLISH
X-WR-CALNAME:North Pennines National Landscape
X-ORIGINAL-URL:https://northpennines.org.uk
X-WR-CALDESC:Events for North Pennines National Landscape
REFRESH-INTERVAL;VALUE=DURATION:PT1H
X-Robots-Tag:noindex
X-PUBLISHED-TTL:PT1H
BEGIN:VTIMEZONE
TZID:Europe/London
BEGIN:DAYLIGHT
TZOFFSETFROM:+0000
TZOFFSETTO:+0100
TZNAME:BST
DTSTART:20230326T010000
END:DAYLIGHT
BEGIN:STANDARD
TZOFFSETFROM:+0100
TZOFFSETTO:+0000
TZNAME:GMT
DTSTART:20231029T010000
END:STANDARD
BEGIN:DAYLIGHT
TZOFFSETFROM:+0000
TZOFFSETTO:+0100
TZNAME:BST
DTSTART:20240331T010000
END:DAYLIGHT
BEGIN:STANDARD
TZOFFSETFROM:+0100
TZOFFSETTO:+0000
TZNAME:GMT
DTSTART:20241027T010000
END:STANDARD
BEGIN:DAYLIGHT
TZOFFSETFROM:+0000
TZOFFSETTO:+0100
TZNAME:BST
DTSTART:20250330T010000
END:DAYLIGHT
BEGIN:STANDARD
TZOFFSETFROM:+0100
TZOFFSETTO:+0000
TZNAME:GMT
DTSTART:20251026T010000
END:STANDARD
END:VTIMEZONE
BEGIN:VEVENT
DTSTART;TZID=Europe/London:20241101T190000
DTEND;TZID=Europe/London:20241101T220000
DTSTAMP:20260425T180947
CREATED:20240919T144703Z
LAST-MODIFIED:20241009T113225Z
UID:10001159-1730487600-1730498400@northpennines.org.uk
SUMMARY:Pies and skies
DESCRIPTION:Join Martin Kitching at The Hive for this mash-up event – combining a pie and peas supper and a fascinating ‘How far is that star’ talk. \nHow long would it take to walk to the moon? Or travel to another solar system? How long would it be until we noticed\, if the sun stopped shining? How do we know all of this and is there somebody\, or something\, out there asking the same questions? Join Martin Kitching to explore these questions\, and more that you probably never knew you wanted the answers to. Martin is an experienced and knowledgeable astronomer – he is based in Northumberland and leads all the tours for Northern Experience Wildlife Tours (NEWT). \nYour ticket includes hot drinks\, pie\, chips and peas. Places are limited so don’t leave it too late to book. \n\nAdult: £15 (18+)\nChildren: £10 (7+\, must be accompanied by an adult)\n\nPre-booking is essential via: Events – The Hive Nenthead \nThe Hive\, Nenthead\, Alston\, Cumbria CA9 3PF – how to find The Hive \nHopefully there will be an opportunity (weather permitting) to view the stars through a telescope. But note that the event will go ahead if the sky is overcast. \nThis event is aimed at people with a general interest in the night sky\, including families with children (aimed at ages 7+). Bring warm/waterproof clothes/a torch (red light if you have one). \nNo dogs please – they’re a trip hazard around telescopes. \nThis event is organised by The Hive and is part of the North Pennines Stargazing Festival running from 25 October to 3 November 2024 – www.NorthPenninesStarFest.org #NorthPennStarFest24 #NPennDarkSkies
URL:https://northpennines.org.uk/event/pies-and-skies-3/
LOCATION:The Hive\, Nenthead
CATEGORIES:Talk
END:VEVENT
END:VCALENDAR