BEGIN:VCALENDAR
VERSION:2.0
PRODID:-//North Pennines National Landscape - ECPv6.15.11//NONSGML v1.0//EN
CALSCALE:GREGORIAN
METHOD:PUBLISH
X-ORIGINAL-URL:https://northpennines.org.uk
X-WR-CALDESC:Events for North Pennines National Landscape
REFRESH-INTERVAL;VALUE=DURATION:PT1H
X-Robots-Tag:noindex
X-PUBLISHED-TTL:PT1H
BEGIN:VTIMEZONE
TZID:Europe/London
BEGIN:DAYLIGHT
TZOFFSETFROM:+0000
TZOFFSETTO:+0100
TZNAME:BST
DTSTART:20230326T010000
END:DAYLIGHT
BEGIN:STANDARD
TZOFFSETFROM:+0100
TZOFFSETTO:+0000
TZNAME:GMT
DTSTART:20231029T010000
END:STANDARD
BEGIN:DAYLIGHT
TZOFFSETFROM:+0000
TZOFFSETTO:+0100
TZNAME:BST
DTSTART:20240331T010000
END:DAYLIGHT
BEGIN:STANDARD
TZOFFSETFROM:+0100
TZOFFSETTO:+0000
TZNAME:GMT
DTSTART:20241027T010000
END:STANDARD
BEGIN:DAYLIGHT
TZOFFSETFROM:+0000
TZOFFSETTO:+0100
TZNAME:BST
DTSTART:20250330T010000
END:DAYLIGHT
BEGIN:STANDARD
TZOFFSETFROM:+0100
TZOFFSETTO:+0000
TZNAME:GMT
DTSTART:20251026T010000
END:STANDARD
END:VTIMEZONE
BEGIN:VEVENT
DTSTART;TZID=Europe/London:20241123T100000
DTEND;TZID=Europe/London:20241123T160000
DTSTAMP:20260422T004439
CREATED:20240916T120100Z
LAST-MODIFIED:20241106T174221Z
UID:10001157-1732356000-1732377600@northpennines.org.uk
SUMMARY:North Pennines Historic Environment Forum 2024
DESCRIPTION:Join us for the North Pennines Historic Environment Forum at Allendale Village Hall\, Allendale Town\, NE47 9PR\, on Saturday 23 November\, 10am to 4pm\, for a day filled with talks from National Landscape staff and guest speakers. \nTalks will include: \n\nLand of Lead and Silver – end of year 1 update (Rebecca Cadbury-Simmons and Andie Harris)\nPhotogrammetry in the land of lead and silver – finding a new angle (Kevin Smith)\nConsolidating heritage by Heritage Consolidation Ltd (Gary Simpson)\nModelling mines… and mining models: how 3D imaging can help us see\, and conserve heritage (Nick Unwin)\nThe quaker history of the Allen and South Tyne Valleys (David Penn)\nA sink to rising Fairy tale: cave exploration in Weardale (Adele Ward)\nThe old man and the fox: stories of the people who made mining history in Scordale (Ruth Wharton)\n\nTalks and buffet lunch – £25 / Talks only – £15. Wheelchair accessible. \nWe are offering five free bursary places for the forum. There is no strict criteria for these places\, they are available to anyone for whom the cost is prohibitive. To request a bursary place please email rebecca@northpennines.org.uk. \nPlease book using the TicketSource link \n\n\n\n                \n                \n\n\n  \n         
URL:https://northpennines.org.uk/event/north-pennines-historic-environment-forum-2024/
LOCATION:Allendale Village Hall\, Leadgate\, Allendale\, NE47 9PR
CATEGORIES:Talk
ATTACH;FMTTYPE=image/jpeg:https://northpennines.org.uk/wp-content/uploads/2022/11/20221013_110732-e1729759997103.jpg
ORGANIZER;CN="North Pennines National Landscape":MAILTO:communications@northpennines.org.uk
END:VEVENT
END:VCALENDAR