BEGIN:VCALENDAR
VERSION:2.0
PRODID:-//North Pennines National Landscape - ECPv6.15.11//NONSGML v1.0//EN
CALSCALE:GREGORIAN
METHOD:PUBLISH
X-ORIGINAL-URL:https://northpennines.org.uk
X-WR-CALDESC:Events for North Pennines National Landscape
REFRESH-INTERVAL;VALUE=DURATION:PT1H
X-Robots-Tag:noindex
X-PUBLISHED-TTL:PT1H
BEGIN:VTIMEZONE
TZID:Europe/London
BEGIN:DAYLIGHT
TZOFFSETFROM:+0000
TZOFFSETTO:+0100
TZNAME:BST
DTSTART:20240331T010000
END:DAYLIGHT
BEGIN:STANDARD
TZOFFSETFROM:+0100
TZOFFSETTO:+0000
TZNAME:GMT
DTSTART:20241027T010000
END:STANDARD
BEGIN:DAYLIGHT
TZOFFSETFROM:+0000
TZOFFSETTO:+0100
TZNAME:BST
DTSTART:20250330T010000
END:DAYLIGHT
BEGIN:STANDARD
TZOFFSETFROM:+0100
TZOFFSETTO:+0000
TZNAME:GMT
DTSTART:20251026T010000
END:STANDARD
BEGIN:DAYLIGHT
TZOFFSETFROM:+0000
TZOFFSETTO:+0100
TZNAME:BST
DTSTART:20260329T010000
END:DAYLIGHT
BEGIN:STANDARD
TZOFFSETFROM:+0100
TZOFFSETTO:+0000
TZNAME:GMT
DTSTART:20261025T010000
END:STANDARD
END:VTIMEZONE
BEGIN:VEVENT
DTSTART;TZID=Europe/London:20250129T180000
DTEND;TZID=Europe/London:20250129T193000
DTSTAMP:20260421T142608
CREATED:20250124T172038Z
LAST-MODIFIED:20250124T175336Z
UID:10001256-1738173600-1738179000@northpennines.org.uk
SUMMARY:Middlehopeshield consultation
DESCRIPTION:Join us at Westgate Village Hall on Wednesday 29 January\, 6pm to 7.30pm\, to discuss the planned interpretation at Middlehopeshield with heritage interpretation specialists\, Maltings Studios\, and the North Pennines National Landscape team.\n\n\n\nPart of the Land of Lead and Silver project funded by The National Lottery Heritage Fund and Historic England\, with subsequent funding from the Rural England Prosperity Fund and Defra’s Farming in Protected Landscapes scheme.\n\n         
URL:https://northpennines.org.uk/event/middlehopeshield-interpretation/
LOCATION:Westgate Village Hall\, Front Street\, Westgate\, DL13 1RX
CATEGORIES:Talk
ATTACH;FMTTYPE=image/png:https://northpennines.org.uk/wp-content/uploads/2025/01/Middlehopeshield.png
ORGANIZER;CN="North Pennines National Landscape":MAILTO:communications@northpennines.org.uk
END:VEVENT
END:VCALENDAR