BEGIN:VCALENDAR
VERSION:2.0
PRODID:-//North Pennines National Landscape - ECPv6.15.11//NONSGML v1.0//EN
CALSCALE:GREGORIAN
METHOD:PUBLISH
X-WR-CALNAME:North Pennines National Landscape
X-ORIGINAL-URL:https://northpennines.org.uk
X-WR-CALDESC:Events for North Pennines National Landscape
REFRESH-INTERVAL;VALUE=DURATION:PT1H
X-Robots-Tag:noindex
X-PUBLISHED-TTL:PT1H
BEGIN:VTIMEZONE
TZID:Europe/London
BEGIN:DAYLIGHT
TZOFFSETFROM:+0000
TZOFFSETTO:+0100
TZNAME:BST
DTSTART:20250330T010000
END:DAYLIGHT
BEGIN:STANDARD
TZOFFSETFROM:+0100
TZOFFSETTO:+0000
TZNAME:GMT
DTSTART:20251026T010000
END:STANDARD
BEGIN:DAYLIGHT
TZOFFSETFROM:+0000
TZOFFSETTO:+0100
TZNAME:BST
DTSTART:20260329T010000
END:DAYLIGHT
BEGIN:STANDARD
TZOFFSETFROM:+0100
TZOFFSETTO:+0000
TZNAME:GMT
DTSTART:20261025T010000
END:STANDARD
BEGIN:DAYLIGHT
TZOFFSETFROM:+0000
TZOFFSETTO:+0100
TZNAME:BST
DTSTART:20270328T010000
END:DAYLIGHT
BEGIN:STANDARD
TZOFFSETFROM:+0100
TZOFFSETTO:+0000
TZNAME:GMT
DTSTART:20271031T010000
END:STANDARD
END:VTIMEZONE
BEGIN:VEVENT
DTSTART;TZID=Europe/London:20260423T180000
DTEND;TZID=Europe/London:20260423T190000
DTSTAMP:20260421T122336
CREATED:20260326T160957Z
LAST-MODIFIED:20260326T160957Z
UID:10002266-1776967200-1776970800@northpennines.org.uk
SUMMARY:Heritage podcast online information sessions
DESCRIPTION:Would you like to learn how to make a podcast? \nWe have two free online information sessions for people with an interest in local history and storytelling. Each session lead by audio artist\, Ben Freeth\, will provide details to potential volunteers who are interested in capturing some of the research and oral histories carried out by the Land of Lead and Silver Project. \nSession dates are: \n\nTuesday 21 April at 11am-12 noon\nThursday 23 April at 6pm – 7pm\n\nNo prior podcasting or audio experience is necessary\, suitable for 18+. We will cover how you can get involved and details of the training sessions which will be offered. \nPlease book using the link to Ticketsource \n\n\n\n                \n                \n\n\n \n  \n  \n  \n  \n  \n© Nat Wilkins
URL:https://northpennines.org.uk/event/heritage-podcast-online-information-sessions-2/
LOCATION:Online
CATEGORIES:Online talk,Training,Volunteering
ATTACH;FMTTYPE=image/jpeg:https://northpennines.org.uk/wp-content/uploads/2026/03/oral-history-1-scaled.jpg
ORGANIZER;CN="North Pennines National Landscape":MAILTO:communications@northpennines.org.uk
END:VEVENT
BEGIN:VEVENT
DTSTART;TZID=Europe/London:20260507T090000
DTEND;TZID=Europe/London:20260507T123000
DTSTAMP:20260421T122336
CREATED:20260414T155831Z
LAST-MODIFIED:20260415T113754Z
UID:10002272-1778144400-1778157000@northpennines.org.uk
SUMMARY:Adder survey training
DESCRIPTION:Would you like to contribute to the conservation of adders in the North Pennines National Landscape? \nLearn how to survey for adders and other reptiles and amphibians in the North Pennines. \nThe training near Firestone Bridge\, Overwater\, Alston Moor\, is on 7 May\, 9am to 12.30pm. Full details of the meeting point will be given when signing up to volunteer. \nThe session is suitable for adults\, and children over the age of 12 who are supervised. Unsuitable for wheelchairs\, dogs and young children. \nPlease use the Better Impact volunteer system to sign up. \n  \n  \n 
URL:https://northpennines.org.uk/event/volunteer-surveyor-training-adders-up-2-2-2-copy-copy/2026-05-07/
LOCATION:Alston Moor
CATEGORIES:Training,Volunteering
ATTACH;FMTTYPE=image/jpeg:https://northpennines.org.uk/wp-content/uploads/2024/04/Adder-2024-e1767883713681.jpg
ORGANIZER;CN="North Pennines National Landscape":MAILTO:communications@northpennines.org.uk
END:VEVENT
BEGIN:VEVENT
DTSTART;TZID=Europe/London:20260526T090000
DTEND;TZID=Europe/London:20260526T123000
DTSTAMP:20260421T122336
CREATED:20260414T155831Z
LAST-MODIFIED:20260415T113754Z
UID:10002273-1779786000-1779798600@northpennines.org.uk
SUMMARY:Adder survey training
DESCRIPTION:Would you like to contribute to the conservation of adders in the North Pennines National Landscape? \nLearn how to survey for adders and other reptiles and amphibians in the North Pennines. \nThe training near Firestone Bridge\, Overwater\, Alston Moor\, is on 7 May\, 9am to 12.30pm. Full details of the meeting point will be given when signing up to volunteer. \nThe session is suitable for adults\, and children over the age of 12 who are supervised. Unsuitable for wheelchairs\, dogs and young children. \nPlease use the Better Impact volunteer system to sign up. \n  \n  \n 
URL:https://northpennines.org.uk/event/volunteer-surveyor-training-adders-up-2-2-2-copy-copy/2026-05-26/
LOCATION:Alston Moor
CATEGORIES:Training,Volunteering
ATTACH;FMTTYPE=image/jpeg:https://northpennines.org.uk/wp-content/uploads/2024/04/Adder-2024-e1767883713681.jpg
ORGANIZER;CN="North Pennines National Landscape":MAILTO:communications@northpennines.org.uk
END:VEVENT
BEGIN:VEVENT
DTSTART;TZID=Europe/London:20260604T094500
DTEND;TZID=Europe/London:20260604T163000
DTSTAMP:20260421T122336
CREATED:20260414T132446Z
LAST-MODIFIED:20260414T144750Z
UID:10002269-1780566300-1780590600@northpennines.org.uk
SUMMARY:Botanical training opportunities - wildflower\, grasses and surveying
DESCRIPTION:We are looking for volunteers to undertake botanical surveys on a selection of upland hay meadows that have been restored through seed addition\, at locations across the North Pennines.\nTime-scales: Botanical surveys are undertaken from third week of June until late July.\nMethodology: Groups of two to three volunteers undertake 15 quadrats (1m x 1m square) per meadow. One meadow with 15 quadrats may take between one to two days. \nWe are offering a free three-day course for beginner’s and botanists wishing to refresh their skills\, in exchange for a minimum requirement of helping to survey a meadow over one full day. Beginners are advised to attend all three days\, if possible. More experienced botanists can choose which days to attend based on their previous experience. You will need to sign-up to these three training days separately: \nDay 1: Wildflower Identification training\, Thursday 4 June.\nDay 2: Grasses and sedges Identification training\, Tuesday 17 June.\nDay 3: Botanical surveys using quadrats training\, Tuesday 24 June. \n \n \n \n  \n  \n  \n  \n  \nWe will spend the morning inside\, looking at the key flowers and vegetation features of grasses and sedges. In the afternoon we will go on a walk looking at grasses and sedges in a nearby meadow\, and along The Pennine Way. \nLunch provided in village hall\, with refreshments provided. \nThe training will be undertaken by Ruth Starr-Keddle\, if you have any queries\, please email: ruth@northpennines.org.uk. \nPlease sign up using the Better Impact volunteer system \n 
URL:https://northpennines.org.uk/event/botanical-training-opportunities-wildflower-grasses-and-surveying-copy/
LOCATION:Newbiggin Village Hall\, DL12 0TX
CATEGORIES:Training,Volunteering
ATTACH;FMTTYPE=image/jpeg:https://northpennines.org.uk/wp-content/uploads/2026/04/Volunteer-quadrat-training-20th-June-2024-c-RSK-6-scaled.jpg
ORGANIZER;CN="North Pennines National Landscape":MAILTO:communications@northpennines.org.uk
END:VEVENT
BEGIN:VEVENT
DTSTART;TZID=Europe/London:20260617T094500
DTEND;TZID=Europe/London:20260617T163000
DTSTAMP:20260421T122336
CREATED:20260414T144933Z
LAST-MODIFIED:20260414T145013Z
UID:10002270-1781689500-1781713800@northpennines.org.uk
SUMMARY:Botanical training opportunities - wildflower\, grasses and surveying
DESCRIPTION:We are looking for volunteers to undertake botanical surveys on a selection of upland hay meadows that have been restored through seed addition\, at locations across the North Pennines.\nTime-scales: Botanical surveys are undertaken from third week of June until late July.\nMethodology: Groups of two to three volunteers undertake 15 quadrats (1m x 1m square) per meadow. One meadow with 15 quadrats may take between one to two days. \nWe are offering a free three-day course for beginner’s and botanists wishing to refresh their skills\, in exchange for a minimum requirement of helping to survey a meadow over one full day. Beginners are advised to attend all three days\, if possible. More experienced botanists can choose which days to attend based on their previous experience. You will need to sign-up to these three training days separately: \nDay 1: Wildflower Identification training\, Thursday 4 June.\nDay 2: Grasses and sedges Identification training\, Tuesday 17 June.\nDay 3: Botanical surveys using quadrats training\, Tuesday 24 June. \n \n \n \n  \n  \n  \n  \n  \nWe will spend the morning inside\, looking at the key flowers and vegetation features of grasses and sedges. In the afternoon we will go on a walk looking at grasses and sedges in a nearby meadow\, and along The Pennine Way. \nLunch provided in village hall\, with refreshments provided. \nThe training will be undertaken by Ruth Starr-Keddle\, if you have any queries\, please email: ruth@northpennines.org.uk. \nPlease sign up using the Better Impact volunteer system \n 
URL:https://northpennines.org.uk/event/botanical-training-opportunities-wildflower-grasses-and-surveying-copy-copy/
LOCATION:Newbiggin Village Hall\, DL12 0TX
CATEGORIES:Training,Volunteering
ATTACH;FMTTYPE=image/jpeg:https://northpennines.org.uk/wp-content/uploads/2026/04/Volunteer-quadrat-training-20th-June-2024-c-RSK-6-scaled.jpg
ORGANIZER;CN="North Pennines National Landscape":MAILTO:communications@northpennines.org.uk
END:VEVENT
BEGIN:VEVENT
DTSTART;TZID=Europe/London:20260618T094500
DTEND;TZID=Europe/London:20260618T160000
DTSTAMP:20260421T122336
CREATED:20260414T132459Z
LAST-MODIFIED:20260414T145908Z
UID:10002271-1781775900-1781798400@northpennines.org.uk
SUMMARY:Botanical training opportunities - wildflower\, grasses and surveying Copy
DESCRIPTION:We are looking for volunteers to help with botanical surveys on a selection of upland hay meadows that have been restored through seed addition between the third week of June until late July. Groups of 2/3 volunteers will undertake 15 quadrats (1m x 1m square) per meadow. One meadow with 15 quadrats may take between 1-2 days. \nThere are 3 days of free training for beginner’s\, and also botanists wishing to refresh their skills. We require a minimum involvement of 1 full day of helping to survey a meadow following the training. \nBeginners should attend all three days\, if possible. More experienced botanists can choose which days to attend based on their previous experience. Volunteers need to sign-up to each of these 3 training days separately: \nDay 1: Wildflower Identification training\, Tuesday 10 June.\nDay 2: Grasses and sedges Identification training\, Tuesday 17 June.\nDay 3: Botanical surveys using quadrats training\, Tuesday 24 June. \n \n \n \n  \n  \n  \n  \n  \nWe will spend the morning in a meadow in Teesdale or Allendale\, going through quadrat survey methodology. We will split into groups of three to four and practice undertaking quadrats (1m x 1m squares) with the survey sheets. We will spend the afternoon going through meadow assessments\, looking at undertaking w-walkthroughs and assessing negative indicator and positive indicator species. Please bring packed lunch. \nThe training will be undertaken by Ruth Starr-Keddle\, if you have any queries\, please email: ruth@northpennines.org.uk. \nPlease sign up using the Better Impact volunteer system \n 
URL:https://northpennines.org.uk/event/botanical-training-opportunities-wildflower-grasses-and-surveying-3-copy/
LOCATION:TBC
CATEGORIES:Training,Volunteering
ATTACH;FMTTYPE=image/jpeg:https://northpennines.org.uk/wp-content/uploads/2026/04/Volunteer-quadrat-training-20th-June-2024-c-RSK-6-scaled.jpg
ORGANIZER;CN="North Pennines National Landscape":MAILTO:communications@northpennines.org.uk
END:VEVENT
END:VCALENDAR