BEGIN:VCALENDAR
VERSION:2.0
PRODID:-//North Pennines National Landscape - ECPv6.15.11//NONSGML v1.0//EN
CALSCALE:GREGORIAN
METHOD:PUBLISH
X-WR-CALNAME:North Pennines National Landscape
X-ORIGINAL-URL:https://northpennines.org.uk
X-WR-CALDESC:Events for North Pennines National Landscape
REFRESH-INTERVAL;VALUE=DURATION:PT1H
X-Robots-Tag:noindex
X-PUBLISHED-TTL:PT1H
BEGIN:VTIMEZONE
TZID:Europe/London
BEGIN:DAYLIGHT
TZOFFSETFROM:+0000
TZOFFSETTO:+0100
TZNAME:BST
DTSTART:20210328T010000
END:DAYLIGHT
BEGIN:STANDARD
TZOFFSETFROM:+0100
TZOFFSETTO:+0000
TZNAME:GMT
DTSTART:20211031T010000
END:STANDARD
BEGIN:DAYLIGHT
TZOFFSETFROM:+0000
TZOFFSETTO:+0100
TZNAME:BST
DTSTART:20220327T010000
END:DAYLIGHT
BEGIN:STANDARD
TZOFFSETFROM:+0100
TZOFFSETTO:+0000
TZNAME:GMT
DTSTART:20221030T010000
END:STANDARD
BEGIN:DAYLIGHT
TZOFFSETFROM:+0000
TZOFFSETTO:+0100
TZNAME:BST
DTSTART:20230326T010000
END:DAYLIGHT
BEGIN:STANDARD
TZOFFSETFROM:+0100
TZOFFSETTO:+0000
TZNAME:GMT
DTSTART:20231029T010000
END:STANDARD
BEGIN:DAYLIGHT
TZOFFSETFROM:+0000
TZOFFSETTO:+0100
TZNAME:BST
DTSTART:20240331T010000
END:DAYLIGHT
BEGIN:STANDARD
TZOFFSETFROM:+0100
TZOFFSETTO:+0000
TZNAME:GMT
DTSTART:20241027T010000
END:STANDARD
END:VTIMEZONE
BEGIN:VEVENT
DTSTART;VALUE=DATE:20221014
DTEND;VALUE=DATE:20230401
DTSTAMP:20260422T213215
CREATED:20221018T095341Z
LAST-MODIFIED:20230105T145042Z
UID:10000362-1665705600-1680307199@northpennines.org.uk
SUMMARY:Precious peatlands
DESCRIPTION:An exhibition of photographs from the North Pennines AONB Partnership’s peatland programme\n14 October 2022 to 31 March 2023 \nThe North Pennines AONB Partnership’s peatland programme has been established for over 16 years and has restored an area of damaged peatland three times the size of the city of Newcastle. This exhibition illustrates the process of restoration\, and the nature and changing seasons seen by the team as they work. Drone shots give a sense of scale and at the other end of the spectrum\, close up images show the intricacies of plants like Sphagnum that make up the rich and biodiverse peatland. The North Pennines has the largest area of contiguous blanket bog in the country and the team works to restore the damage to help mitigate against climate change and flood risk. Healthy peatlands are vital\, and absorb carbon from the atmosphere\, filter water\, sustain wildlife and give the high landscapes of the North Pennines its distinctive appearance. Photographs are by the North Pennines AONB Partnership\, and by Teesdale photographer Martin Rogers. \n 
URL:https://northpennines.org.uk/event/precious-peatlands/
LOCATION:Bowlees Visitor Centre\, Newbiggin\, DL12 0XF
CATEGORIES:Bowlees Visitor Centre events,Exhibition,Family-friendly
ATTACH;FMTTYPE=image/jpeg:https://northpennines.org.uk/wp-content/uploads/2022/10/06-Habitat.jpg
ORGANIZER;CN="North Pennines National Landscape":MAILTO:communications@northpennines.org.uk
END:VEVENT
BEGIN:VEVENT
DTSTART;TZID=Europe/London:20230302T100000
DTEND;TZID=Europe/London:20230302T153000
DTSTAMP:20260422T213215
CREATED:20230220T144515Z
LAST-MODIFIED:20230223T130233Z
UID:10000393-1677751200-1677771000@northpennines.org.uk
SUMMARY:Fellfoot Forward hedge planting 2 March
DESCRIPTION:Join us to plant hedges at Hallbankgate farm. As well as getting some fresh air and exercise with friendly people\, you’ll also be helping to bolster local wildlife and carbon sequestration. We will be working with the Men’s Diaspora Group from Multicultural Cumbria. \nBring clothing appropriate for the day’s weather\, ie warm waterproof clothing and sturdy footwear. Tools\, gloves and instructions will be provided\, but please bring an extra spade if you have one. The farmer is kindly providing a warm lunch\, hot drinks and a toilet will also be available. \nSuitable for all ages\, under 16s must be accompanied and supervised by an adult. \nBooking is essential. Please sign up to our volunteer system\, Better Impact\, here. Once accepted\, you will be able to see volunteer opportunities and sign up to the hedge planting session. \nIf you are already on Better Impact\, sign into your profile here and then sign up to the hedge planting session. \nFurther information and queries\, please email: Tim Jacobs  / call 07901326274.
URL:https://northpennines.org.uk/event/fff-hedge-planting-march/
LOCATION:Hallbankgate Farm\, Hallbankgate Farm\, Hallbankgate\, Cumbria\, CA8 2NJ\, United Kingdom
CATEGORIES:Volunteering
ATTACH;FMTTYPE=image/jpeg:https://northpennines.org.uk/wp-content/uploads/2022/12/ERT-Tree-Planting-3.jpg
ORGANIZER;CN="North Pennines National Landscape":MAILTO:communications@northpennines.org.uk
END:VEVENT
BEGIN:VEVENT
DTSTART;TZID=Europe/London:20230304T100000
DTEND;TZID=Europe/London:20230304T140000
DTSTAMP:20260422T213215
CREATED:20230222T145211Z
LAST-MODIFIED:20230227T122816Z
UID:10000394-1677924000-1677938400@northpennines.org.uk
SUMMARY:Fellfoot Forward Stars in the tarn launch 4 March
DESCRIPTION:Join us for the launch event of the ‘Stars in the tarn’ project where you can meet the team of designers\, makers\, and crafts people\, discuss the design of the stargazing pavilion\, and find out about your opportunities to get involved. \nDark skies are a key characteristic of the Fellfoot Forward area’s heritage and Carlisle City Council are keen to protect the dark skies at Talkin Tarn in support of wildlife\, dark sky events\, and to gain designation as a Dark Sky Discovery Site. \nWe have commissioned a stargazing pavilion at Talkin Tarn\, which will encourage people to use the site for stargazing and which can also be used during the daytime as a space for reflection. The stargazing pavilion draws upon the history and materials used in traditional round house construction to bring a new place to rest\, reflect and look up. \nThis is a drop-in event at Talkin Tarn education cabin between 10am – 2pm. All are welcome\, no booking required.
URL:https://northpennines.org.uk/event/fff-stars-in-the-tarn-launch/
LOCATION:Talkin Tarn\, Brampton\, Tarn Road\, Brampton\, CA8 1HN
CATEGORIES:Volunteering
ATTACH;FMTTYPE=image/png:https://northpennines.org.uk/wp-content/uploads/2023/02/Stars-in-the-tarn-pavilion.png
ORGANIZER;CN="North Pennines National Landscape":MAILTO:communications@northpennines.org.uk
END:VEVENT
BEGIN:VEVENT
DTSTART;TZID=Europe/London:20230309T100000
DTEND;TZID=Europe/London:20230309T153000
DTSTAMP:20260422T213215
CREATED:20230217T164320Z
LAST-MODIFIED:20230217T164320Z
UID:10000392-1678356000-1678375800@northpennines.org.uk
SUMMARY:Pennine Way path resurfacing at High Force
DESCRIPTION:A volunteer opportunity has arisen regarding Pennine Way route improvements which will take place on 9 March 10:00-15:30. We will be installing some wooden cross drains and carrying road planing’s in to resurface a section of the Pennine Way which has become eroded. \nPlease bring sturdy footwear and warm waterproof clothing. A change of clothes may be useful for the end of the day.\nAll PPE including work gloves will be provided. The job will involve a walk in of approximately 3/4 mile over rough terrain\, carrying heavy materials in sandbags\, therefore a good level of fitness will be required. It is suitable for 18+ age. Please contact  jack@northpenninesaonb.org.uk if you have any queries. \nMeeting place is the Strathmore Arms\, Holwick. grid\, Holwick ref: NY 90931 26767 w3w: warrior.effort.cropping.\nWe will go together to the access point in our truck. \nPlease sign up using the Better Impact Volunteer link. \n 
URL:https://northpennines.org.uk/event/pennine-way-path-resurfacing-at-high-force/
LOCATION:Holwick\, Strathmore Arms
CATEGORIES:Volunteering
ATTACH;FMTTYPE=image/jpeg:https://northpennines.org.uk/wp-content/uploads/2022/06/100-0027_IMG-Holwick-Scar-May-07.jpg
ORGANIZER;CN="North Pennines National Landscape":MAILTO:communications@northpennines.org.uk
END:VEVENT
BEGIN:VEVENT
DTSTART;TZID=Europe/London:20230314T103000
DTEND;TZID=Europe/London:20230314T143000
DTSTAMP:20260422T213215
CREATED:20230131T163631Z
LAST-MODIFIED:20230308T162415Z
UID:10000379-1678789800-1678804200@northpennines.org.uk
SUMMARY:Improving the experiences of disabled visitors to the North Pennines
DESCRIPTION:A free online training event for tourism businesses and community groups in the North Pennines Area of Outstanding Natural Beauty (AONB). This event will take place on 14 March between 10:30am – 2:30pm. (There will be a break for lunch between 1pm -1:30pm). The shorter session after lunch is an optional informal space to talk and reflect together on the training. \nThis workshop is aimed at improving the experience of disabled visitors to the area. We hope to support you to make proactive changes and to better handle unexpected situations when they arise.\nMost of our buildings are old and there are limitations on what can be done to make them physically more accessible. Yet ‘accessibility’ is so much more than lifts and ramps. For example\, 80% of disabled people have a hidden disability. \nIn this online workshop\, led by disabled trainers from Difference Northeast\, we will explore:\n– The different kinds of barriers that might be putting disabled visitors off\n– Media/mainstream attitudes to disabled people and how these might influence how we try to interact\n– How to offer help and when not to\n– Types of information to share to give people a clearer sense of what to expect. \nPlease contact scarlet@northpenninesaonb.org.uk if you have any queries. \n  \nClick here to book a free place. Places are available to book up until 1 day before the event. \n\n\n\n                \n                \n\n\n 
URL:https://northpennines.org.uk/event/improving-the-experiences-of-disabled-visitors-to-the-north-pennines/
LOCATION:Online
CATEGORIES:Online talk,Training
ATTACH;FMTTYPE=image/jpeg:https://northpennines.org.uk/wp-content/uploads/2023/01/AONBResearchSimoneJRudolphiPhotography-7818.jpg
ORGANIZER;CN="North Pennines National Landscape":MAILTO:communications@northpennines.org.uk
END:VEVENT
BEGIN:VEVENT
DTSTART;TZID=Europe/London:20230315T183000
DTEND;TZID=Europe/London:20230315T203000
DTSTAMP:20260422T213215
CREATED:20230306T104957Z
LAST-MODIFIED:20230306T104957Z
UID:10000187-1678905000-1678912200@northpennines.org.uk
SUMMARY:Trees on farms
DESCRIPTION:Join us for a workshop exploring the different opportunities for tree planting on farms. We will run through the funding options for tree and woodland planting in the Teesdale area\, from individual field trees and hedgerows to areas of woodland and scrub. After food\, there will be a chance for informal discussions and large maps available if you would like to discuss options for your own holding. \nThis workshop is aimed at farmers/landowners within the Tees-Swale: naturally connected programme area but those from elsewhere within the North Pennines AONB are also welcome to attend. \nTo book onto the workshop\, please email Patrick Oulton (include any dietary requirements): patrick@northpenninesaonb.org.uk \n  \n \n  \nDelivered as part of the Tees-Swale: naturally connected programme. Tees-Swale is funded by the National Lottery Heritage Fund and led by the North Pennines AONB Partnership in collaboration with the Yorkshire Dales National Park.
URL:https://northpennines.org.uk/event/trees-on-farms/
LOCATION:Romaldkirk Reading Rooms\, Romaldkirk\, Barnard Castle\, DL12 9EN\, United Kingdom
CATEGORIES:Training
ATTACH;FMTTYPE=image/jpeg:https://northpennines.org.uk/wp-content/uploads/2022/12/ERT-Tree-Planting-3.jpg
ORGANIZER;CN="North Pennines National Landscape":MAILTO:communications@northpennines.org.uk
END:VEVENT
BEGIN:VEVENT
DTSTART;TZID=Europe/London:20230316T100000
DTEND;TZID=Europe/London:20230316T130000
DTSTAMP:20260422T213215
CREATED:20230224T152117Z
LAST-MODIFIED:20230224T152117Z
UID:10000396-1678960800-1678971600@northpennines.org.uk
SUMMARY:Hedge and tree planting
DESCRIPTION:Join us for a short section of hedge planting on a farm near Mickleton on Thursday 16 March 10am-1pm. No experience is necessary\, training can be provided on the day. All equipment is provided. \nSuitable for all ages\, children must be supervised by an adult.\nLocation is a Farm south of Mickleton: Detailed directions and parking instructions will be provided via email at least 2 days prior. \nPlease make sure you bring warm waterproof clothing and sturdy footwear. All tools and PPE\, including work gloves\, will be provided. \nPlease contact Simona@northpenninesaonb.org.uk for more information. \nPlease book using the volunteer platform Better Impact.
URL:https://northpennines.org.uk/event/hedge-and-tree-planting-4/
LOCATION:Mickleton
CATEGORIES:Volunteering
ATTACH;FMTTYPE=image/jpeg:https://northpennines.org.uk/wp-content/uploads/2023/01/Family-tree-planting-pic-e1674124624921.jpg
ORGANIZER;CN="North Pennines National Landscape":MAILTO:communications@northpennines.org.uk
END:VEVENT
BEGIN:VEVENT
DTSTART;TZID=Europe/London:20230316T100000
DTEND;TZID=Europe/London:20230316T140000
DTSTAMP:20260422T213215
CREATED:20230306T122210Z
LAST-MODIFIED:20230306T133754Z
UID:10000189-1678960800-1678975200@northpennines.org.uk
SUMMARY:Pennine Way kissing gate repair
DESCRIPTION:Join us to dig in a post and mending rails for a kissing gate at Burnstones\, near Knarsdale on 16 March\, 10:00 – 14:00. This activity is suitable for 16+ ages\, under 18’s need to be supervised by an adult.\nLocation is:  A689 at Burnstones -parking on the hard standing just off the . Grid Reference: NY 67523 54403. W3W: rucksack.even.fires. The work location is at NY 67417 54597 approx 200m away \nPlease bring sturdy footwear and warm waterproof clothing. A change of clothes may be useful for the end of the day. All PPE including work gloves will be provided. For more information please email jack@northpenninesaonb.org.uk \nPlease sign up using the Better Impact Volunteer platform\nFunded by:
URL:https://northpennines.org.uk/event/pennine-way-kissing-gate-repair/
LOCATION:Knarsdale
CATEGORIES:Volunteering
ATTACH;FMTTYPE=image/jpeg:https://northpennines.org.uk/wp-content/uploads/2023/03/pennine-way-volunteering-gate-drilling-access-work-consent-in-Pennine-Way-People-folder.jpg
ORGANIZER;CN="North Pennines National Landscape":MAILTO:communications@northpennines.org.uk
END:VEVENT
BEGIN:VEVENT
DTSTART;TZID=Europe/London:20230318T100000
DTEND;TZID=Europe/London:20230318T140000
DTSTAMP:20260422T213215
CREATED:20230215T101203Z
LAST-MODIFIED:20230215T101203Z
UID:10000391-1679133600-1679148000@northpennines.org.uk
SUMMARY:Sights and sounds of the North Pennines
DESCRIPTION:Join us at Bowlees Visitor Centre to discover the sights and sounds of the North Pennines AONB. Listen to the evocative calls of the curlew and lapwing as they signal the start of spring in Teesdale. \nBased at Bowlees Visitor Centre\, come and find us at our stall to pick up some bird ID tips and join the drop-in activities running throughout the day including: \n\nHourly guided bird walks to see the rare curlew\, with its evocative call excitedly bubbling through the skies\, and the lapwing’s tumbling flight and characteristic ‘peewit’ display calls.\nCraft workshops lead by a local artist.\nUpload your sightings to the iNaturalist app to help us monitor seasonal changes to iconic species.\n\n  \n \nDelivered as part of the Tees-Swale: naturally connected programme. Tees-Swale is funded by the National Lottery Heritage Fund and led by the North Pennines AONB Partnership in collaboration with the Yorkshire Dales National Park.
URL:https://northpennines.org.uk/event/sights-and-sounds-of-the-north-pennines/
LOCATION:Bowlees Visitor Centre\, Newbiggin\, DL12 0XF
CATEGORIES:Bowlees Visitor Centre events,Family-friendly,Guided walk
ATTACH;FMTTYPE=image/jpeg:https://northpennines.org.uk/wp-content/uploads/2020/04/37.jpeg
ORGANIZER;CN="North Pennines National Landscape":MAILTO:communications@northpennines.org.uk
END:VEVENT
BEGIN:VEVENT
DTSTART;TZID=Europe/London:20230318T100000
DTEND;TZID=Europe/London:20230318T150000
DTSTAMP:20260422T213215
CREATED:20230227T113353Z
LAST-MODIFIED:20230313T112716Z
UID:10000397-1679133600-1679151600@northpennines.org.uk
SUMMARY:Cottongrass plug planting at Hartley Common
DESCRIPTION:Come and join us on a cotton grass plug planting days on Saturday 18 March & Sunday 26 March. We have 12\,000 common cottongrass plants to plant on degraded blanket bog on Hartley Common. \nAmong other benefits\, peatlands are crucial for capturing and storing CO2 and holding back water. Plug planting is an important step in peatland restoration which helps to speed up revegetation and reduce erosion of bare peat. \nPlease sign up using the volunteer platform Better Impact. Please contact Clementine@northpenninesaonb.org.uk for more information. \nLocation: Kirkby Stephen/Nateby – Specific location details will be given to those who sign up to volunteer. Parking will be next to the road. The site is a 10min walk from parking area. Please be aware that the terrain is uneven\, wet\, and boggy. Waterproof clothing and footwear advised.\nPlease note that there are no toilet facilities. The activities are suitable for all ages; children must be supervised by an adult. Please bring a packed lunch and drinks. \n 
URL:https://northpennines.org.uk/event/cotton-grass-plug-planting-at-hartley-common/2023-03-18/
LOCATION:Nateby
CATEGORIES:Volunteering
ATTACH;FMTTYPE=image/jpeg:https://northpennines.org.uk/wp-content/uploads/2023/02/Common-cottongrass-plugs-planted-in-bare-peat-gullies-Warcop-October-2015.jpg
ORGANIZER;CN="North Pennines National Landscape":MAILTO:communications@northpennines.org.uk
END:VEVENT
BEGIN:VEVENT
DTSTART;TZID=Europe/London:20230322T100000
DTEND;TZID=Europe/London:20230322T150000
DTSTAMP:20260422T213215
CREATED:20230227T124057Z
LAST-MODIFIED:20230305T144133Z
UID:10000399-1679479200-1679497200@northpennines.org.uk
SUMMARY:Hedge and tree planting (Tees-Swale)
DESCRIPTION:Join us for a session planting native broadleaved trees in stock proof ‘cactus’ guards on Wednesday 22nd March and Thursday 23rd March 10am – 3pm at Mickleton. \nNo experience is necessary. All training and equipment is provided as well as a buffet lunch. \nSuitable for all ages\, children must be supervised by adult. Please make sure you bring warm waterproof clothing and sturdy footwear.\nMeet at Mickleton Station Picnic area\nWhat 3 words: ///intervene.coasters.workouts\nGrid ref: NY9681 2338 \nThe planting site is a short walk away. \nPlease sign up using the volunteer platform Better Impact. Please contact Simona@northpenninesaonb.org.uk for more information. \n  \n \n  \n 
URL:https://northpennines.org.uk/event/hedge-and-tree-planting-tees-swale/2023-03-22/
LOCATION:Mickleton
CATEGORIES:Volunteering
ATTACH;FMTTYPE=image/jpeg:https://northpennines.org.uk/wp-content/uploads/2022/05/Tree-planting-hallbankgategroup.jpg
ORGANIZER;CN="North Pennines National Landscape":MAILTO:communications@northpennines.org.uk
END:VEVENT
BEGIN:VEVENT
DTSTART;TZID=Europe/London:20230323T100000
DTEND;TZID=Europe/London:20230323T150000
DTSTAMP:20260422T213215
CREATED:20230227T124057Z
LAST-MODIFIED:20230305T144133Z
UID:10000400-1679565600-1679583600@northpennines.org.uk
SUMMARY:Hedge and tree planting (Tees-Swale)
DESCRIPTION:Join us for a session planting native broadleaved trees in stock proof ‘cactus’ guards on Wednesday 22nd March and Thursday 23rd March 10am – 3pm at Mickleton. \nNo experience is necessary. All training and equipment is provided as well as a buffet lunch. \nSuitable for all ages\, children must be supervised by adult. Please make sure you bring warm waterproof clothing and sturdy footwear.\nMeet at Mickleton Station Picnic area\nWhat 3 words: ///intervene.coasters.workouts\nGrid ref: NY9681 2338 \nThe planting site is a short walk away. \nPlease sign up using the volunteer platform Better Impact. Please contact Simona@northpenninesaonb.org.uk for more information. \n  \n \n  \n 
URL:https://northpennines.org.uk/event/hedge-and-tree-planting-tees-swale/2023-03-23/
LOCATION:Mickleton
CATEGORIES:Volunteering
ATTACH;FMTTYPE=image/jpeg:https://northpennines.org.uk/wp-content/uploads/2022/05/Tree-planting-hallbankgategroup.jpg
ORGANIZER;CN="North Pennines National Landscape":MAILTO:communications@northpennines.org.uk
END:VEVENT
BEGIN:VEVENT
DTSTART;TZID=Europe/London:20230325T103000
DTEND;TZID=Europe/London:20230325T133000
DTSTAMP:20260422T213215
CREATED:20230223T105547Z
LAST-MODIFIED:20230223T130054Z
UID:10000395-1679740200-1679751000@northpennines.org.uk
SUMMARY:Fellfoot Forward volunteer event 25 March
DESCRIPTION:We are grateful for the time all our volunteers have given to support the communities\, heritage\, and wildlife of the Fellfoot Forward Landscape Partnership Scheme area. \nAs a thank you\, we invite you to join us at Long Meg for a walk and talk to meet other volunteers and staff\, and discover more about the history of the stone circle. \nThe walk will be followed by lunch. Booking essential.
URL:https://northpennines.org.uk/event/fellfoot-forward-volunteers-event/
LOCATION:Long Meg car park\, Little Salkeld\, Penrith\, Cumbria\, CA10 1NW
CATEGORIES:Guided walk
ATTACH;FMTTYPE=image/jpeg:https://northpennines.org.uk/wp-content/uploads/2020/07/Long-Meg-Daughters7_VK180524.jpg
ORGANIZER;CN="North Pennines National Landscape":MAILTO:communications@northpennines.org.uk
END:VEVENT
BEGIN:VEVENT
DTSTART;TZID=Europe/London:20230326T100000
DTEND;TZID=Europe/London:20230326T150000
DTSTAMP:20260422T213215
CREATED:20230227T113353Z
LAST-MODIFIED:20230313T112716Z
UID:10000398-1679824800-1679842800@northpennines.org.uk
SUMMARY:Cottongrass plug planting at Hartley Common
DESCRIPTION:Come and join us on a cotton grass plug planting days on Saturday 18 March & Sunday 26 March. We have 12\,000 common cottongrass plants to plant on degraded blanket bog on Hartley Common. \nAmong other benefits\, peatlands are crucial for capturing and storing CO2 and holding back water. Plug planting is an important step in peatland restoration which helps to speed up revegetation and reduce erosion of bare peat. \nPlease sign up using the volunteer platform Better Impact. Please contact Clementine@northpenninesaonb.org.uk for more information. \nLocation: Kirkby Stephen/Nateby – Specific location details will be given to those who sign up to volunteer. Parking will be next to the road. The site is a 10min walk from parking area. Please be aware that the terrain is uneven\, wet\, and boggy. Waterproof clothing and footwear advised.\nPlease note that there are no toilet facilities. The activities are suitable for all ages; children must be supervised by an adult. Please bring a packed lunch and drinks. \n 
URL:https://northpennines.org.uk/event/cotton-grass-plug-planting-at-hartley-common/2023-03-26/
LOCATION:Nateby
CATEGORIES:Volunteering
ATTACH;FMTTYPE=image/jpeg:https://northpennines.org.uk/wp-content/uploads/2023/02/Common-cottongrass-plugs-planted-in-bare-peat-gullies-Warcop-October-2015.jpg
ORGANIZER;CN="North Pennines National Landscape":MAILTO:communications@northpennines.org.uk
END:VEVENT
BEGIN:VEVENT
DTSTART;TZID=Europe/London:20230331T110000
DTEND;TZID=Europe/London:20230331T133000
DTSTAMP:20260422T213215
CREATED:20230327T140135Z
LAST-MODIFIED:20230327T142050Z
UID:10000409-1680260400-1680269400@northpennines.org.uk
SUMMARY:Fellfoot Forward Site seeing get together
DESCRIPTION:This will be an opportunity to get together prior to the surveying season with lunch and a stroll. \nThis year\, we’ll be continuing our surveys across the Fellfoot Forward scheme area\, including County Wildlife Sites\, and there will be training days as a refresher\, and to welcome and train new recorders. We’ll discuss and plan the year ahead\, enjoy a bite to eat (on us\, of course)\, and after lunch\, there’ll be the opportunity for a stroll around Coombes Wood with Stuart Colgate from CBDC. \nLunch will be provided at the Fox and Pheasant Inn\, Armathwaite. \nPlease bring sturdy shoes\, warm and waterproof clothing. You may wish to bring your own refreshments. Walking will be on uneven ground. \nPlease book your space here.
URL:https://northpennines.org.uk/event/fff-site-seeing-get-together/
LOCATION:Armathwaite\, Cumbria\, CA4 9PW
CATEGORIES:Volunteering
ATTACH;FMTTYPE=image/webp:https://northpennines.org.uk/wp-content/uploads/2023/03/site-seeing-pic-2-e1679926417271.webp
ORGANIZER;CN="North Pennines National Landscape":MAILTO:communications@northpennines.org.uk
END:VEVENT
END:VCALENDAR