BEGIN:VCALENDAR
VERSION:2.0
PRODID:-//North Pennines National Landscape - ECPv6.15.11//NONSGML v1.0//EN
CALSCALE:GREGORIAN
METHOD:PUBLISH
X-WR-CALNAME:North Pennines National Landscape
X-ORIGINAL-URL:https://northpennines.org.uk
X-WR-CALDESC:Events for North Pennines National Landscape
REFRESH-INTERVAL;VALUE=DURATION:PT1H
X-Robots-Tag:noindex
X-PUBLISHED-TTL:PT1H
BEGIN:VTIMEZONE
TZID:Europe/London
BEGIN:DAYLIGHT
TZOFFSETFROM:+0000
TZOFFSETTO:+0100
TZNAME:BST
DTSTART:20250330T010000
END:DAYLIGHT
BEGIN:STANDARD
TZOFFSETFROM:+0100
TZOFFSETTO:+0000
TZNAME:GMT
DTSTART:20251026T010000
END:STANDARD
BEGIN:DAYLIGHT
TZOFFSETFROM:+0000
TZOFFSETTO:+0100
TZNAME:BST
DTSTART:20260329T010000
END:DAYLIGHT
BEGIN:STANDARD
TZOFFSETFROM:+0100
TZOFFSETTO:+0000
TZNAME:GMT
DTSTART:20261025T010000
END:STANDARD
BEGIN:DAYLIGHT
TZOFFSETFROM:+0000
TZOFFSETTO:+0100
TZNAME:BST
DTSTART:20270328T010000
END:DAYLIGHT
BEGIN:STANDARD
TZOFFSETFROM:+0100
TZOFFSETTO:+0000
TZNAME:GMT
DTSTART:20271031T010000
END:STANDARD
END:VTIMEZONE
BEGIN:VEVENT
DTSTART;TZID=Europe/London:20260314T093000
DTEND;TZID=Europe/London:20260314T163000
DTSTAMP:20260421T232145
CREATED:20260120T160831Z
LAST-MODIFIED:20260120T162645Z
UID:10001982-1773480600-1773505800@northpennines.org.uk
SUMMARY:Northern Adders Conference
DESCRIPTION:The North Pennines National Landscape is hosting the Northern Adders Conference on Saturday\, 14 March 2026\, 9.30am to 4.30pm. \nThe conference will focus on adders in the north\, exploring conservation\, research\, education and engagement\, and the particular challenges and opportunities that exist in northern landscapes. \nThis full-day conference is open to anyone with an interest in adder conservation\, and delegates will have the opportunity to learn about efforts to protect this vulnerable species and hear about ways that adders are being celebrated in the North. \nThere is an opportunity for people who are undertaking research in this field to submit and display a research poster at the conference. If you are interested in this option please email samuel@northpennines.org.uk \nBooking is essential – if you would like to attend\, please book online using the booking form below. Refreshments and lunch will be provided. \n\n\n\n                \n                \n\n\n  \n    \n 
URL:https://northpennines.org.uk/event/northern-adders-conference/
LOCATION:Tullie House Museum\, Castle Street\, Carlisle\, CA3 8TP
CATEGORIES:Adders,Conference,Research
ATTACH;FMTTYPE=image/jpeg:https://northpennines.org.uk/wp-content/uploads/2024/07/18.07.24-Lucy2-cropped-e1722001917347.jpg
ORGANIZER;CN="North Pennines National Landscape":MAILTO:communications@northpennines.org.uk
END:VEVENT
END:VCALENDAR