BEGIN:VCALENDAR
VERSION:2.0
PRODID:-//North Pennines National Landscape - ECPv6.15.11//NONSGML v1.0//EN
CALSCALE:GREGORIAN
METHOD:PUBLISH
X-WR-CALNAME:North Pennines National Landscape
X-ORIGINAL-URL:https://northpennines.org.uk
X-WR-CALDESC:Events for North Pennines National Landscape
REFRESH-INTERVAL;VALUE=DURATION:PT1H
X-Robots-Tag:noindex
X-PUBLISHED-TTL:PT1H
BEGIN:VTIMEZONE
TZID:Europe/London
BEGIN:DAYLIGHT
TZOFFSETFROM:+0000
TZOFFSETTO:+0100
TZNAME:BST
DTSTART:20230326T010000
END:DAYLIGHT
BEGIN:STANDARD
TZOFFSETFROM:+0100
TZOFFSETTO:+0000
TZNAME:GMT
DTSTART:20231029T010000
END:STANDARD
BEGIN:DAYLIGHT
TZOFFSETFROM:+0000
TZOFFSETTO:+0100
TZNAME:BST
DTSTART:20240331T010000
END:DAYLIGHT
BEGIN:STANDARD
TZOFFSETFROM:+0100
TZOFFSETTO:+0000
TZNAME:GMT
DTSTART:20241027T010000
END:STANDARD
BEGIN:DAYLIGHT
TZOFFSETFROM:+0000
TZOFFSETTO:+0100
TZNAME:BST
DTSTART:20250330T010000
END:DAYLIGHT
BEGIN:STANDARD
TZOFFSETFROM:+0100
TZOFFSETTO:+0000
TZNAME:GMT
DTSTART:20251026T010000
END:STANDARD
END:VTIMEZONE
BEGIN:VEVENT
DTSTART;TZID=Europe/London:20240923T090000
DTEND;TZID=Europe/London:20240923T120000
DTSTAMP:20260424T134400
CREATED:20240701T134332Z
LAST-MODIFIED:20240701T134332Z
UID:10001078-1727082000-1727092800@northpennines.org.uk
SUMMARY:Adder survey opportunities
DESCRIPTION:Would you like to contribute to the conservation of adders in the North Pennines National Landscape?\nWe are looking for enthusiastic volunteers to complete surveys of this iconic reptile\, which is now vulnerable to extinction in England\, as part of our ‘Adders Up’ project. \nVolunteers must attend a training session before being assigned surveys. Link to online webinar – Upcoming Events –Adders\, ecology and survey techiniques \nThere are three opportunities to volunteer at Slaley Forest (Forestry England): 6 August\, 9 and 23 September\, 9am to 12 noon. \nThe surveys are ideally suited for adults\, under 16’s must be supervised by an adult. Walking distances are short\, but potentially over un-even terrain and on slopes. Please wear sturdy boots\, outdoor clothing appropriate for the weather\, bring snacks and drinks and a fully charged mobile phone. No toilets / amenities are present on the sites. Nearest options will be made known at the start of the session during the H&S briefing.\nPlease contact Henry Barrett for more information. \nPlease sign up using the volunteer system Better Impact. \n  \n    
URL:https://northpennines.org.uk/event/adder-survey-opportunities-2/2024-09-23/
LOCATION:Slaley Forest\, NE47 0BY
CATEGORIES:Volunteering
ATTACH;FMTTYPE=image/jpeg:https://northpennines.org.uk/wp-content/uploads/2019/12/Webp.net-resizeimage-24.jpg
ORGANIZER;CN="North Pennines National Landscape":MAILTO:communications@northpennines.org.uk
END:VEVENT
END:VCALENDAR