BEGIN:VCALENDAR
VERSION:2.0
PRODID:-//North Pennines National Landscape - ECPv6.15.11//NONSGML v1.0//EN
CALSCALE:GREGORIAN
METHOD:PUBLISH
X-WR-CALNAME:North Pennines National Landscape
X-ORIGINAL-URL:https://northpennines.org.uk
X-WR-CALDESC:Events for North Pennines National Landscape
REFRESH-INTERVAL;VALUE=DURATION:PT1H
X-Robots-Tag:noindex
X-PUBLISHED-TTL:PT1H
BEGIN:VTIMEZONE
TZID:Europe/London
BEGIN:DAYLIGHT
TZOFFSETFROM:+0000
TZOFFSETTO:+0100
TZNAME:BST
DTSTART:20230326T010000
END:DAYLIGHT
BEGIN:STANDARD
TZOFFSETFROM:+0100
TZOFFSETTO:+0000
TZNAME:GMT
DTSTART:20231029T010000
END:STANDARD
BEGIN:DAYLIGHT
TZOFFSETFROM:+0000
TZOFFSETTO:+0100
TZNAME:BST
DTSTART:20240331T010000
END:DAYLIGHT
BEGIN:STANDARD
TZOFFSETFROM:+0100
TZOFFSETTO:+0000
TZNAME:GMT
DTSTART:20241027T010000
END:STANDARD
BEGIN:DAYLIGHT
TZOFFSETFROM:+0000
TZOFFSETTO:+0100
TZNAME:BST
DTSTART:20250330T010000
END:DAYLIGHT
BEGIN:STANDARD
TZOFFSETFROM:+0100
TZOFFSETTO:+0000
TZNAME:GMT
DTSTART:20251026T010000
END:STANDARD
END:VTIMEZONE
BEGIN:VEVENT
DTSTART;TZID=Europe/London:20240925T100000
DTEND;TZID=Europe/London:20240925T123000
DTSTAMP:20260424T134400
CREATED:20240716T155831Z
LAST-MODIFIED:20240731T115241Z
UID:10001096-1727258400-1727267400@northpennines.org.uk
SUMMARY:Volunteer opportunity - tree seed collecting
DESCRIPTION:Join us for a session of collecting hazelnuts to be grown at the Bowlees tree & wildflower nursery\, 25 September\, 10am to 12.30pm. We will be sorting and sowing seeds in the afternoon as part of the regular nursery drop in session in the afternoon\, 1pm to 4pm. \nPlease wear suitable outdoor clothing and sturdy shoes. The activity is suitable for all ages; children must be supervised by an adult. The exact location will be shared nearer to the date. \nPlease sign up using the volunteer platform Better Impact
URL:https://northpennines.org.uk/event/volunteer-opportunity-tree-seed-collecting-2/
LOCATION:Teesdale
CATEGORIES:Volunteering
ATTACH;FMTTYPE=image/jpeg:https://northpennines.org.uk/wp-content/uploads/2023/07/High-Helbeck-tree-seed-collection-project-volunteers-collecting-birch-seeds-Sept-2021.jpg
ORGANIZER;CN="North Pennines National Landscape":MAILTO:communications@northpennines.org.uk
END:VEVENT
END:VCALENDAR