BEGIN:VCALENDAR
VERSION:2.0
PRODID:-//North Pennines National Landscape - ECPv6.15.11//NONSGML v1.0//EN
CALSCALE:GREGORIAN
METHOD:PUBLISH
X-WR-CALNAME:North Pennines National Landscape
X-ORIGINAL-URL:https://northpennines.org.uk
X-WR-CALDESC:Events for North Pennines National Landscape
REFRESH-INTERVAL;VALUE=DURATION:PT1H
X-Robots-Tag:noindex
X-PUBLISHED-TTL:PT1H
BEGIN:VTIMEZONE
TZID:Europe/London
BEGIN:DAYLIGHT
TZOFFSETFROM:+0000
TZOFFSETTO:+0100
TZNAME:BST
DTSTART:20240331T010000
END:DAYLIGHT
BEGIN:STANDARD
TZOFFSETFROM:+0100
TZOFFSETTO:+0000
TZNAME:GMT
DTSTART:20241027T010000
END:STANDARD
BEGIN:DAYLIGHT
TZOFFSETFROM:+0000
TZOFFSETTO:+0100
TZNAME:BST
DTSTART:20250330T010000
END:DAYLIGHT
BEGIN:STANDARD
TZOFFSETFROM:+0100
TZOFFSETTO:+0000
TZNAME:GMT
DTSTART:20251026T010000
END:STANDARD
BEGIN:DAYLIGHT
TZOFFSETFROM:+0000
TZOFFSETTO:+0100
TZNAME:BST
DTSTART:20260329T010000
END:DAYLIGHT
BEGIN:STANDARD
TZOFFSETFROM:+0100
TZOFFSETTO:+0000
TZNAME:GMT
DTSTART:20261025T010000
END:STANDARD
END:VTIMEZONE
BEGIN:VEVENT
DTSTART;TZID=Europe/London:20250823T180000
DTEND;TZID=Europe/London:20250823T230000
DTSTAMP:20260422T155057
CREATED:20250616T150834Z
LAST-MODIFIED:20250723T162913Z
UID:10001427-1755972000-1755990000@northpennines.org.uk
SUMMARY:Nenthead supper - a feast of food\, music and community
DESCRIPTION:Celebrate Nenthead’s village and history with a heart warming evening of food\, music and dance as part of Nenthead200 celebrations. The Nenthead supper is a chance for people to get together\, share a delicious meal\, and enjoy live local entertainment at Nenthead Village Hall\, Saturday 23 August\, 6pm to 11pm. \nEnjoy a warm buffet supper of traditional Cumbrian favourites by local caterer\, Angela Drane. Tap your toes and dance the night away to the sounds of live folk music and dancing\, performed by a specially formed band of local musicians. \nTickets cost £10 for adults over the age of 16. Under 16’s are free and must be accompanied by a paying adult\, (maximum three under 16’s per adult). Tickets are available using the Ticketsource link below and are also available from Nenthead Village Shop. All proceeds from this event will go to Nenthead Village Hall. \nWe are offering 5 bursary places for this course which will reduce the cost to £0. There is no strict criteria for these places\, they are available for anyone for whom the cost is prohibitive. To request a bursary place please email rebecca@northpennines.org.uk. \nThe details of the event have been altered from one that was previously listed as “Dinner and folk dance” on the website and in the celebration leaflet. \nPlease book using the Ticketsource link. \n\n\n\n                \n                \n\n\nThis event is part of the Nenthead200 celebrations\, marking 200 years since the London Lead Company designed the village of Nenthead. To find out more go to: https://northpennines.org.uk/what_we_do/historic-environment/land-of-lead-and-silver/nenthead200-celebration/ \nNo designated parking\, but drop-off near door\, wheelchair accessible\, wheelchair accessible toilet. \n 
URL:https://northpennines.org.uk/event/nenthead200-traditional-dinner-and-dance/
LOCATION:Nenthead Village Hall\, Nenthead\, Alston\, CA9 3PN
CATEGORIES:Historic environment event,Nenthead200
ATTACH;FMTTYPE=image/jpeg:https://northpennines.org.uk/wp-content/uploads/2025/06/Dinner-dance-band-Picture1.jpg
ORGANIZER;CN="North Pennines National Landscape":MAILTO:communications@northpennines.org.uk
END:VEVENT
END:VCALENDAR