BEGIN:VCALENDAR
VERSION:2.0
PRODID:-//North Pennines National Landscape - ECPv6.15.11//NONSGML v1.0//EN
CALSCALE:GREGORIAN
METHOD:PUBLISH
X-WR-CALNAME:North Pennines National Landscape
X-ORIGINAL-URL:https://northpennines.org.uk
X-WR-CALDESC:Events for North Pennines National Landscape
REFRESH-INTERVAL;VALUE=DURATION:PT1H
X-Robots-Tag:noindex
X-PUBLISHED-TTL:PT1H
BEGIN:VTIMEZONE
TZID:Europe/London
BEGIN:DAYLIGHT
TZOFFSETFROM:+0000
TZOFFSETTO:+0100
TZNAME:BST
DTSTART:20240331T010000
END:DAYLIGHT
BEGIN:STANDARD
TZOFFSETFROM:+0100
TZOFFSETTO:+0000
TZNAME:GMT
DTSTART:20241027T010000
END:STANDARD
BEGIN:DAYLIGHT
TZOFFSETFROM:+0000
TZOFFSETTO:+0100
TZNAME:BST
DTSTART:20250330T010000
END:DAYLIGHT
BEGIN:STANDARD
TZOFFSETFROM:+0100
TZOFFSETTO:+0000
TZNAME:GMT
DTSTART:20251026T010000
END:STANDARD
BEGIN:DAYLIGHT
TZOFFSETFROM:+0000
TZOFFSETTO:+0100
TZNAME:BST
DTSTART:20260329T010000
END:DAYLIGHT
BEGIN:STANDARD
TZOFFSETFROM:+0100
TZOFFSETTO:+0000
TZNAME:GMT
DTSTART:20261025T010000
END:STANDARD
END:VTIMEZONE
BEGIN:VEVENT
DTSTART;TZID=Europe/London:20250208T100000
DTEND;TZID=Europe/London:20250208T150000
DTSTAMP:20260424T064255
CREATED:20241008T121114Z
LAST-MODIFIED:20250115T171836Z
UID:10001164-1739008800-1739026800@northpennines.org.uk
SUMMARY:Introduction to photogrammetry workshop
DESCRIPTION:Photogrammetry is the method of creating a virtual 3D model from a selection of overlapping photographs. The technique is increasingly used by conservators and archaeologists to record\, investigate and promote heritage. \nThe workshop on Saturday 8 February\, 10am to 3pm\, at Rookhope Village Hall is aimed at complete beginners to the process\, so no experience is necessary. You will learn the basic principles of photogrammetry and how to apply them to make your own digital 3D models using free software. \nThe workshop is interactive\, and invites you to bring your own laptop with pre-installed software\, (links will be sent to attendees before the workshop)\, and camera/phone\, so that we can work through the process together. At the end of the session there will be an opportunity to put your new found skills to the test. \nExamples of virtual 3D models: https://sketchfab.com/aki132 \nPlease sign up using the volunteer system Better Impact  \n  \n    \n  \n 
URL:https://northpennines.org.uk/event/introduction-to-photogrammetry-workshop/
LOCATION:Rookhope Village Hall\, DL13 2 BP
CATEGORIES:Training,Volunteering
ATTACH;FMTTYPE=image/jpeg:https://northpennines.org.uk/wp-content/uploads/2024/10/pic-for-advertising.jpg
ORGANIZER;CN="North Pennines National Landscape":MAILTO:communications@northpennines.org.uk
END:VEVENT
BEGIN:VEVENT
DTSTART;TZID=Europe/London:20250213T173000
DTEND;TZID=Europe/London:20250213T193000
DTSTAMP:20260424T064255
CREATED:20241008T104501Z
LAST-MODIFIED:20250121T095535Z
UID:10001206-1739467800-1739475000@northpennines.org.uk
SUMMARY:Nenthead200 volunteer committee meeting
DESCRIPTION:2025 will mark the 200th anniversary of the London Lead Company planning the village of Nenthead. To mark this occasion\, we would like to organise a celebration event in the form of a traditional village fair. \nJoin us in helping to plan the mining event in Nenthead\, in August next year. The group meets once a month in the lead up  working together with the local community of Nenthead. \nPlease sign up using the volunteer system Better Impact \nPlease contact rebecca@northpennines.org.uk for more information. \nThis opportunity is aimed at people living locally to Nenthead or with a specific interest in the mining heritage of the area. Free refreshments provided. Children must be supervised by an adult. Wheelchair accessible\, no designated parking but drop-off available near the entrance. \n  \n   
URL:https://northpennines.org.uk/event/nenthead200-volunteer-committee-meeting/2025-02-13/
LOCATION:Nenthead Village Hall\, Nenthead\, Alston\, CA9 3PN
CATEGORIES:Volunteering
ATTACH;FMTTYPE=image/jpeg:https://northpennines.org.uk/wp-content/uploads/2024/03/Volunteers-on-bridge-Nenthead-0623.jpg
ORGANIZER;CN="North Pennines National Landscape":MAILTO:communications@northpennines.org.uk
END:VEVENT
BEGIN:VEVENT
DTSTART;TZID=Europe/London:20250222T103000
DTEND;TZID=Europe/London:20250222T143000
DTSTAMP:20260424T064255
CREATED:20250130T112710Z
LAST-MODIFIED:20250203T145857Z
UID:10001264-1740220200-1740234600@northpennines.org.uk
SUMMARY:Saturday stroll - a guided walk
DESCRIPTION:Join us for a guided walk through a historic landscape at a relaxed pace on the last Saturday of each month. \nThe walk starting at Allenheads\, on 22 February will begin at 10.30am and finish at approximately 1pm. You are welcome to join us after the walk for free refreshments at The Hemmel café finishing by 2.30pm. \nAll ages are welcome (children must be accompanied by an adult and must be able to walk or be carried as the paths may not be suitable for pushchairs). Well behaved dogs on a short lead are welcome. The walks will be approximately 3 miles in length on mostly flat ground and with rest breaks along the way. \nThe final details of the walk are subject to change\, please check back closer to the event for final details. There are likely to be a couple of stiles to climb over on this walk. \nOptional donation – suggested amount £3. We use donations to continue the work of the Land of Lead and Silver project supporting volunteers and community activities after the project ends. \nPlease book using the Ticketsource link \n\n\n\n                \n                \n\n\n  \n   
URL:https://northpennines.org.uk/event/saturday-stroll-a-guided-walk-allenheads/
LOCATION:Allenheads
CATEGORIES:Walking
ATTACH;FMTTYPE=image/jpeg:https://northpennines.org.uk/wp-content/uploads/2023/04/circular-walk-sign-waymarker-moss-gatepost-Bowlees.jpg
ORGANIZER;CN="North Pennines National Landscape":MAILTO:communications@northpennines.org.uk
END:VEVENT
END:VCALENDAR