BEGIN:VCALENDAR
VERSION:2.0
PRODID:-//North Pennines National Landscape - ECPv6.15.11//NONSGML v1.0//EN
CALSCALE:GREGORIAN
METHOD:PUBLISH
X-ORIGINAL-URL:https://northpennines.org.uk
X-WR-CALDESC:Events for North Pennines National Landscape
REFRESH-INTERVAL;VALUE=DURATION:PT1H
X-Robots-Tag:noindex
X-PUBLISHED-TTL:PT1H
BEGIN:VTIMEZONE
TZID:Europe/London
BEGIN:DAYLIGHT
TZOFFSETFROM:+0000
TZOFFSETTO:+0100
TZNAME:BST
DTSTART:20240331T010000
END:DAYLIGHT
BEGIN:STANDARD
TZOFFSETFROM:+0100
TZOFFSETTO:+0000
TZNAME:GMT
DTSTART:20241027T010000
END:STANDARD
BEGIN:DAYLIGHT
TZOFFSETFROM:+0000
TZOFFSETTO:+0100
TZNAME:BST
DTSTART:20250330T010000
END:DAYLIGHT
BEGIN:STANDARD
TZOFFSETFROM:+0100
TZOFFSETTO:+0000
TZNAME:GMT
DTSTART:20251026T010000
END:STANDARD
BEGIN:DAYLIGHT
TZOFFSETFROM:+0000
TZOFFSETTO:+0100
TZNAME:BST
DTSTART:20260329T010000
END:DAYLIGHT
BEGIN:STANDARD
TZOFFSETFROM:+0100
TZOFFSETTO:+0000
TZNAME:GMT
DTSTART:20261025T010000
END:STANDARD
END:VTIMEZONE
BEGIN:VEVENT
DTSTART;TZID=Europe/London:20250412T100000
DTEND;TZID=Europe/London:20250412T130000
DTSTAMP:20260424T022447
CREATED:20250313T111116Z
LAST-MODIFIED:20251208T112055Z
UID:10001297-1744452000-1744462800@northpennines.org.uk
SUMMARY:North Pennines Young Archaeologists' Club
DESCRIPTION:Become a member of the North Pennines Young Archaeologists’ Club (YAC) and get involved in all sorts of activities\, including visiting and investigating archaeological sites and historic places\, trying out traditional crafts\, taking part in excavations\, and lots more. YAC is open to everyone aged 8–16 years interested in archaeology. \nThe club meet once a month on a Saturday at Alston Moor Recreation Ground and Pavilion\, 10am to 1pm. The first session is 12 April. \nOther dates for 2025 are: 10 May\, 14 June\, 12 July\, 13 September\, 11 October\, 8 November and 13 December. We encourage signing up for as many sessions as possible to get the best experience. \nYAC is the place for young people who might want to become a professional archaeologist in the future\, or just feel like taking up an amazing new hobby. It offers 8 to 16 year olds the chance to get their hands mucky\, participating in archaeology and discovering why it matters. The clubs explore all eras of human history\, including the Romans\, Vikings\, Ancient Egyptians and Victorians\, and members take part in all sorts of hands-on activities\, such as investigating archaeological sites and historic places\, taking part in excavations\, and working with artefacts. \nThe club also run lots of craft-based activities based on archaeological periods and technology\, with members trying out many traditional crafts. \nPlease use the link to Ticketsource to book.
URL:https://northpennines.org.uk/event/north-pennines-young-archaeologists-club/
LOCATION:Alston Moor Recreation Ground and Pavilion\, Alston\, CA9 3HS
CATEGORIES:Archaeology
ATTACH;FMTTYPE=image/jpeg:https://northpennines.org.uk/wp-content/uploads/2025/03/Archaeological_dig-cNorth-Pennines-National-Landscape-1-scaled.jpg
ORGANIZER;CN="North Pennines National Landscape":MAILTO:communications@northpennines.org.uk
END:VEVENT
BEGIN:VEVENT
DTSTART;TZID=Europe/London:20250417T173000
DTEND;TZID=Europe/London:20250417T193000
DTSTAMP:20260424T022447
CREATED:20241008T104501Z
LAST-MODIFIED:20250121T095535Z
UID:10001208-1744911000-1744918200@northpennines.org.uk
SUMMARY:Nenthead200 volunteer committee meeting
DESCRIPTION:2025 will mark the 200th anniversary of the London Lead Company planning the village of Nenthead. To mark this occasion\, we would like to organise a celebration event in the form of a traditional village fair. \nJoin us in helping to plan the mining event in Nenthead\, in August next year. The group meets once a month in the lead up  working together with the local community of Nenthead. \nPlease sign up using the volunteer system Better Impact \nPlease contact rebecca@northpennines.org.uk for more information. \nThis opportunity is aimed at people living locally to Nenthead or with a specific interest in the mining heritage of the area. Free refreshments provided. Children must be supervised by an adult. Wheelchair accessible\, no designated parking but drop-off available near the entrance. \n  \n   
URL:https://northpennines.org.uk/event/nenthead200-volunteer-committee-meeting/2025-04-17/
LOCATION:Nenthead Village Hall\, Nenthead\, Alston\, CA9 3PN
CATEGORIES:Volunteering
ATTACH;FMTTYPE=image/jpeg:https://northpennines.org.uk/wp-content/uploads/2024/03/Volunteers-on-bridge-Nenthead-0623.jpg
ORGANIZER;CN="North Pennines National Landscape":MAILTO:communications@northpennines.org.uk
END:VEVENT
BEGIN:VEVENT
DTSTART;TZID=Europe/London:20250428T180000
DTEND;TZID=Europe/London:20250428T200000
DTSTAMP:20260424T022447
CREATED:20250407T151006Z
LAST-MODIFIED:20250407T152033Z
UID:10001382-1745863200-1745870400@northpennines.org.uk
SUMMARY:Charcoal sketching workshop (Nenthead200)
DESCRIPTION:Come along to a laid-back evening of charcoal sketching with local artist\, Sheila Mitton\, at The Hive in Nenthead on Monday 28 April\, from 6pm to 8pm. \nEveryone is welcome\, even if you’re a complete beginner. You don’t need to bring anything\, as all the supplies will be provided. \nThis workshop is part of the Nenthead200 celebrations\, marking 200 years since the London Lead Company designed the village of Nenthead. To find out more visit the Nenthead200 web page. \nThe Hive\, Nenthead\, CA9 3PF\nhttps://maps.app.goo.gl/TXBQnigRE4cNT1Rg9 \nNo designated parking\, but drop-off near door. The venue is wheelchair accessible with an accessible toilet. \nTickets are free with a suggested donation of £3. Please book using the Ticketsource link below. \n\n\n\n                \n                \n\n\n  \nThis event is part of the Land of Lead and Silver project\, funded by The National Lottery Heritage Fund\, thanks to National Lottery players\, and Historic England. \n         \n 
URL:https://northpennines.org.uk/event/charcoal-sketching-workshop/
LOCATION:The Hive\, Nenthead\, Cumbria\, CA9 3PF
CATEGORIES:Art,Family-friendly
ATTACH;FMTTYPE=image/jpeg:https://northpennines.org.uk/wp-content/uploads/2025/04/Charcoal-sketch.jpg
ORGANIZER;CN="North Pennines National Landscape":MAILTO:communications@northpennines.org.uk
END:VEVENT
END:VCALENDAR