BEGIN:VCALENDAR
VERSION:2.0
PRODID:-//North Pennines National Landscape - ECPv6.15.11//NONSGML v1.0//EN
CALSCALE:GREGORIAN
METHOD:PUBLISH
X-ORIGINAL-URL:https://northpennines.org.uk
X-WR-CALDESC:Events for North Pennines National Landscape
REFRESH-INTERVAL;VALUE=DURATION:PT1H
X-Robots-Tag:noindex
X-PUBLISHED-TTL:PT1H
BEGIN:VTIMEZONE
TZID:Europe/London
BEGIN:DAYLIGHT
TZOFFSETFROM:+0000
TZOFFSETTO:+0100
TZNAME:BST
DTSTART:20240331T010000
END:DAYLIGHT
BEGIN:STANDARD
TZOFFSETFROM:+0100
TZOFFSETTO:+0000
TZNAME:GMT
DTSTART:20241027T010000
END:STANDARD
BEGIN:DAYLIGHT
TZOFFSETFROM:+0000
TZOFFSETTO:+0100
TZNAME:BST
DTSTART:20250330T010000
END:DAYLIGHT
BEGIN:STANDARD
TZOFFSETFROM:+0100
TZOFFSETTO:+0000
TZNAME:GMT
DTSTART:20251026T010000
END:STANDARD
BEGIN:DAYLIGHT
TZOFFSETFROM:+0000
TZOFFSETTO:+0100
TZNAME:BST
DTSTART:20260329T010000
END:DAYLIGHT
BEGIN:STANDARD
TZOFFSETFROM:+0100
TZOFFSETTO:+0000
TZNAME:GMT
DTSTART:20261025T010000
END:STANDARD
END:VTIMEZONE
BEGIN:VEVENT
DTSTART;TZID=Europe/London:20250802T130000
DTEND;TZID=Europe/London:20250802T150000
DTSTAMP:20260421T232602
CREATED:20250702T161058Z
LAST-MODIFIED:20250725T150022Z
UID:10001428-1754139600-1754146800@northpennines.org.uk
SUMMARY:Tea party on the trail - Nenthead200
DESCRIPTION:Join us at the historic Georgian country house\, Lovelady Shield Hotel\, on Saturday 2 August\, 1pm to 3pm\, for an outdoor afternoon tea party as part of the Nenthead200 celebrations taking place over the next few months. \nTake your taste buds back in time with local classic tea party recipes from the Nenthead Women’s Institute cookery book. \nTickets £10 per person. All ages are welcome (children must be accompanied by an adult) and we can allow well-behaved dogs on short leads\, but due to allergy reasons they can’t be in the restaurant if we are inside due to bad weather. This is a no alcohol event. \nThe final details of the event are subject to change\, please check back closer to the event for final details. \nWe are offering 2 bursary places which will reduce the cost to £0. There is no strict criteria for these places\, they are available for anyone for whom the cost is prohibitive. To request a bursary place please email rebecca@northpennines.org.uk \nPlease book using the Ticketsource link \n\n\n\n                \n                \n\n\n         \n 
URL:https://northpennines.org.uk/event/tea-party-on-the-trail-nenthead200/
LOCATION:Lovelady Shield Hotel\, Alston\, CA9 3LX
CATEGORIES:Nenthead200
ATTACH;FMTTYPE=image/jpeg:https://northpennines.org.uk/wp-content/uploads/2025/06/Tea-party-image-IMG-20250605-WA0001.jpg-3-e1750089492573.jpg
ORGANIZER;CN="North Pennines National Landscape":MAILTO:communications@northpennines.org.uk
END:VEVENT
BEGIN:VEVENT
DTSTART;TZID=Europe/London:20250814T173000
DTEND;TZID=Europe/London:20250814T193000
DTSTAMP:20260421T232602
CREATED:20241008T104501Z
LAST-MODIFIED:20250121T095535Z
UID:10001212-1755192600-1755199800@northpennines.org.uk
SUMMARY:Nenthead200 volunteer committee meeting
DESCRIPTION:2025 will mark the 200th anniversary of the London Lead Company planning the village of Nenthead. To mark this occasion\, we would like to organise a celebration event in the form of a traditional village fair. \nJoin us in helping to plan the mining event in Nenthead\, in August next year. The group meets once a month in the lead up  working together with the local community of Nenthead. \nPlease sign up using the volunteer system Better Impact \nPlease contact rebecca@northpennines.org.uk for more information. \nThis opportunity is aimed at people living locally to Nenthead or with a specific interest in the mining heritage of the area. Free refreshments provided. Children must be supervised by an adult. Wheelchair accessible\, no designated parking but drop-off available near the entrance. \n  \n   
URL:https://northpennines.org.uk/event/nenthead200-volunteer-committee-meeting/2025-08-14/
LOCATION:Nenthead Village Hall\, Nenthead\, Alston\, CA9 3PN
CATEGORIES:Volunteering
ATTACH;FMTTYPE=image/jpeg:https://northpennines.org.uk/wp-content/uploads/2024/03/Volunteers-on-bridge-Nenthead-0623.jpg
ORGANIZER;CN="North Pennines National Landscape":MAILTO:communications@northpennines.org.uk
END:VEVENT
BEGIN:VEVENT
DTSTART;TZID=Europe/London:20250820T100000
DTEND;TZID=Europe/London:20250820T150000
DTSTAMP:20260421T232602
CREATED:20250801T084454Z
LAST-MODIFIED:20250801T084530Z
UID:10001888-1755684000-1755702000@northpennines.org.uk
SUMMARY:Pennine Way maintenance volunteer opportunity
DESCRIPTION:Volunteer opportunity to help keep the Pennine Way maintained. Help to repair of sections of boardwalk on 20 August\, 10 am to 3pm\, near Langdon Beck. \nDue to the physical nature of the work\, a reasonable level of fitness will be required and is suitable for 18+. \nThe session may take us past lunchtime\, so please bring a packed lunch/drinks and bring warm waterproof clothing. All PPE (personal protective equipment) will be provided\, including safety glasses\, gloves and steel toe cap boots if you need to borrow some. \nPlease sign up using the volunteer site Better Impact 
URL:https://northpennines.org.uk/event/pennine-way-maintenance-volunteer-opportunities/
LOCATION:Langdon Beck
CATEGORIES:Volunteering
ATTACH;FMTTYPE=image/jpeg:https://northpennines.org.uk/wp-content/uploads/2025/08/Photo-16-widdybank-farm-scaled.jpg
ORGANIZER;CN="North Pennines National Landscape":MAILTO:communications@northpennines.org.uk
END:VEVENT
END:VCALENDAR