BEGIN:VCALENDAR
VERSION:2.0
PRODID:-//North Pennines National Landscape - ECPv6.15.11//NONSGML v1.0//EN
CALSCALE:GREGORIAN
METHOD:PUBLISH
X-ORIGINAL-URL:https://northpennines.org.uk
X-WR-CALDESC:Events for North Pennines National Landscape
REFRESH-INTERVAL;VALUE=DURATION:PT1H
X-Robots-Tag:noindex
X-PUBLISHED-TTL:PT1H
BEGIN:VTIMEZONE
TZID:Europe/London
BEGIN:DAYLIGHT
TZOFFSETFROM:+0000
TZOFFSETTO:+0100
TZNAME:BST
DTSTART:20240331T010000
END:DAYLIGHT
BEGIN:STANDARD
TZOFFSETFROM:+0100
TZOFFSETTO:+0000
TZNAME:GMT
DTSTART:20241027T010000
END:STANDARD
BEGIN:DAYLIGHT
TZOFFSETFROM:+0000
TZOFFSETTO:+0100
TZNAME:BST
DTSTART:20250330T010000
END:DAYLIGHT
BEGIN:STANDARD
TZOFFSETFROM:+0100
TZOFFSETTO:+0000
TZNAME:GMT
DTSTART:20251026T010000
END:STANDARD
BEGIN:DAYLIGHT
TZOFFSETFROM:+0000
TZOFFSETTO:+0100
TZNAME:BST
DTSTART:20260329T010000
END:DAYLIGHT
BEGIN:STANDARD
TZOFFSETFROM:+0100
TZOFFSETTO:+0000
TZNAME:GMT
DTSTART:20261025T010000
END:STANDARD
END:VTIMEZONE
BEGIN:VEVENT
DTSTART;TZID=Europe/London:20250128T100000
DTEND;TZID=Europe/London:20250128T140000
DTSTAMP:20260424T080915
CREATED:20250117T092140Z
LAST-MODIFIED:20250122T155257Z
UID:10001216-1738058400-1738072800@northpennines.org.uk
SUMMARY:Volunteer opportunity - access work at Middlehopeshield
DESCRIPTION:Help us make access improvements to the path from Slitt Woods to Middlehopeshield. \nThe work will include creating a new line of path away from washing floor wall by cutting a terrace into slope\, turfing over the existing line of the path\, stabilising the slope with a drystone revetment wall\, edging with a course of large stone covered with soil and turf\, and surfacing with crushed aggregate. \nLocation:\nWhat 3 words ///factoring.hounded.pedicure\nCoordinates 54°44’54.1″N 2°08’25.4″W\nMap link https://maps.app.goo.gl/5NDXPLm5mwZvSrBu6 \nPlease sign up using the volunteer platform Better Impact \n     
URL:https://northpennines.org.uk/event/vol-opp-access-works-middlehopeshield4-2/
LOCATION:Westgate
CATEGORIES:Volunteering
ATTACH;FMTTYPE=image/jpeg:https://northpennines.org.uk/wp-content/uploads/2019/03/NP-Get-Involved-Images_0003_338x338_11_ffffff_0_ff9b8e9c-1215-4ad5-89b6-eeeb34562c11-e1732803450462.jpg
ORGANIZER;CN="North Pennines National Landscape":MAILTO:communications@northpennines.org.uk
END:VEVENT
END:VCALENDAR