BEGIN:VCALENDAR
VERSION:2.0
PRODID:-//North Pennines National Landscape - ECPv6.15.11//NONSGML v1.0//EN
CALSCALE:GREGORIAN
METHOD:PUBLISH
X-WR-CALNAME:North Pennines National Landscape
X-ORIGINAL-URL:https://northpennines.org.uk
X-WR-CALDESC:Events for North Pennines National Landscape
REFRESH-INTERVAL;VALUE=DURATION:PT1H
X-Robots-Tag:noindex
X-PUBLISHED-TTL:PT1H
BEGIN:VTIMEZONE
TZID:Europe/London
BEGIN:DAYLIGHT
TZOFFSETFROM:+0000
TZOFFSETTO:+0100
TZNAME:BST
DTSTART:20240331T010000
END:DAYLIGHT
BEGIN:STANDARD
TZOFFSETFROM:+0100
TZOFFSETTO:+0000
TZNAME:GMT
DTSTART:20241027T010000
END:STANDARD
BEGIN:DAYLIGHT
TZOFFSETFROM:+0000
TZOFFSETTO:+0100
TZNAME:BST
DTSTART:20250330T010000
END:DAYLIGHT
BEGIN:STANDARD
TZOFFSETFROM:+0100
TZOFFSETTO:+0000
TZNAME:GMT
DTSTART:20251026T010000
END:STANDARD
BEGIN:DAYLIGHT
TZOFFSETFROM:+0000
TZOFFSETTO:+0100
TZNAME:BST
DTSTART:20260329T010000
END:DAYLIGHT
BEGIN:STANDARD
TZOFFSETFROM:+0100
TZOFFSETTO:+0000
TZNAME:GMT
DTSTART:20261025T010000
END:STANDARD
END:VTIMEZONE
BEGIN:VEVENT
DTSTART;TZID=Europe/London:20250428T180000
DTEND;TZID=Europe/London:20250428T200000
DTSTAMP:20260424T064731
CREATED:20250407T151006Z
LAST-MODIFIED:20250407T152033Z
UID:10001382-1745863200-1745870400@northpennines.org.uk
SUMMARY:Charcoal sketching workshop (Nenthead200)
DESCRIPTION:Come along to a laid-back evening of charcoal sketching with local artist\, Sheila Mitton\, at The Hive in Nenthead on Monday 28 April\, from 6pm to 8pm. \nEveryone is welcome\, even if you’re a complete beginner. You don’t need to bring anything\, as all the supplies will be provided. \nThis workshop is part of the Nenthead200 celebrations\, marking 200 years since the London Lead Company designed the village of Nenthead. To find out more visit the Nenthead200 web page. \nThe Hive\, Nenthead\, CA9 3PF\nhttps://maps.app.goo.gl/TXBQnigRE4cNT1Rg9 \nNo designated parking\, but drop-off near door. The venue is wheelchair accessible with an accessible toilet. \nTickets are free with a suggested donation of £3. Please book using the Ticketsource link below. \n\n\n\n                \n                \n\n\n  \nThis event is part of the Land of Lead and Silver project\, funded by The National Lottery Heritage Fund\, thanks to National Lottery players\, and Historic England. \n         \n 
URL:https://northpennines.org.uk/event/charcoal-sketching-workshop/
LOCATION:The Hive\, Nenthead\, Cumbria\, CA9 3PF
CATEGORIES:Art,Family-friendly
ATTACH;FMTTYPE=image/jpeg:https://northpennines.org.uk/wp-content/uploads/2025/04/Charcoal-sketch.jpg
ORGANIZER;CN="North Pennines National Landscape":MAILTO:communications@northpennines.org.uk
END:VEVENT
END:VCALENDAR