BEGIN:VCALENDAR
VERSION:2.0
PRODID:-//North Pennines National Landscape - ECPv6.15.11//NONSGML v1.0//EN
CALSCALE:GREGORIAN
METHOD:PUBLISH
X-WR-CALNAME:North Pennines National Landscape
X-ORIGINAL-URL:https://northpennines.org.uk
X-WR-CALDESC:Events for North Pennines National Landscape
REFRESH-INTERVAL;VALUE=DURATION:PT1H
X-Robots-Tag:noindex
X-PUBLISHED-TTL:PT1H
BEGIN:VTIMEZONE
TZID:Europe/London
BEGIN:DAYLIGHT
TZOFFSETFROM:+0000
TZOFFSETTO:+0100
TZNAME:BST
DTSTART:20240331T010000
END:DAYLIGHT
BEGIN:STANDARD
TZOFFSETFROM:+0100
TZOFFSETTO:+0000
TZNAME:GMT
DTSTART:20241027T010000
END:STANDARD
BEGIN:DAYLIGHT
TZOFFSETFROM:+0000
TZOFFSETTO:+0100
TZNAME:BST
DTSTART:20250330T010000
END:DAYLIGHT
BEGIN:STANDARD
TZOFFSETFROM:+0100
TZOFFSETTO:+0000
TZNAME:GMT
DTSTART:20251026T010000
END:STANDARD
BEGIN:DAYLIGHT
TZOFFSETFROM:+0000
TZOFFSETTO:+0100
TZNAME:BST
DTSTART:20260329T010000
END:DAYLIGHT
BEGIN:STANDARD
TZOFFSETFROM:+0100
TZOFFSETTO:+0000
TZNAME:GMT
DTSTART:20261025T010000
END:STANDARD
END:VTIMEZONE
BEGIN:VEVENT
DTSTART;TZID=Europe/London:20250628T103000
DTEND;TZID=Europe/London:20250628T143000
DTSTAMP:20260424T000610
CREATED:20250124T120538Z
LAST-MODIFIED:20250626T094314Z
UID:10001254-1751106600-1751121000@northpennines.org.uk
SUMMARY:Saturday stroll - a guided walk
DESCRIPTION:Join us for a guided walk through a historic landscape at a relaxed pace on the last Saturday of each month\, from 10.30am to approximately 1pm. You are welcome to join us after the walk for free refreshments finishing by 2.30pm. \nThis walk\, on 28 June\, will start in Garrigill\, Cumbria. The route takes us to Ashgill Force and along the way we’ll look at some fascinating geology and mining heritage which have helped to shape this beautiful area. \nAll ages are welcome (children must be accompanied by an adult and must be able to walk or be carried as the paths may not be suitable for pushchairs). Well behaved dogs on a short lead are welcome. The walks will be approximately 3 miles in length on mostly flat ground and with rest breaks along the way. \nThe final details of the walk are subject to change\, please check back closer to the event for final details. There are likely to be a couple of stiles to climb over on this walk. \nOptional donation – suggested amount £3. Your donation enables the North Pennines National Landscape team to protect and restore this special place and help people connect with nature. \nPlease book using the Ticketsource link \n\n\n\n                \n                \n\n\n  \n   
URL:https://northpennines.org.uk/event/saturday-stroll-a-guided-walk-2/
LOCATION:Garrigill\, CA9 3DS
CATEGORIES:Guided walk,Historic environment event,Walking
ATTACH;FMTTYPE=image/jpeg:https://northpennines.org.uk/wp-content/uploads/2023/04/circular-walk-sign-waymarker-moss-gatepost-Bowlees.jpg
ORGANIZER;CN="North Pennines National Landscape":MAILTO:communications@northpennines.org.uk
END:VEVENT
END:VCALENDAR