BEGIN:VCALENDAR
VERSION:2.0
PRODID:-//North Pennines National Landscape - ECPv6.15.11//NONSGML v1.0//EN
CALSCALE:GREGORIAN
METHOD:PUBLISH
X-WR-CALNAME:North Pennines National Landscape
X-ORIGINAL-URL:https://northpennines.org.uk
X-WR-CALDESC:Events for North Pennines National Landscape
REFRESH-INTERVAL;VALUE=DURATION:PT1H
X-Robots-Tag:noindex
X-PUBLISHED-TTL:PT1H
BEGIN:VTIMEZONE
TZID:Europe/London
BEGIN:DAYLIGHT
TZOFFSETFROM:+0000
TZOFFSETTO:+0100
TZNAME:BST
DTSTART:20240331T010000
END:DAYLIGHT
BEGIN:STANDARD
TZOFFSETFROM:+0100
TZOFFSETTO:+0000
TZNAME:GMT
DTSTART:20241027T010000
END:STANDARD
BEGIN:DAYLIGHT
TZOFFSETFROM:+0000
TZOFFSETTO:+0100
TZNAME:BST
DTSTART:20250330T010000
END:DAYLIGHT
BEGIN:STANDARD
TZOFFSETFROM:+0100
TZOFFSETTO:+0000
TZNAME:GMT
DTSTART:20251026T010000
END:STANDARD
BEGIN:DAYLIGHT
TZOFFSETFROM:+0000
TZOFFSETTO:+0100
TZNAME:BST
DTSTART:20260329T010000
END:DAYLIGHT
BEGIN:STANDARD
TZOFFSETFROM:+0100
TZOFFSETTO:+0000
TZNAME:GMT
DTSTART:20261025T010000
END:STANDARD
END:VTIMEZONE
BEGIN:VEVENT
DTSTART;TZID=Europe/London:20250802T130000
DTEND;TZID=Europe/London:20250802T150000
DTSTAMP:20260422T023148
CREATED:20250702T161058Z
LAST-MODIFIED:20250725T150022Z
UID:10001428-1754139600-1754146800@northpennines.org.uk
SUMMARY:Tea party on the trail - Nenthead200
DESCRIPTION:Join us at the historic Georgian country house\, Lovelady Shield Hotel\, on Saturday 2 August\, 1pm to 3pm\, for an outdoor afternoon tea party as part of the Nenthead200 celebrations taking place over the next few months. \nTake your taste buds back in time with local classic tea party recipes from the Nenthead Women’s Institute cookery book. \nTickets £10 per person. All ages are welcome (children must be accompanied by an adult) and we can allow well-behaved dogs on short leads\, but due to allergy reasons they can’t be in the restaurant if we are inside due to bad weather. This is a no alcohol event. \nThe final details of the event are subject to change\, please check back closer to the event for final details. \nWe are offering 2 bursary places which will reduce the cost to £0. There is no strict criteria for these places\, they are available for anyone for whom the cost is prohibitive. To request a bursary place please email rebecca@northpennines.org.uk \nPlease book using the Ticketsource link \n\n\n\n                \n                \n\n\n         \n 
URL:https://northpennines.org.uk/event/tea-party-on-the-trail-nenthead200/
LOCATION:Lovelady Shield Hotel\, Alston\, CA9 3LX
CATEGORIES:Nenthead200
ATTACH;FMTTYPE=image/jpeg:https://northpennines.org.uk/wp-content/uploads/2025/06/Tea-party-image-IMG-20250605-WA0001.jpg-3-e1750089492573.jpg
ORGANIZER;CN="North Pennines National Landscape":MAILTO:communications@northpennines.org.uk
END:VEVENT
END:VCALENDAR