BEGIN:VCALENDAR
VERSION:2.0
PRODID:-//North Pennines National Landscape - ECPv6.15.11//NONSGML v1.0//EN
CALSCALE:GREGORIAN
METHOD:PUBLISH
X-ORIGINAL-URL:https://northpennines.org.uk
X-WR-CALDESC:Events for North Pennines National Landscape
REFRESH-INTERVAL;VALUE=DURATION:PT1H
X-Robots-Tag:noindex
X-PUBLISHED-TTL:PT1H
BEGIN:VTIMEZONE
TZID:Europe/London
BEGIN:DAYLIGHT
TZOFFSETFROM:+0000
TZOFFSETTO:+0100
TZNAME:BST
DTSTART:20200329T010000
END:DAYLIGHT
BEGIN:STANDARD
TZOFFSETFROM:+0100
TZOFFSETTO:+0000
TZNAME:GMT
DTSTART:20201025T010000
END:STANDARD
BEGIN:DAYLIGHT
TZOFFSETFROM:+0000
TZOFFSETTO:+0100
TZNAME:BST
DTSTART:20210328T010000
END:DAYLIGHT
BEGIN:STANDARD
TZOFFSETFROM:+0100
TZOFFSETTO:+0000
TZNAME:GMT
DTSTART:20211031T010000
END:STANDARD
BEGIN:DAYLIGHT
TZOFFSETFROM:+0000
TZOFFSETTO:+0100
TZNAME:BST
DTSTART:20220327T010000
END:DAYLIGHT
BEGIN:STANDARD
TZOFFSETFROM:+0100
TZOFFSETTO:+0000
TZNAME:GMT
DTSTART:20221030T010000
END:STANDARD
END:VTIMEZONE
BEGIN:VEVENT
DTSTART;TZID=Europe/London:20211014T100000
DTEND;TZID=Europe/London:20211014T120000
DTSTAMP:20260422T081857
CREATED:20210622T151357Z
LAST-MODIFIED:20211007T132620Z
UID:10000019-1634205600-1634212800@northpennines.org.uk
SUMMARY:Twentieth Century lead mining in Teesdale
DESCRIPTION:Join local experts Peter Jackson and Colin Fowler on a two hour walk in Teesdale discover how lead mining has shaped and transformed the landscape around us. During the walk you will learn how to interpret the legacy of this historic industry and how it still impacts the dales. \nSturdy footwear is essential as there is rough terrain. Sorry no dogs are allowed. \nThis event is delivered as part of the Tees-Swale: naturally connected programme. Tees-Swale is funded by The National Lottery Heritage Fund and led by the North Pennines AONB Partnership in collaboration with the Yorkshire Dales National Park Authority. \nPlaces are limited and booking is essential.
URL:https://northpennines.org.uk/event/the-history-of-lead-mining-in-teesdale-2/
CATEGORIES:Guided walk
ATTACH;FMTTYPE=image/jpeg:https://northpennines.org.uk/wp-content/uploads/2021/06/lead-mining-walk.jpg
END:VEVENT
END:VCALENDAR