BEGIN:VCALENDAR
VERSION:2.0
PRODID:-//North Pennines National Landscape - ECPv6.15.11//NONSGML v1.0//EN
CALSCALE:GREGORIAN
METHOD:PUBLISH
X-WR-CALNAME:North Pennines National Landscape
X-ORIGINAL-URL:https://northpennines.org.uk
X-WR-CALDESC:Events for North Pennines National Landscape
REFRESH-INTERVAL;VALUE=DURATION:PT1H
X-Robots-Tag:noindex
X-PUBLISHED-TTL:PT1H
BEGIN:VTIMEZONE
TZID:Europe/London
BEGIN:DAYLIGHT
TZOFFSETFROM:+0000
TZOFFSETTO:+0100
TZNAME:BST
DTSTART:20250330T010000
END:DAYLIGHT
BEGIN:STANDARD
TZOFFSETFROM:+0100
TZOFFSETTO:+0000
TZNAME:GMT
DTSTART:20251026T010000
END:STANDARD
BEGIN:DAYLIGHT
TZOFFSETFROM:+0000
TZOFFSETTO:+0100
TZNAME:BST
DTSTART:20260329T010000
END:DAYLIGHT
BEGIN:STANDARD
TZOFFSETFROM:+0100
TZOFFSETTO:+0000
TZNAME:GMT
DTSTART:20261025T010000
END:STANDARD
BEGIN:DAYLIGHT
TZOFFSETFROM:+0000
TZOFFSETTO:+0100
TZNAME:BST
DTSTART:20270328T010000
END:DAYLIGHT
BEGIN:STANDARD
TZOFFSETFROM:+0100
TZOFFSETTO:+0000
TZNAME:GMT
DTSTART:20271031T010000
END:STANDARD
END:VTIMEZONE
BEGIN:VEVENT
DTSTART;TZID=Europe/London:20260303T100000
DTEND;TZID=Europe/London:20260303T150000
DTSTAMP:20260421T184734
CREATED:20251212T142918Z
LAST-MODIFIED:20251212T142918Z
UID:10002069-1772532000-1772550000@northpennines.org.uk
SUMMARY:Mine site maintenance
DESCRIPTION:Volunteer opportunities to undertake maintenance works to various mine sites across the North Pennines\, on the first Tuesday of each month\, commencing 3 March 2026\, 10am to 3pm. \nIn this monthly activity you will join Gary and Arran of Heritage Consolidation\, to undertake maintenance tasks at lead mining structures. \nSteel toe capped boots and gloves are strongly recommended for this task\, gloves can be provided.\nMore details will be provided upon signing up. Suitable for 18+ \nLocations will be decided closer to the date. \nDates are:-\n3 March\n7 April\n5 May\n2 June\n7 July\n4 August\n1 September\n6 October\n3 November\n1 December \nSign up using the Better Impact volunteer link \n 
URL:https://northpennines.org.uk/event/mine-site-maintenance/2026-03-03/
LOCATION:TBC
CATEGORIES:Historic environment event,Volunteering
ATTACH;FMTTYPE=image/jpeg:https://northpennines.org.uk/wp-content/uploads/2025/12/Maintenance-scaled.jpg
ORGANIZER;CN="North Pennines National Landscape":MAILTO:communications@northpennines.org.uk
END:VEVENT
BEGIN:VEVENT
DTSTART;TZID=Europe/London:20260303T120000
DTEND;TZID=Europe/London:20260303T160000
DTSTAMP:20260421T184734
CREATED:20260204T103754Z
LAST-MODIFIED:20260212T132353Z
UID:10002207-1772539200-1772553600@northpennines.org.uk
SUMMARY:Historic environment research workshop: unlocking the asylum archives
DESCRIPTION:Join us for an exciting skills workshop at Carlisle Archives as part of a new volunteer research project “Melancholy\, Mania and Metallurgy: Unlocking the Asylum Archives”. This project will be uncovering the stories of North Pennines lead miners and their families who spent time in county asylums. \nThe workshop\, on Tuesday 3 March\, 12 noon to 4pm\, is an opportunity to learn archive skills and interact with historical material from the Garlands Hospital collection (formerly known as Cumberland and Westmorland County Lunatic Asylum). It will include: \n•    A behind the scenes tour of the archive\n•    A display class with historical material from the Garlands Hospital collection (patient registers\, illustrated casebooks\, post-mortem reports) exploring how to use them and what they can tell us\n•    An illustrated history of Cumberland and Westmorland County Lunatic Asylum\n•    Introduction to palaeography skills (reading old handwriting) with an activity using original documents\n•    Introduction to digital resources session with an activity using Ancestry records \nPlease note that this project is for adults only. Historical documents use outdated terminology to describe disability and mental health conditions and may also contain material that some people find offensive or distressing. \nPlease sign up using the volunteer platform Better Impact \nImage (c) Ninesergeants \n 
URL:https://northpennines.org.uk/event/historic-environment-research-workshop-unlocking-the-asylum-archives-2/
LOCATION:Carlisle Archive Centre\, Petteril Bank Road\, Carlisle\, CA1 3AJ
CATEGORIES:Research,Volunteering
ATTACH;FMTTYPE=image/jpeg:https://northpennines.org.uk/wp-content/uploads/2025/11/County-Asylum-event-image-3-e1770885317810.jpeg
END:VEVENT
BEGIN:VEVENT
DTSTART;TZID=Europe/London:20260322T110000
DTEND;TZID=Europe/London:20260322T160000
DTSTAMP:20260421T184734
CREATED:20260204T110146Z
LAST-MODIFIED:20260304T160550Z
UID:10002208-1774177200-1774195200@northpennines.org.uk
SUMMARY:Garrigill village history project - public consultation
DESCRIPTION:Drop-in to our public consultation session at Garrigill Village Hall on Sunday 22 March\, 11am to 4pm\, to find out about an exciting new village histories project. \nThe project will be exploring and recording the natural\, cultural\, and industrial heritage of the Garrigill and the surrounding area\, bringing together local knowledge\, memories and archival research to create a lasting record for future generations. \nAt the public consultation there will be the opportunity to: \n• Contribute ideas to help shape the content and focus of the project\n• Learn more about the Village Histories project and how you can get involved\n• Share knowledge\, photographs\, and personal memories \nAll are welcome\, whether you live locally or are simply curious about the Garrigill’s rich industrial history\, folklore\, and dialect. \nFree refreshments and children’s activities will be available throughout the sessions.
URL:https://northpennines.org.uk/event/garrigill-village-history/
LOCATION:Garrigill Village Hall
CATEGORIES:Family-friendly,Historic environment event
ATTACH;FMTTYPE=image/jpeg:https://northpennines.org.uk/wp-content/uploads/2026/02/garrigill-school-pic.jpg-e1770825546152.jpeg
ORGANIZER;CN="North Pennines National Landscape":MAILTO:communications@northpennines.org.uk
END:VEVENT
END:VCALENDAR