BEGIN:VCALENDAR
VERSION:2.0
PRODID:-//North Pennines National Landscape - ECPv6.15.11//NONSGML v1.0//EN
CALSCALE:GREGORIAN
METHOD:PUBLISH
X-WR-CALNAME:North Pennines National Landscape
X-ORIGINAL-URL:https://northpennines.org.uk
X-WR-CALDESC:Events for North Pennines National Landscape
REFRESH-INTERVAL;VALUE=DURATION:PT1H
X-Robots-Tag:noindex
X-PUBLISHED-TTL:PT1H
BEGIN:VTIMEZONE
TZID:Europe/London
BEGIN:DAYLIGHT
TZOFFSETFROM:+0000
TZOFFSETTO:+0100
TZNAME:BST
DTSTART:20240331T010000
END:DAYLIGHT
BEGIN:STANDARD
TZOFFSETFROM:+0100
TZOFFSETTO:+0000
TZNAME:GMT
DTSTART:20241027T010000
END:STANDARD
BEGIN:DAYLIGHT
TZOFFSETFROM:+0000
TZOFFSETTO:+0100
TZNAME:BST
DTSTART:20250330T010000
END:DAYLIGHT
BEGIN:STANDARD
TZOFFSETFROM:+0100
TZOFFSETTO:+0000
TZNAME:GMT
DTSTART:20251026T010000
END:STANDARD
BEGIN:DAYLIGHT
TZOFFSETFROM:+0000
TZOFFSETTO:+0100
TZNAME:BST
DTSTART:20260329T010000
END:DAYLIGHT
BEGIN:STANDARD
TZOFFSETFROM:+0100
TZOFFSETTO:+0000
TZNAME:GMT
DTSTART:20261025T010000
END:STANDARD
END:VTIMEZONE
BEGIN:VEVENT
DTSTART;TZID=Europe/London:20251203T100000
DTEND;TZID=Europe/London:20251203T153000
DTSTAMP:20260420T165304
CREATED:20251119T133708Z
LAST-MODIFIED:20251119T134042Z
UID:10001984-1764756000-1764775800@northpennines.org.uk
SUMMARY:Tree and hedge planting
DESCRIPTION:Join us on farms across Teesdale to create more space for nature and improve habitat connectivity by planting trees and hedgerows. \nThere are several volunteer opportunities for tree and hedge planting throughout the winter\, at locations across Teesdale. \nTree and hedge planting dates\, 10am to 3.30pm: \n\n14 November\n19 November\n25 November\n2 December\n3 December\n10 December\n16 January 2026\n22 January\n30 January\n5 February\n10 February\n18 February\n\nA light lunch will be provided but please bring any drinks and snacks. All ages are welcome\, children must be supervised by adult. All training and equipment will be provided. Please wear outdoor clothing and bring waterproofs\, and wear boots with a sturdy sole. A general level of fitness needed. \nVolunteer opportunities may be postponed due to weather conditions\, any changes will be communicated at least 24 hours before the event where possible. \nFor any enquires please email william@northpennines.org.uk \nPlease sign up using the volunteer site Better Impact
URL:https://northpennines.org.uk/event/tree-and-hedge-planting-2/
LOCATION:Bowlees Visitor Centre\, Newbiggin\, DL12 0XF
CATEGORIES:Volunteering
ATTACH;FMTTYPE=image/jpeg:https://northpennines.org.uk/wp-content/uploads/2024/03/Tree-Planting-in-Lunedale-c-Ruth-Starr-Keddle-12th-Dec-2020-21.jpg
ORGANIZER;CN="North Pennines National Landscape":MAILTO:communications@northpennines.org.uk
END:VEVENT
END:VCALENDAR