BEGIN:VCALENDAR
VERSION:2.0
PRODID:-//North Pennines National Landscape - ECPv6.15.11//NONSGML v1.0//EN
CALSCALE:GREGORIAN
METHOD:PUBLISH
X-WR-CALNAME:North Pennines National Landscape
X-ORIGINAL-URL:https://northpennines.org.uk
X-WR-CALDESC:Events for North Pennines National Landscape
REFRESH-INTERVAL;VALUE=DURATION:PT1H
X-Robots-Tag:noindex
X-PUBLISHED-TTL:PT1H
BEGIN:VTIMEZONE
TZID:Europe/London
BEGIN:DAYLIGHT
TZOFFSETFROM:+0000
TZOFFSETTO:+0100
TZNAME:BST
DTSTART:20230326T010000
END:DAYLIGHT
BEGIN:STANDARD
TZOFFSETFROM:+0100
TZOFFSETTO:+0000
TZNAME:GMT
DTSTART:20231029T010000
END:STANDARD
BEGIN:DAYLIGHT
TZOFFSETFROM:+0000
TZOFFSETTO:+0100
TZNAME:BST
DTSTART:20240331T010000
END:DAYLIGHT
BEGIN:STANDARD
TZOFFSETFROM:+0100
TZOFFSETTO:+0000
TZNAME:GMT
DTSTART:20241027T010000
END:STANDARD
BEGIN:DAYLIGHT
TZOFFSETFROM:+0000
TZOFFSETTO:+0100
TZNAME:BST
DTSTART:20250330T010000
END:DAYLIGHT
BEGIN:STANDARD
TZOFFSETFROM:+0100
TZOFFSETTO:+0000
TZNAME:GMT
DTSTART:20251026T010000
END:STANDARD
END:VTIMEZONE
BEGIN:VEVENT
DTSTART;TZID=Europe/London:20241129T100000
DTEND;TZID=Europe/London:20241129T153000
DTSTAMP:20260424T080245
CREATED:20240903T172325Z
LAST-MODIFIED:20241107T094257Z
UID:10001134-1732874400-1732894200@northpennines.org.uk
SUMMARY:Hedge and tree planting
DESCRIPTION:Help us to create more space for nature and improve habitat connectivity by planting trees and hedgerows on farms across Teesdale this winter. \nThere are various dates available to volunteer. Friday 29 and Saturday 30 November. Tuesday 3\, Friday 13 December. Dates for 2025 are Saturday 19 January\, Saturday 22\, Wednesday 26 and Thursday 27 February\, 10am to 3.30pm. \nAll training and equipment will be provided. Please wear outdoor clothing\, bring waterproofs and wear boots with a sturdy sole. The activity is open to all but a general level of fitness needed. All children must be supervised by an adult. \nA light lunch will be provided but please bring any drinks and snacks. You are welcome to leave earlier if needed. Volunteer opportunities may be postponed due to weather conditions\, any changes will be communicated at least 24 hours before the event where possible.\nPlease contact William: william@northpennines.org.uk for more information or if you have a query. \nPlease sign up using the Better Impact volunteer system \n 
URL:https://northpennines.org.uk/event/hedge-and-tree-planting-7-copy/2024-11-29/
LOCATION:Teesdale
CATEGORIES:Volunteering
ATTACH;FMTTYPE=image/jpeg:https://northpennines.org.uk/wp-content/uploads/2023/10/Tree_planting_Hllbankgate_20211205_143745-e1654772908922.jpg
ORGANIZER;CN="North Pennines National Landscape":MAILTO:communications@northpennines.org.uk
END:VEVENT
END:VCALENDAR