BEGIN:VCALENDAR
VERSION:2.0
PRODID:-//North Pennines National Landscape - ECPv6.15.11//NONSGML v1.0//EN
CALSCALE:GREGORIAN
METHOD:PUBLISH
X-ORIGINAL-URL:https://northpennines.org.uk
X-WR-CALDESC:Events for North Pennines National Landscape
REFRESH-INTERVAL;VALUE=DURATION:PT1H
X-Robots-Tag:noindex
X-PUBLISHED-TTL:PT1H
BEGIN:VTIMEZONE
TZID:Europe/London
BEGIN:DAYLIGHT
TZOFFSETFROM:+0000
TZOFFSETTO:+0100
TZNAME:BST
DTSTART:20240331T010000
END:DAYLIGHT
BEGIN:STANDARD
TZOFFSETFROM:+0100
TZOFFSETTO:+0000
TZNAME:GMT
DTSTART:20241027T010000
END:STANDARD
BEGIN:DAYLIGHT
TZOFFSETFROM:+0000
TZOFFSETTO:+0100
TZNAME:BST
DTSTART:20250330T010000
END:DAYLIGHT
BEGIN:STANDARD
TZOFFSETFROM:+0100
TZOFFSETTO:+0000
TZNAME:GMT
DTSTART:20251026T010000
END:STANDARD
BEGIN:DAYLIGHT
TZOFFSETFROM:+0000
TZOFFSETTO:+0100
TZNAME:BST
DTSTART:20260329T010000
END:DAYLIGHT
BEGIN:STANDARD
TZOFFSETFROM:+0100
TZOFFSETTO:+0000
TZNAME:GMT
DTSTART:20261025T010000
END:STANDARD
END:VTIMEZONE
BEGIN:VEVENT
DTSTART;TZID=Europe/London:20250712T130000
DTEND;TZID=Europe/London:20250712T160000
DTSTAMP:20260421T182633
CREATED:20250605T153808Z
LAST-MODIFIED:20250619T153740Z
UID:10001409-1752325200-1752336000@northpennines.org.uk
SUMMARY:Holwick landscape walk
DESCRIPTION:Join the North Pennines National Landscape team on a leisurely guided walk from Bowlees Visitor Centre to Holwick. This circular route includes farmed land\, wild flower meadows and Holwick Scar. Learn about the local geology and have a closer look at some of the special flowers along the way. The walk will be at a relaxed pace and will take around two hours\, with stops at points of interest. \nThe walk starts at Bowlees Visitor Centre\, Teesdale\, on Saturday 12 July\, 1pm and finishing at approximately 4pm. \nAs the event will be taking place outdoors\, please dress for the weather. We recommend walking boots or even wellies as it can be muddy in places. Bowlees Visitor Centre will be open for toilets and refreshments at the start and end of the walk. \nAll ages are welcome (children must be accompanied by an adult and must be able to walk or be carried as the paths are not be suitable for pushchairs). Well behaved dogs on a short lead are welcome. The walk will be approximately 4 km in length on mostly flat ground and with rest breaks along the way. \nOptional donation – suggested amount £3. Your donation enables the North Pennines National Landscape team to protect and restore this special place and help people connect with nature. \nPlease use the Ticketsource link to book. \n\n\n\n                \n                \n\n\n  \n \n 
URL:https://northpennines.org.uk/event/holwick-landscape-walk/
LOCATION:Bowlees Visitor Centre\, Newbiggin\, DL12 0XF
CATEGORIES:Guided walk,Nature and wildlife event,Walking
ATTACH;FMTTYPE=image/jpeg:https://northpennines.org.uk/wp-content/uploads/2025/06/Edge-End-meadows-1st-Julyc-RSK-30-scaled.jpg
ORGANIZER;CN="North Pennines National Landscape":MAILTO:communications@northpennines.org.uk
END:VEVENT
BEGIN:VEVENT
DTSTART;TZID=Europe/London:20250726T103000
DTEND;TZID=Europe/London:20250726T143000
DTSTAMP:20260421T182633
CREATED:20250613T121403Z
LAST-MODIFIED:20250723T171118Z
UID:10001421-1753525800-1753540200@northpennines.org.uk
SUMMARY:Saturday stroll - a guided walk
DESCRIPTION:CANCELLED. \nJoin us for a guided walk through a historic landscape at a relaxed pace on the last Saturday of each month. \nThe walk starting at Bollihope\, near Stanhope\, on Saturday 26 July will begin at 10.30am and finish at approximately 1pm. You are welcome to join us after the walk for free refreshments finishing by 2.30pm. \nAll ages are welcome (children must be accompanied by an adult and must be able to walk or be carried as the paths may not be suitable for pushchairs). Well behaved dogs on a short lead are welcome. The walks will be approximately 3 miles in length on mostly flat ground and with rest breaks along the way. \nThe final details of the walk are subject to change\, please check back closer to the event for final details. \nOptional donation – suggested amount £3. Your donation enables the North Pennines National Landscape team to protect and restore this special place and help people connect with nature. \nPlease book using the Ticketsource link \n\n\n\n                \n                \n\n\n  \n   
URL:https://northpennines.org.uk/event/saturday-stroll-a-guided-walk-8/
LOCATION:Bollihope
CATEGORIES:Guided walk,Historic environment event,Walking
ATTACH;FMTTYPE=image/jpeg:https://northpennines.org.uk/wp-content/uploads/2023/04/circular-walk-sign-waymarker-moss-gatepost-Bowlees.jpg
ORGANIZER;CN="North Pennines National Landscape":MAILTO:communications@northpennines.org.uk
END:VEVENT
BEGIN:VEVENT
DTSTART;TZID=Europe/London:20250727T100000
DTEND;TZID=Europe/London:20250727T160000
DTSTAMP:20260421T182633
CREATED:20250528T141254Z
LAST-MODIFIED:20250528T141830Z
UID:10001397-1753610400-1753632000@northpennines.org.uk
SUMMARY:Guided walk - From ice to restoration: a peatland journey
DESCRIPTION:Celebrate Bog Day on a 14km guided walk across peatlands with breathtaking views of High Cup Nick\, 27 July\, 10am to 4pm. Come along and uncover the historical timeline of the bog. \nJoin us on a journey through time. Travel back 10\,000 years to the end of the Ice Age and the formation of blanket bog. Learn about the use of peat in medieval times. Then arrive in the present day to explore how peatland restoration work is continuing to bring bog habitats back to life. \nThe walk is suitable for ages 15 years and above. It is a moderately strenuous walk with steep inclines. Hiking boots are required\, and a suitable level of fitness to walk for 4 hours. All children must be accompanied by an adult. \nPlease bring plenty of water\, a packed lunch\, and waterproof clothing. Not suitable for dogs. \nSuggested donation £3 per person. Your donation enables the North Pennines National Landscape team to protect and restore this special place and help people connect with nature. \nPlease use the Ticketsource link to book. \n\n\n\n                \n                \n\n\n  \n  \n 
URL:https://northpennines.org.uk/event/guidedwalkpeatlandjourney/
LOCATION:Murton Fell car park\, Murton Fell Car Park\, Murton\, Appleby in Westmorland\, CA16 6ND\, United Kingdom
CATEGORIES:Guided walk
ATTACH;FMTTYPE=image/jpeg:https://northpennines.org.uk/wp-content/uploads/2020/01/DJI_0240-e1579861792821.jpg
ORGANIZER;CN="North Pennines National Landscape":MAILTO:communications@northpennines.org.uk
END:VEVENT
END:VCALENDAR